{"text_format":"1","workbook":"xlsx","n_sheets":5,"sheets":["印刷画面","スコアシート","スコアシート記入例","選手名簿","データ管理"],"not_rendered":{"charts":0,"images":0,"macros":1,"external_links":1,"defined_names":18,"comments":1,"pivot_tables":0},"unopened":[],"bounds":{"document_bytes":16777216,"sheet_cells":100000,"rows_first":2000,"rows_last":500,"rows_between":2000,"halvings":0,"cell_chars":16384,"cell_head_chars":4096},"cells_cut":0,"cells_raw":0,"read":"whole","date_system":"1900"}

{"sheet":"印刷画面","index":0,"n_rows":37,"n_cols":11,"rows_kept":37,"cut":false,"hidden":false,"merged":[[0,1,0,10]]}
[null,"スコアシート印刷画面"]
[null,"大会名","春季大会",null,"男女別",null,null,"チームＡ",null,null,"チームＢ"]
[null,null,null,null,"男子",null,"番　号\n（直接入力）",1,null,"番　号\n（直接入力）",25]
[null,"会場","網走総合体育館",null,null,null,"学校名",{"$f":"IF(データ管理!B75=0,\"\",データ管理!B75)","v":""},null,"学校名",{"$f":"IF(データ管理!B76=0,\"\",データ管理!B76)","v":""}]
[]
[]
[null,null,"　"]
[null,null,"ｱｽｸｹﾞｰﾄﾈｸｻｽ北見体育センター"]
[null,null,"北見市立体育センター",null,"男子"]
[null,null,"北地区トレーニングセンター",null,"女子"]
[null,null,"南地区トレーニングセンター"]
[null,null,"西地区トレーニングセンター"]
[null,null,"小泉トレーニングセンター"]
[null,null,"サントライ北見"]
[null,null,"北見市立北中学校"]
[null,null,"北見市立高栄中学校"]
[null,null,"北見市立東相内中学校"]
[null,null,"北見市立東陵中学校"]
[null,null,"北見市立光西中学校"]
[null,null,"北見市立南中学校"]
[null,null,"北見市立小泉中学校"]
[null,null,"北見市立北光中学校"]
[null,null,"美幌スポーツセンター"]
[null,null,"美幌町立北中学校"]
[null,null,"美幌町立美幌中学校"]
[null,null,"津別町立津別中学校"]
[null,null,"津別農業者トレーニングセンター"]
[null,null,"網走市立第一中学校"]
[null,null,"網走市立第二中学校"]
[null,null,"網走市立第三中学校"]
[null,null,"網走市立呼人中学校"]
[null,null,"網走総合体育館"]
[null,null,"紋別スポーツセンター"]
[null,null,"紋別市立紋別中学校"]
[null,null,"紋別市立潮見中学校"]
[null,null,"遠軽総合体育館"]
[null,null,"北見市留辺蘂町体育館"]

{"sheet":"スコアシート","index":1,"n_rows":383,"n_cols":76,"rows_kept":383,"cut":false,"hidden":false,"merged":[[248,28,253,29],[248,30,253,31],[248,32,253,33],[202,31,207,32],[194,12,199,15],[194,16,199,18],[194,19,199,20],[194,21,199,22],[194,23,199,24],[194,25,199,26],[174,1,179,15],[162,32,167,33],[150,28,155,29],[150,30,155,31],[150,32,155,33],[326,4,331,25],[332,16,337,33],[338,16,343,33],[174,16,179,33],[218,4,223,25],[284,4,289,25],[290,4,295,25],[296,4,301,25],[302,4,307,25],[308,4,313,25],[314,4,319,25],[248,4,253,25],[254,4,259,25],[260,4,265,25],[266,4,271,25],[272,4,277,25],[278,4,283,25],[326,30,331,31],[326,32,331,33],[248,26,253,27],[224,4,229,25],[230,4,235,25],[236,4,241,25],[242,4,247,25],[132,4,137,25],[138,4,143,25],[144,4,149,25],[150,4,155,25],[156,4,161,25],[162,4,167,25],[84,4,89,25],[90,4,95,25],[96,4,101,25],[102,4,107,25],[108,4,113,25],[114,4,119,25],[202,29,207,30],[382,1,383,11],[382,23,383,28],[385,42,385,76],[7,8,10,21],[54,4,59,25],[60,4,65,25],[66,4,71,25],[72,4,77,25],[78,4,83,25],[364,75,373,76],[365,1,371,20],[365,21,371,38],[374,1,376,11],[374,42,379,58],[377,1,378,11],[379,1,381,11],[379,23,381,28],[380,42,384,59],[380,60,384,76],[353,70,359,74],[358,1,364,20],[358,21,364,38],[358,48,360,52],[364,42,373,58],[364,59,373,60],[364,61,373,66],[364,67,373,68],[364,69,373,74],[351,1,357,20],[351,21,357,38],[353,48,357,58],[353,59,359,60],[353,61,359,65],[353,68,359,69],[343,61,349,65],[343,68,349,69],[343,70,349,74],[344,1,350,20],[344,21,350,38],[348,48,350,52],[333,68,339,69],[333,70,339,74],[338,1,343,15],[338,34,343,35],[338,36,343,37],[332,34,337,35],[332,36,337,37],[332,38,337,39],[333,48,337,58],[333,59,339,60],[333,61,339,65],[338,38,343,39],[338,48,340,52],[343,48,347,58],[343,59,349,60],[332,1,337,15],[326,34,331,35],[326,36,331,37],[326,38,331,39],[328,48,330,52],[323,70,329,74],[326,1,331,3],[326,26,331,27],[326,28,331,29],[320,36,325,37],[320,38,325,39],[323,48,327,58],[323,59,329,60],[323,61,329,65],[323,68,329,69],[320,26,325,27],[320,28,325,29],[320,30,325,31],[320,32,325,33],[320,34,325,35],[320,4,325,25],[314,36,319,37],[314,38,319,39],[318,48,320,52],[319,43,321,46],[320,1,325,3],[314,26,319,27],[314,28,319,29],[314,30,319,31],[314,32,319,33],[314,34,319,35],[313,59,319,60],[313,61,319,65],[313,68,319,69],[313,70,319,74],[314,1,319,3],[308,26,313,27],[308,28,313,29],[308,30,313,31],[308,32,313,33],[308,34,313,35],[308,1,313,3],[303,64,309,65],[303,66,309,67],[303,69,309,70],[303,71,309,72],[303,73,309,74],[302,26,307,27],[302,28,307,29],[302,30,307,31],[302,32,307,33],[302,34,307,35],[302,1,307,3],[303,75,309,76],[303,51,309,52],[303,53,309,54],[303,55,309,56],[303,57,309,58],[303,60,309,61],[303,62,309,63],[302,36,307,37],[302,38,307,39],[303,42,309,43],[303,44,309,45],[303,46,309,47],[303,48,309,49],[308,36,313,37],[308,38,313,39],[313,43,318,46],[313,48,317,58],[296,69,302,70],[296,71,302,72],[296,73,302,74],[296,75,302,76],[296,55,302,56],[296,57,302,58],[296,60,302,61],[296,62,302,63],[296,64,302,65],[296,66,302,67],[296,42,302,43],[296,44,302,45],[296,46,302,47],[296,48,302,49],[296,51,302,52],[296,53,302,54],[296,28,301,29],[296,30,301,31],[296,32,301,33],[296,34,301,35],[296,36,301,37],[296,38,301,39],[290,36,295,37],[290,38,295,39],[296,1,301,3],[296,26,301,27],[290,26,295,27],[290,28,295,29],[290,30,295,31],[290,32,295,33],[290,34,295,35],[289,69,295,70],[289,71,295,72],[289,73,295,74],[289,75,295,76],[290,1,295,3],[289,55,295,56],[289,57,295,58],[289,60,295,61],[289,62,295,63],[289,64,295,65],[289,66,295,67],[289,42,295,43],[289,44,295,45],[289,46,295,47],[289,48,295,49],[289,51,295,52],[289,53,295,54],[284,28,289,29],[284,30,289,31],[284,32,289,33],[284,34,289,35],[284,36,289,37],[284,38,289,39],[282,73,288,74],[282,75,288,76],[284,1,289,3],[284,26,289,27],[282,60,288,61],[282,62,288,63],[282,64,288,65],[282,66,288,67],[282,69,288,70],[282,71,288,72],[282,46,288,47],[282,48,288,49],[282,51,288,52],[282,53,288,54],[282,55,288,56],[282,57,288,58],[278,26,283,27],[278,28,283,29],[278,30,283,31],[278,32,283,33],[278,34,283,35],[278,1,283,3],[275,64,281,65],[275,66,281,67],[275,69,281,70],[275,71,281,72],[275,73,281,74],[272,26,277,27],[272,28,277,29],[272,30,277,31],[272,32,277,33],[272,34,277,35],[272,1,277,3],[268,53,274,54],[266,28,271,29],[266,30,271,31],[266,32,271,33],[266,34,271,35],[266,36,271,37],[266,38,271,39],[261,73,267,74],[275,75,281,76],[275,51,281,52],[275,53,281,54],[275,55,281,56],[275,57,281,58],[275,60,281,61],[275,62,281,63],[272,36,277,37],[272,38,277,39],[275,42,281,43],[275,44,281,45],[275,46,281,47],[275,48,281,49],[278,36,283,37],[278,38,283,39],[282,42,288,43],[282,44,288,45],[268,69,274,70],[268,71,274,72],[268,73,274,74],[268,75,274,76],[268,55,274,56],[268,57,274,58],[268,60,274,61],[268,62,274,63],[268,64,274,65],[268,66,274,67],[268,42,274,43],[268,44,274,45],[268,46,274,47],[268,48,274,49],[268,51,274,52],[261,75,267,76],[266,1,271,3],[266,26,271,27],[261,60,267,61],[261,62,267,63],[261,64,267,65],[261,66,267,67],[261,69,267,70],[261,71,267,72],[261,46,267,47],[261,48,267,49],[261,51,267,52],[261,53,267,54],[261,55,267,56],[261,57,267,58],[260,26,265,27],[260,28,265,29],[260,30,265,31],[260,32,265,33],[260,34,265,35],[260,1,265,3],[254,64,260,65],[254,66,260,67],[254,69,260,70],[254,71,260,72],[254,73,260,74],[254,75,260,76],[254,51,260,52],[254,53,260,54],[254,55,260,56],[254,57,260,58],[254,60,260,61],[254,62,260,63],[254,36,259,37],[254,38,259,39],[254,42,260,43],[254,44,260,45],[254,46,260,47],[254,48,260,49],[260,36,265,37],[260,38,265,39],[261,42,267,43],[261,44,267,45],[254,26,259,27],[254,28,259,29],[254,30,259,31],[254,32,259,33],[254,34,259,35],[254,1,259,3],[248,34,253,35],[248,36,253,37],[247,71,253,72],[247,73,253,74],[247,75,253,76],[248,1,253,3],[247,57,253,58],[247,60,253,61],[247,62,253,63],[247,64,253,65],[247,66,253,67],[247,69,253,70],[247,44,253,45],[247,46,253,47],[247,48,253,49],[247,51,253,52],[247,53,253,54],[247,55,253,56],[242,30,247,31],[242,32,247,33],[242,34,247,35],[242,36,247,37],[242,38,247,39],[247,42,253,43],[248,38,253,39],[240,75,246,76],[242,1,247,3],[242,26,247,27],[242,28,247,29],[240,62,246,63],[240,64,246,65],[240,66,246,67],[240,69,246,70],[240,71,246,72],[240,73,246,74],[240,48,246,49],[240,51,246,52],[240,53,246,54],[240,55,246,56],[240,57,246,58],[240,60,246,61],[236,34,241,35],[236,36,241,37],[236,38,241,39],[240,42,246,43],[240,44,246,45],[240,46,246,47],[236,26,241,27],[236,28,241,29],[236,30,241,31],[236,32,241,33],[233,66,239,67],[233,69,239,70],[233,71,239,72],[233,73,239,74],[233,75,239,76],[236,1,241,3],[233,53,239,54],[233,55,239,56],[233,57,239,58],[233,60,239,61],[233,62,239,63],[233,64,239,65],[230,38,235,39],[233,42,239,43],[233,44,239,45],[233,46,239,47],[233,48,239,49],[233,51,239,52],[230,26,235,27],[230,28,235,29],[230,30,235,31],[230,32,235,33],[230,34,235,35],[230,36,235,37],[226,71,232,72],[226,73,232,74],[226,75,232,76],[230,1,235,3],[226,57,232,58],[226,60,232,61],[226,62,232,63],[226,64,232,65],[226,66,232,67],[226,69,232,70],[226,44,232,45],[226,46,232,47],[221,30,223,31],[221,32,223,33],[221,34,223,35],[221,36,223,37],[219,53,225,54],[219,55,225,56],[219,57,225,58],[219,60,225,61],[219,62,225,63],[219,64,225,65],[218,30,220,39],[219,42,225,43],[219,44,225,45],[219,46,225,47],[219,48,225,49],[219,51,225,52],[221,38,223,39],[224,36,229,37],[224,38,229,39],[226,42,232,43],[212,66,218,67],[212,69,218,70],[212,71,218,72],[212,73,218,74],[212,75,218,76],[218,1,223,3],[218,26,223,27],[218,28,223,29],[212,53,218,54],[212,55,218,56],[212,57,218,58],[212,60,218,61],[212,62,218,63],[212,64,218,65],[226,48,232,49],[226,51,232,52],[226,53,232,54],[226,55,232,56],[224,26,229,27],[224,28,229,29],[224,30,229,31],[224,32,229,33],[224,34,229,35],[224,1,229,3],[219,66,225,67],[219,69,225,70],[219,71,225,72],[219,73,225,74],[219,75,225,76],[205,75,211,76],[210,2,215,4],[210,5,215,7],[210,8,215,10],[210,12,215,22],[212,42,218,43],[212,44,218,45],[212,46,218,47],[212,48,218,49],[212,51,218,52],[205,62,211,63],[205,64,211,65],[205,66,211,67],[205,69,211,70],[205,71,211,72],[205,73,211,74],[205,48,211,49],[205,51,211,52],[205,53,211,54],[205,55,211,56],[205,57,211,58],[205,60,211,61],[202,33,207,34],[202,35,207,36],[202,37,207,38],[205,42,211,43],[205,44,211,45],[205,46,211,47],[202,21,207,22],[202,23,207,24],[202,25,207,26],[202,27,207,28],[198,69,204,70],[198,71,204,72],[198,73,204,74],[198,75,204,76],[202,2,207,4],[202,5,207,7],[202,8,207,10],[202,12,207,15],[202,16,207,18],[202,19,207,20],[198,55,204,56],[198,57,204,58],[198,60,204,61],[198,62,204,63],[198,64,204,65],[198,66,204,67],[198,42,204,43],[198,44,204,45],[198,46,204,47],[198,48,204,49],[198,51,204,52],[198,53,204,54],[194,27,199,28],[194,29,199,30],[194,31,199,32],[194,33,199,34],[194,35,199,36],[194,37,199,38],[191,75,197,76],[192,3,193,11],[194,2,199,4],[194,5,199,7],[191,62,197,63],[191,64,197,65],[191,66,197,67],[191,69,197,70],[191,71,197,72],[191,73,197,74],[191,48,197,49],[191,51,197,52],[191,53,197,54],[191,55,197,56],[191,57,197,58],[191,60,197,61],[184,69,190,70],[184,71,190,72],[184,73,190,74],[184,75,190,76],[185,1,187,11],[188,2,191,11],[189,23,192,36],[191,42,197,43],[191,44,197,45],[191,46,197,47],[184,55,190,56],[184,57,190,58],[184,60,190,61],[184,62,190,63],[184,64,190,65],[184,66,190,67],[177,73,183,74],[177,75,183,76],[180,1,184,11],[180,15,187,36],[184,42,190,43],[184,44,190,45],[184,46,190,47],[184,48,190,49],[184,51,190,52],[184,53,190,54],[177,60,183,61],[177,62,183,63],[177,64,183,65],[177,66,183,67],[177,69,183,70],[177,71,183,72],[177,46,183,47],[177,48,183,49],[177,51,183,52],[177,53,183,54],[177,55,183,56],[177,57,183,58],[174,34,179,35],[174,36,179,37],[174,38,179,39],[177,42,183,43],[177,44,183,45],[170,66,176,67],[170,69,176,70],[170,71,176,72],[170,73,176,74],[170,75,176,76],[170,53,176,54],[170,55,176,56],[170,57,176,58],[170,60,176,61],[170,62,176,63],[170,64,176,65],[168,38,173,39],[170,42,176,43],[170,44,176,45],[170,46,176,47],[170,48,176,49],[170,51,176,52],[163,73,169,74],[163,75,169,76],[168,1,173,15],[168,34,173,35],[168,36,173,37],[163,60,169,61],[163,62,169,63],[163,64,169,65],[163,66,169,67],[163,69,169,70],[163,71,169,72],[163,46,169,47],[163,48,169,49],[163,51,169,52],[163,53,169,54],[163,55,169,56],[163,57,169,58],[162,26,167,27],[162,28,167,29],[162,30,167,31],[162,34,167,35],[162,1,167,3],[156,64,162,65],[156,66,162,67],[156,69,162,70],[156,71,162,72],[156,73,162,74],[156,75,162,76],[156,51,162,52],[156,53,162,54],[156,55,162,56],[156,57,162,58],[156,60,162,61],[156,62,162,63],[156,36,161,37],[156,38,161,39],[156,42,162,43],[156,44,162,45],[156,46,162,47],[156,48,162,49],[162,36,167,37],[162,38,167,39],[163,42,169,43],[163,44,169,45],[156,26,161,27],[156,28,161,29],[156,30,161,31],[156,32,161,33],[156,34,161,35],[156,1,161,3],[168,16,173,33],[149,73,155,74],[149,75,155,76],[150,1,155,3],[150,26,155,27],[149,60,155,61],[149,62,155,63],[149,64,155,65],[149,66,155,67],[149,69,155,70],[149,71,155,72],[149,46,155,47],[149,48,155,49],[149,51,155,52],[149,53,155,54],[149,55,155,56],[149,57,155,58],[144,26,149,27],[144,28,149,29],[144,30,149,31],[144,32,149,33],[144,34,149,35],[144,1,149,3],[142,64,148,65],[142,66,148,67],[142,69,148,70],[142,71,148,72],[142,73,148,74],[142,75,148,76],[142,51,148,52],[142,53,148,54],[142,55,148,56],[142,57,148,58],[142,60,148,61],[142,62,148,63],[138,36,143,37],[138,38,143,39],[142,42,148,43],[142,44,148,45],[142,46,148,47],[142,48,148,49],[144,36,149,37],[144,38,149,39],[149,42,155,43],[149,44,155,45],[138,26,143,27],[138,28,143,29],[138,30,143,31],[138,32,143,33],[138,34,143,35],[150,34,155,35],[150,36,155,37],[150,38,155,39],[135,69,141,70],[135,71,141,72],[135,73,141,74],[135,75,141,76],[138,1,143,3],[135,55,141,56],[135,57,141,58],[135,60,141,61],[135,62,141,63],[135,64,141,65],[135,66,141,67],[135,42,141,43],[135,44,141,45],[135,46,141,47],[135,48,141,49],[135,51,141,52],[135,53,141,54],[132,28,137,29],[132,30,137,31],[132,32,137,33],[132,34,137,35],[132,36,137,37],[132,38,137,39],[128,73,134,74],[128,75,134,76],[132,1,137,3],[132,26,137,27],[128,60,134,61],[128,62,134,63],[128,64,134,65],[128,66,134,67],[128,69,134,70],[128,71,134,72],[128,46,134,47],[128,48,134,49],[128,51,134,52],[128,53,134,54],[128,55,134,56],[128,57,134,58],[126,26,131,27],[126,28,131,29],[126,30,131,31],[126,32,131,33],[126,34,131,35],[126,4,131,25],[126,1,131,3],[121,64,127,65],[121,66,127,67],[121,69,127,70],[121,71,127,72],[120,26,125,27],[120,28,125,29],[120,30,125,31],[120,32,125,33],[120,34,125,35],[120,4,125,25],[120,1,125,3],[114,51,120,52],[114,53,120,54],[114,28,119,29],[114,30,119,31],[114,32,119,33],[114,34,119,35],[114,36,119,37],[121,73,127,74],[121,75,127,76],[121,51,127,52],[121,53,127,54],[121,55,127,56],[121,57,127,58],[121,60,127,61],[121,62,127,63],[120,36,125,37],[120,38,125,39],[121,42,127,43],[121,44,127,45],[121,46,127,47],[121,48,127,49],[126,36,131,37],[126,38,131,39],[128,42,134,43],[128,44,134,45],[114,69,120,70],[114,71,120,72],[114,73,120,74],[114,75,120,76],[114,55,120,56],[114,57,120,58],[114,60,120,61],[114,62,120,63],[114,64,120,65],[114,66,120,67],[114,42,120,43],[114,44,120,45],[114,46,120,47],[114,48,120,49],[114,38,119,39],[108,36,113,37],[108,38,113,39],[114,1,119,3],[114,26,119,27],[108,26,113,27],[108,28,113,29],[108,30,113,31],[108,32,113,33],[108,34,113,35],[107,69,113,70],[107,71,113,72],[107,73,113,74],[107,75,113,76],[108,1,113,3],[107,55,113,56],[107,57,113,58],[107,60,113,61],[107,62,113,63],[107,64,113,65],[107,66,113,67],[107,42,113,43],[107,44,113,45],[107,46,113,47],[107,48,113,49],[107,51,113,52],[107,53,113,54],[102,28,107,29],[102,30,107,31],[102,32,107,33],[102,34,107,35],[102,36,107,37],[100,73,106,74],[100,75,106,76],[102,1,107,3],[102,26,107,27],[100,60,106,61],[100,62,106,63],[100,64,106,65],[100,66,106,67],[100,69,106,70],[100,71,106,72],[100,46,106,47],[100,48,106,49],[100,51,106,52],[100,53,106,54],[100,55,106,56],[100,57,106,58],[96,26,101,27],[96,28,101,29],[96,30,101,31],[96,32,101,33],[96,34,101,35],[96,1,101,3],[93,64,99,65],[93,66,99,67],[93,69,99,70],[93,71,99,72],[93,73,99,74],[93,75,99,76],[93,51,99,52],[93,53,99,54],[93,55,99,56],[93,62,99,63],[90,36,95,37],[90,38,95,39],[93,42,99,43],[93,44,99,45],[93,46,99,47],[93,48,99,49],[96,36,101,37],[96,38,101,39],[100,42,106,43],[100,44,106,45],[90,26,95,27],[90,28,95,29],[90,30,95,31],[90,32,95,33],[90,34,95,35],[102,38,107,39],[86,73,92,74],[86,75,92,76],[90,1,95,3],[86,55,92,56],[86,57,92,58],[86,60,92,61],[86,62,92,63],[86,64,92,65],[86,66,92,67],[86,42,92,43],[86,44,92,45],[86,46,92,47],[86,48,92,49],[86,51,92,52],[86,53,92,54],[84,28,89,29],[84,30,89,31],[84,32,89,33],[84,34,89,35],[84,36,89,37],[84,38,89,39],[79,73,85,74],[79,75,85,76],[84,1,89,3],[84,26,89,27],[79,60,85,61],[79,62,85,63],[79,64,85,65],[79,66,85,67],[79,69,85,70],[93,57,99,58],[93,60,99,61],[78,26,83,27],[78,28,83,29],[78,30,83,31],[78,32,83,33],[78,34,83,35],[78,1,83,3],[72,64,78,65],[72,66,78,67],[72,69,78,70],[72,71,78,72],[72,26,77,27],[72,28,77,29],[72,30,77,31],[72,32,77,33],[72,34,77,35],[72,1,77,3],[86,69,92,70],[86,71,92,72],[72,73,78,74],[72,75,78,76],[72,51,78,52],[72,53,78,54],[72,55,78,56],[72,57,78,58],[72,60,78,61],[72,62,78,63],[72,36,77,37],[72,38,77,39],[72,42,78,43],[72,44,78,45],[72,46,78,47],[72,48,78,49],[78,36,83,37],[78,38,83,39],[79,42,85,43],[79,44,85,45],[79,71,85,72],[79,46,85,47],[79,48,85,49],[79,51,85,52],[79,53,85,54],[79,55,85,56],[79,57,85,58],[66,28,71,29],[66,30,71,31],[66,32,71,33],[66,34,71,35],[66,36,71,37],[66,38,71,39],[65,73,71,74],[65,75,71,76],[66,1,71,3],[66,26,71,27],[65,60,71,61],[65,62,71,63],[65,64,71,65],[65,66,71,67],[65,69,71,70],[65,71,71,72],[65,46,71,47],[65,48,71,49],[65,51,71,52],[65,53,71,54],[65,55,71,56]],"merged_total":1177,"flags":["merged_cut"]}
[]
[null,"BASKETBALL　SCORE SHEET"]
[null," チ ー ム A :",null,null,null,null,null,null,null,null,null,null,{"$f":"IF(印刷画面!H4=\"\",\"\",印刷画面!H4)","v":""},null,null,null,null,null,null,null,null,null,null,null,null,null,null,null,null,null,null,null,null,null,null,null,null,null,null,null,null,null," チ ー ム B :",null,null,null,null,null,{"$f":"印刷画面!K4","v":""}]
[]
[]
[null,"  Team A",null,null,null,null,null,null,null,null,null,null,null,null,null,null,null,null,null,null,null,null,null,null,null,null,null,null,null,null,null,null,null,null,null,null,null,null,null,null,null,null,"  Team B"]
[]
[null,"大会名",null,null,null,null,null,null,{"$f":"IF(印刷画面!C2=\"\",\"\",印刷画面!C2)","v":"春季大会"},null,null,null,null,null,null,null,null,null,null,null,null,null,null,"日付",null,null,null,null,null,null,null,null,null,null,"時間",null,null,null,null,null,null,null,null,null,null,"クルーチーフ"]
[]
[]
[null,"Competition",null,null,null,null,null,null,null,null,null,null,null,null,null,null,null,null,null,null,null,null,null,"Date",null,null,null,null,null,null,null,null,null,null,"Time",null,null,null,null,null,null,null,null,null,null,"Crew Chief"]
[null,null,null,null,null,null,null,null,null,null,null,null,null,null,null,null,null,null,null,null,null,null,null,"場所",null,null,null,null,null,null,null,null,null,null,null,null,null,null,null,null,null,null,null,null,null,"1st アンパイア",null,null,null,null,null,null,null,null,null,null,null,null,null,null,null,"2nd アンパイア"]
[null,"Game No.",null,null,null,null,null,null,null,null,null,null,null,null,null,null,null,null,null,null,null,null,null,null,null,null,{"$f":"印刷画面!C4","v":"網走総合体育館"}]
[]
[null,null,null,null,null,null,null,null,null,null,null,null,null,null,null,null,null,null,null,null,null,null,null,"Place",null,null,null,null,null,null,null,null,null,null,null,null,null,null,null,null,null,null,null,null,null,"Unpire 1",null,null,null,null,null,null,null,null,null,null,null,null,null,null,null,"Unpire 2"]
[]
[null," チ ー ム A :",null,null,null,null,null,null,null,null,null,null,null,null,null,{"$f":"IF(印刷画面!H4=\"\",\"\",印刷画面!H4)","v":""},null,null,null,null,null,null,null,null,null,null,null,null,null,null,null,null,null,null,null,null,null,null,null,null,null,null,"ラ ン ニ ン グ ･スコア　　   RUNNING SCORE"]
[]
[]
[]
[]
[null,"  Team A"]
[]
[null,null,null,null,null,null,null,null,null,null,null,null,null,null,null,null,null,null,null,null,null,null,null,null,null,null,null,null,null,null,null,null,null,null,null,null,null,null,null,null,null,null,"A",null,null,null,"B",null,null,null,null,"A",null,null,null,"B",null,null,null,null,"A",null,null,null,"B",null,null,null,null,"A",null,null,null,"B"]
[null,null,"タイムアウト"]
[null,null,null,null,null,null,null,null,null,null,null,null,null,null,null,null,null,null,null,null,null,null,null,"チームファール　Team fouls"]
[]
[]
[null,null,null,"Timeout"]
[]
[null,null,null,null,null,null,null,null,null,null,null,null,"ｸｫｰﾀｰ",null,null,null,"Quarter",null,null,"①",null,1,null,2,null,3,null,4,null,"②",null,1,null,2,null,3,null,4,null,null,null,null,null,null,1,null,1,null,null,null,null,null,null,41,null,41,null,null,null,null,null,null,81,null,81,null,null,null,null,null,null,121,null,121]
[]
[]
[]
[]
[]
[]
[null,null,null,null,null,null,null,null,null,null,null,null,null,null,null,null,null,null,null,null,null,null,null,null,null,null,null,null,null,null,null,null,null,null,null,null,null,null,null,null,null,null,null,null,{"$f":"AS31+1","v":2},null,{"$f":"AU31+1","v":2},null,null,null,null,null,null,42,null,42,null,null,null,null,null,null,82,null,82,null,null,null,null,null,null,122,null,122]
[null,null,null,null,null,null,null,null,null,null,null,null,"ｸｫｰﾀｰ",null,null,null,"Quarter",null,null,"③",null,1,null,2,null,3,null,4,null,"④",null,1,null,2,null,3,null,4]
[]
[]
[]
[]
[]
[null,null,null,null,null,null,null,null,null,null,null,null,null,null,null,null,null,null,null,null,null,null,null,null,null,null,null,null,null,null,null,null,null,null,null,null,null,null,null,null,null,null,null,null,{"$f":"AS38+1","v":3},null,{"$f":"AU38+1","v":3},null,null,null,null,null,null,43,null,43,null,null,null,null,null,null,83,null,83,null,null,null,null,null,null,123,null,123]
[]
[null,null,null,null,null,null,null,null,null,null,null,null,"ｵｰﾊﾞｰﾀｲﾑ　Overtime"]
[]
[]
[]
[]
[null,null,null,null,null,null,null,null,null,null,null,null,null,null,null,null,null,null,null,null,null,null,null,null,null,null,null,null,null,null,null,null,null,null,null,null,null,null,null,null,null,null,null,null,{"$f":"AS45+1","v":4},null,{"$f":"AU45+1","v":4},null,null,null,null,null,null,44,null,44,null,null,null,null,null,null,84,null,84,null,null,null,null,null,null,124,null,124]
[]
[]
[null,"No.",null,null,"選手氏名 Players",null,null,null,null,null,null,null,null,null,null,null,null,null,null,null,null,null,null,null,null,null,"No.",null,"Pl-in",null,"ファウル Fouls"]
[]
[]
[null,null,null,null,null,null,null,null,null,null,null,null,null,null,null,null,null,null,null,null,null,null,null,null,null,null,null,null,null,null,1,null,2,null,3,null,4,null,5]
[null,null,null,null,null,null,null,null,null,null,null,null,null,null,null,null,null,null,null,null,null,null,null,null,null,null,null,null,null,null,null,null,null,null,null,null,null,null,null,null,null,null,null,null,{"$f":"AS52+1","v":5},null,{"$f":"AU52+1","v":5},null,null,null,null,null,null,45,null,45,null,null,null,null,null,null,85,null,85,null,null,null,null,null,null,125,null,125]
[]
[null,1,null,null,{"$f":"IF(データ管理!E$75=0,\"\",データ管理!E$75)","v":""},null,null,null,null,null,null,null,null,null,null,null,null,null,null,null,null,null,null,null,null,null,4]
[]
[]
[]
[]
[null,null,null,null,null,null,null,null,null,null,null,null,null,null,null,null,null,null,null,null,null,null,null,null,null,null,null,null,null,null,null,null,null,null,null,null,null,null,null,null,null,null,null,null,6,null,6,null,null,null,null,null,null,46,null,46,null,null,null,null,null,null,86,null,86,null,null,null,null,null,null,126,null,126]
[null,2,null,null,{"$f":"IF(データ管理!G$75=0,\"\",データ管理!G$75)","v":""},null,null,null,null,null,null,null,null,null,null,null,null,null,null,null,null,null,null,null,null,null,5]
[]
[]
[]
[]
[]
[null,3,null,null,{"$f":"IF(データ管理!I$75=0,\"\",データ管理!I$75)","v":""},null,null,null,null,null,null,null,null,null,null,null,null,null,null,null,null,null,null,null,null,null,6,null,null,null,null,null,null,null,null,null,null,null,null,null,null,null,null,null,7,null,7,null,null,null,null,null,null,47,null,47,null,null,null,null,null,null,87,null,87,null,null,null,null,null,null,127,null,127]
[]
[]
[]
[]
[]
[null,4,null,null,{"$f":"IF(データ管理!K$75=0,\"\",データ管理!K$75)","v":""},null,null,null,null,null,null,null,null,null,null,null,null,null,null,null,null,null,null,null,null,null,7]
[null,null,null,null,null,null,null,null,null,null,null,null,null,null,null,null,null,null,null,null,null,null,null,null,null,null,null,null,null,null,null,null,null,null,null,null,null,null,null,null,null,null,null,null,8,null,8,null,null,null,null,null,null,48,null,48,null,null,null,null,null,null,88,null,88,null,null,null,null,null,null,128,null,128]
[]
[]
[]
[]
[null,5,null,null,{"$f":"IF(データ管理!M$75=0,\"\",データ管理!M$75)","v":""},null,null,null,null,null,null,null,null,null,null,null,null,null,null,null,null,null,null,null,null,null,8]
[]
[null,null,null,null,null,null,null,null,null,null,null,null,null,null,null,null,null,null,null,null,null,null,null,null,null,null,null,null,null,null,null,null,null,null,null,null,null,null,null,null,null,null,null,null,9,null,9,null,null,null,null,null,null,49,null,49,null,null,null,null,null,null,89,null,89,null,null,null,null,null,null,129,null,129]
[]
[]
[]
[null,6,null,null,{"$f":"IF(データ管理!O$75=0,\"\",データ管理!O$75)","v":""},null,null,null,null,null,null,null,null,null,null,null,null,null,null,null,null,null,null,null,null,null,9]
[]
[]
[null,null,null,null,null,null,null,null,null,null,null,null,null,null,null,null,null,null,null,null,null,null,null,null,null,null,null,null,null,null,null,null,null,null,null,null,null,null,null,null,null,null,null,null,10,null,10,null,null,null,null,null,null,50,null,50,null,null,null,null,null,null,90,null,90,null,null,null,null,null,null,130,null,130]
[]
[]
[null,7,null,null,{"$f":"IF(データ管理!Q$75=0,\"\",データ管理!Q$75)","v":""},null,null,null,null,null,null,null,null,null,null,null,null,null,null,null,null,null,null,null,null,null,10]
[]
[]
[]
[null,null,null,null,null,null,null,null,null,null,null,null,null,null,null,null,null,null,null,null,null,null,null,null,null,null,null,null,null,null,null,null,null,null,null,null,null,null,null,null,null,null,null,null,11,null,11,null,null,null,null,null,null,51,null,51,null,null,null,null,null,null,91,null,91,null,null,null,null,null,null,131,null,131]
[]
[null,8,null,null,{"$f":"IF(データ管理!S$75=0,\"\",データ管理!S$75)","v":""},null,null,null,null,null,null,null,null,null,null,null,null,null,null,null,null,null,null,null,null,null,11]
[]
[]
[]
[]
[null,null,null,null,null,null,null,null,null,null,null,null,null,null,null,null,null,null,null,null,null,null,null,null,null,null,null,null,null,null,null,null,null,null,null,null,null,null,null,null,null,null,null,null,12,null,12,null,null,null,null,null,null,52,null,52,null,null,null,null,null,null,92,null,92,null,null,null,null,null,null,132,null,132]
[null,9,null,null,{"$f":"IF(データ管理!U$75=0,\"\",データ管理!U$75)","v":""},null,null,null,null,null,null,null,null,null,null,null,null,null,null,null,null,null,null,null,null,null,12]
[]
[]
[]
[]
[]
[null,10,null,null,{"$f":"IF(データ管理!W$75=0,\"\",データ管理!W$75)","v":""},null,null,null,null,null,null,null,null,null,null,null,null,null,null,null,null,null,null,null,null,null,13,null,null,null,null,null,null,null,null,null,null,null,null,null,null,null,null,null,13,null,13,null,null,null,null,null,null,53,null,53,null,null,null,null,null,null,93,null,93,null,null,null,null,null,null,133,null,133]
[]
[]
[]
[]
[]
[null,11,null,null,{"$f":"IF(データ管理!Y$75=0,\"\",データ管理!Y$75)","v":""},null,null,null,null,null,null,null,null,null,null,null,null,null,null,null,null,null,null,null,null,null,14]
[null,null,null,null,null,null,null,null,null,null,null,null,null,null,null,null,null,null,null,null,null,null,null,null,null,null,null,null,null,null,null,null,null,null,null,null,null,null,null,null,null,null,null,null,14,null,14,null,null,null,null,null,null,54,null,54,null,null,null,null,null,null,94,null,94,null,null,null,null,null,null,134,null,134]
[]
[]
[]
[]
[null,12,null,null,{"$f":"IF(データ管理!AA$75=0,\"\",データ管理!AA$75)","v":""},null,null,null,null,null,null,null,null,null,null,null,null,null,null,null,null,null,null,null,null,null,15]
[]
[null,null,null,null,null,null,null,null,null,null,null,null,null,null,null,null,null,null,null,null,null,null,null,null,null,null,null,null,null,null,null,null,null,null,null,null,null,null,null,null,null,null,null,null,15,null,15,null,null,null,null,null,null,55,null,55,null,null,null,null,null,null,95,null,95,null,null,null,null,null,null,135,null,135]
[]
[]
[]
[null,13,null,null,{"$f":"IF(データ管理!AC$75=0,\"\",データ管理!AC$75)","v":""},null,null,null,null,null,null,null,null,null,null,null,null,null,null,null,null,null,null,null,null,null,16]
[]
[]
[null,null,null,null,null,null,null,null,null,null,null,null,null,null,null,null,null,null,null,null,null,null,null,null,null,null,null,null,null,null,null,null,null,null,null,null,null,null,null,null,null,null,null,null,16,null,16,null,null,null,null,null,null,56,null,56,null,null,null,null,null,null,96,null,96,null,null,null,null,null,null,136,null,136]
[]
[]
[null,14,null,null,{"$f":"IF(データ管理!AE$75=0,\"\",データ管理!AE$75)","v":""},null,null,null,null,null,null,null,null,null,null,null,null,null,null,null,null,null,null,null,null,null,17]
[]
[]
[]
[null,null,null,null,null,null,null,null,null,null,null,null,null,null,null,null,null,null,null,null,null,null,null,null,null,null,null,null,null,null,null,null,null,null,null,null,null,null,null,null,null,null,null,null,17,null,17,null,null,null,null,null,null,57,null,57,null,null,null,null,null,null,97,null,97,null,null,null,null,null,null,137,null,137]
[]
[null,15,null,null,{"$f":"IF(データ管理!AG$75=0,\"\",データ管理!AG$75)","v":""},null,null,null,null,null,null,null,null,null,null,null,null,null,null,null,null,null,null,null,null,null,18]
[]
[]
[]
[]
[null,null,null,null,null,null,null,null,null,null,null,null,null,null,null,null,null,null,null,null,null,null,null,null,null,null,null,null,null,null,null,null,null,null,null,null,null,null,null,null,null,null,null,null,18,null,18,null,null,null,null,null,null,58,null,58,null,null,null,null,null,null,98,null,98,null,null,null,null,null,null,138,null,138]
[null,16]
[]
[]
[]
[]
[]
[null,17,null,null,null,null,null,null,null,null,null,null,null,null,null,null,null,null,null,null,null,null,null,null,null,null,null,null,null,null,null,null,null,null,null,null,null,null,null,null,null,null,null,null,19,null,19,null,null,null,null,null,null,59,null,59,null,null,null,null,null,null,99,null,99,null,null,null,null,null,null,139,null,139]
[]
[]
[]
[]
[]
[null,18]
[null,null,null,null,null,null,null,null,null,null,null,null,null,null,null,null,null,null,null,null,null,null,null,null,null,null,null,null,null,null,null,null,null,null,null,null,null,null,null,null,null,null,null,null,20,null,20,null,null,null,null,null,null,60,null,60,null,null,null,null,null,null,100,null,100,null,null,null,null,null,null,140,null,140]
[]
[]
[]
[]
[null,"コーチ Coach:",null,null,null,null,null,null,null,null,null,null,null,null,null,null,{"$f":"IF(データ管理!C$75=\"\",\"\",データ管理!C$75)","v":0}]
[]
[null,null,null,null,null,null,null,null,null,null,null,null,null,null,null,null,null,null,null,null,null,null,null,null,null,null,null,null,null,null,null,null,null,null,null,null,null,null,null,null,null,null,null,null,21,null,21,null,null,null,null,null,null,61,null,61,null,null,null,null,null,null,101,null,101,null,null,null,null,null,null,141,null,141]
[]
[]
[]
[null,"A.コーチ A. Coach:",null,null,null,null,null,null,null,null,null,null,null,null,null,null,{"$f":"IF(データ管理!D$75=\"\",\"\",データ管理!D$75)","v":0}]
[]
[]
[null,null,null,null,null,null,null,null,null,null,null,null,null,null,null,null,null,null,null,null,null,null,null,null,null,null,null,null,null,null,null,null,null,null,null,null,null,null,null,null,null,null,null,null,22,null,22,null,null,null,null,null,null,62,null,62,null,null,null,null,null,null,102,null,102,null,null,null,null,null,null,142,null,142]
[]
[]
[null," チ ー ム B :",null,null,null,null,null,null,null,null,null,null,null,null,null,{"$f":"IF(印刷画面!K4=\"\",\"\",印刷画面!K4)","v":""}]
[]
[]
[]
[null,null,null,null,null,null,null,null,null,null,null,null,null,null,null,null,null,null,null,null,null,null,null,null,null,null,null,null,null,null,null,null,null,null,null,null,null,null,null,null,null,null,null,null,23,null,23,null,null,null,null,null,null,63,null,63,null,null,null,null,null,null,103,null,103,null,null,null,null,null,null,143,null,143]
[null,"  Team B"]
[]
[]
[null,null,"タイムアウト"]
[null,null,null,null,null,null,null,null,null,null,null,null,null,null,null,null,null,null,null,null,null,null,null,"チームファール　Team fouls"]
[]
[null,null,null,null,null,null,null,null,null,null,null,null,null,null,null,null,null,null,null,null,null,null,null,null,null,null,null,null,null,null,null,null,null,null,null,null,null,null,null,null,null,null,null,null,24,null,24,null,null,null,null,null,null,64,null,64,null,null,null,null,null,null,104,null,104,null,null,null,null,null,null,144,null,144]
[null,null,null,"Timeout"]
[]
[null,null,null,null,null,null,null,null,null,null,null,null,"ｸｫｰﾀｰ",null,null,null,"Quarter",null,null,"①",null,1,null,2,null,3,null,4,null,"②",null,1,null,2,null,3,null,4]
[]
[]
[]
[null,null,null,null,null,null,null,null,null,null,null,null,null,null,null,null,null,null,null,null,null,null,null,null,null,null,null,null,null,null,null,null,null,null,null,null,null,null,null,null,null,null,null,null,25,null,25,null,null,null,null,null,null,65,null,65,null,null,null,null,null,null,105,null,105,null,null,null,null,null,null,145,null,145]
[]
[]
[]
[null,null,null,null,null,null,null,null,null,null,null,null,"ｸｫｰﾀｰ",null,null,null,"Quarter",null,null,"③",null,1,null,2,null,3,null,4,null,"④",null,1,null,2,null,3,null,4]
[]
[]
[null,null,null,null,null,null,null,null,null,null,null,null,null,null,null,null,null,null,null,null,null,null,null,null,null,null,null,null,null,null,null,null,null,null,null,null,null,null,null,null,null,null,null,null,26,null,26,null,null,null,null,null,null,66,null,66,null,null,null,null,null,null,106,null,106,null,null,null,null,null,null,146,null,146]
[]
[]
[]
[]
[null,null,null,null,null,null,null,null,null,null,null,null,"ｵｰﾊﾞｰﾀｲﾑ　Overtime"]
[]
[null,null,null,null,null,null,null,null,null,null,null,null,null,null,null,null,null,null,null,null,null,null,null,null,null,null,null,null,null,null,null,null,null,null,null,null,null,null,null,null,null,null,null,null,27,null,27,null,null,null,null,null,null,67,null,67,null,null,null,null,null,null,107,null,107,null,null,null,null,null,null,147,null,147]
[]
[]
[]
[]
[]
[null,"No.",null,null,"選手氏名 Players",null,null,null,null,null,null,null,null,null,null,null,null,null,null,null,null,null,null,null,null,null,"No.",null,"Pl-in",null,"ファウル Fouls"]
[null,null,null,null,null,null,null,null,null,null,null,null,null,null,null,null,null,null,null,null,null,null,null,null,null,null,null,null,null,null,null,null,null,null,null,null,null,null,null,null,null,null,null,null,28,null,28,null,null,null,null,null,null,68,null,68,null,null,null,null,null,null,108,null,108,null,null,null,null,null,null,148,null,148]
[]
[null,null,null,null,null,null,null,null,null,null,null,null,null,null,null,null,null,null,null,null,null,null,null,null,null,null,null,null,null,null,1,null,2,null,3,null,4,null,5]
[]
[]
[null,1,null,null,{"$f":"IF(データ管理!E$76=0,\"\",データ管理!E$76)","v":""},null,null,null,null,null,null,null,null,null,null,null,null,null,null,null,null,null,null,null,null,null,4]
[]
[null,null,null,null,null,null,null,null,null,null,null,null,null,null,null,null,null,null,null,null,null,null,null,null,null,null,null,null,null,null,null,null,null,null,null,null,null,null,null,null,null,null,null,null,29,null,29,null,null,null,null,null,null,69,null,69,null,null,null,null,null,null,109,null,109,null,null,null,null,null,null,149,null,149]
[]
[]
[]
[null,2,null,null,{"$f":"IF(データ管理!G$76=0,\"\",データ管理!G$76)","v":""},null,null,null,null,null,null,null,null,null,null,null,null,null,null,null,null,null,null,null,null,null,5]
[]
[]
[null,null,null,null,null,null,null,null,null,null,null,null,null,null,null,null,null,null,null,null,null,null,null,null,null,null,null,null,null,null,null,null,null,null,null,null,null,null,null,null,null,null,null,null,30,null,30,null,null,null,null,null,null,70,null,70,null,null,null,null,null,null,110,null,110,null,null,null,null,null,null,150,null,150]
[]
[]
[null,3,null,null,{"$f":"IF(データ管理!I$76=0,\"\",データ管理!I$76)","v":""},null,null,null,null,null,null,null,null,null,null,null,null,null,null,null,null,null,null,null,null,null,6]
[]
[]
[]
[null,null,null,null,null,null,null,null,null,null,null,null,null,null,null,null,null,null,null,null,null,null,null,null,null,null,null,null,null,null,null,null,null,null,null,null,null,null,null,null,null,null,null,null,31,null,31,null,null,null,null,null,null,71,null,71,null,null,null,null,null,null,111,null,111,null,null,null,null,null,null,151,null,151]
[]
[null,4,null,null,{"$f":"IF(データ管理!K$76=0,\"\",データ管理!K$76)","v":""},null,null,null,null,null,null,null,null,null,null,null,null,null,null,null,null,null,null,null,null,null,7]
[]
[]
[]
[]
[null,null,null,null,null,null,null,null,null,null,null,null,null,null,null,null,null,null,null,null,null,null,null,null,null,null,null,null,null,null,null,null,null,null,null,null,null,null,null,null,null,null,null,null,32,null,32,null,null,null,null,null,null,72,null,72,null,null,null,null,null,null,112,null,112,null,null,null,null,null,null,152,null,152]
[null,5,null,null,{"$f":"IF(データ管理!M$76=0,\"\",データ管理!M$76)","v":""},null,null,null,null,null,null,null,null,null,null,null,null,null,null,null,null,null,null,null,null,null,8]
[]
[]
[]
[]
[]
[null,6,null,null,{"$f":"IF(データ管理!O$76=0,\"\",データ管理!O$76)","v":""},null,null,null,null,null,null,null,null,null,null,null,null,null,null,null,null,null,null,null,null,null,9,null,null,null,null,null,null,null,null,null,null,null,null,null,null,null,null,null,33,null,33,null,null,null,null,null,null,73,null,73,null,null,null,null,null,null,113,null,113,null,null,null,null,null,null,153,null,153]
[]
[]
[]
[]
[]
[null,7,null,null,{"$f":"IF(データ管理!Q$76=0,\"\",データ管理!Q$76)","v":""},null,null,null,null,null,null,null,null,null,null,null,null,null,null,null,null,null,null,null,null,null,10]
[null,null,null,null,null,null,null,null,null,null,null,null,null,null,null,null,null,null,null,null,null,null,null,null,null,null,null,null,null,null,null,null,null,null,null,null,null,null,null,null,null,null,null,null,34,null,34,null,null,null,null,null,null,74,null,74,null,null,null,null,null,null,114,null,114,null,null,null,null,null,null,154,null,154]
[]
[]
[]
[]
[null,8,null,null,{"$f":"IF(データ管理!S$76=0,\"\",データ管理!S$76)","v":""},null,null,null,null,null,null,null,null,null,null,null,null,null,null,null,null,null,null,null,null,null,11]
[]
[null,null,null,null,null,null,null,null,null,null,null,null,null,null,null,null,null,null,null,null,null,null,null,null,null,null,null,null,null,null,null,null,null,null,null,null,null,null,null,null,null,null,null,null,35,null,35,null,null,null,null,null,null,75,null,75,null,null,null,null,null,null,115,null,115,null,null,null,null,null,null,155,null,155]
[]
[]
[]
[null,9,null,null,{"$f":"IF(データ管理!U$76=0,\"\",データ管理!U$76)","v":""},null,null,null,null,null,null,null,null,null,null,null,null,null,null,null,null,null,null,null,null,null,12]
[]
[]
[null,null,null,null,null,null,null,null,null,null,null,null,null,null,null,null,null,null,null,null,null,null,null,null,null,null,null,null,null,null,null,null,null,null,null,null,null,null,null,null,null,null,null,null,36,null,36,null,null,null,null,null,null,76,null,76,null,null,null,null,null,null,116,null,116,null,null,null,null,null,null,156,null,156]
[]
[]
[null,10,null,null,{"$f":"IF(データ管理!W$76=0,\"\",データ管理!W$76)","v":""},null,null,null,null,null,null,null,null,null,null,null,null,null,null,null,null,null,null,null,null,null,13]
[]
[]
[]
[null,null,null,null,null,null,null,null,null,null,null,null,null,null,null,null,null,null,null,null,null,null,null,null,null,null,null,null,null,null,null,null,null,null,null,null,null,null,null,null,null,null,null,null,37,null,37,null,null,null,null,null,null,77,null,77,null,null,null,null,null,null,117,null,117,null,null,null,null,null,null,157,null,157]
[]
[null,11,null,null,{"$f":"IF(データ管理!Y$76=0,\"\",データ管理!Y$76)","v":""},null,null,null,null,null,null,null,null,null,null,null,null,null,null,null,null,null,null,null,null,null,14]
[]
[]
[]
[]
[null,null,null,null,null,null,null,null,null,null,null,null,null,null,null,null,null,null,null,null,null,null,null,null,null,null,null,null,null,null,null,null,null,null,null,null,null,null,null,null,null,null,null,null,38,null,38,null,null,null,null,null,null,78,null,78,null,null,null,null,null,null,118,null,118,null,null,null,null,null,null,158,null,158]
[null,12,null,null,{"$f":"IF(データ管理!AA$76=0,\"\",データ管理!AA$76)","v":""},null,null,null,null,null,null,null,null,null,null,null,null,null,null,null,null,null,null,null,null,null,15]
[]
[]
[]
[]
[]
[null,13,null,null,{"$f":"IF(データ管理!AC$76=0,\"\",データ管理!AC$76)","v":""},null,null,null,null,null,null,null,null,null,null,null,null,null,null,null,null,null,null,null,null,null,16,null,null,null,null,null,null,null,null,null,null,null,null,null,null,null,null,null,39,null,39,null,null,null,null,null,null,79,null,79,null,null,null,null,null,null,119,null,119,null,null,null,null,null,null,159,null,159]
[]
[]
[]
[]
[]
[null,14,null,null,{"$f":"IF(データ管理!AE$76=0,\"\",データ管理!AE$76)","v":""},null,null,null,null,null,null,null,null,null,null,null,null,null,null,null,null,null,null,null,null,null,17]
[null,null,null,null,null,null,null,null,null,null,null,null,null,null,null,null,null,null,null,null,null,null,null,null,null,null,null,null,null,null,null,null,null,null,null,null,null,null,null,null,null,null,null,null,40,null,40,null,null,null,null,null,null,80,null,80,null,null,null,null,null,null,120,null,120,null,null,null,null,null,null,160,null,160]
[]
[]
[]
[]
[null,15,null,null,{"$f":"IF(データ管理!AG$76=0,\"\",データ管理!AG$76)","v":""},null,null,null,null,null,null,null,null,null,null,null,null,null,null,null,null,null,null,null,null,null,18]
[]
[]
[]
[]
[null,null,null,null,null,null,null,null,null,null,null,null,null,null,null,null,null,null,null,null,null,null,null,null,null,null,null,null,null,null,null,null,null,null,null,null,null,null,null,null,null,null,null,"スコア",null,null,null,null,"第１クォーター",null,null,null,null,null,null,null,null,null,null,"Ａ",null,null,null,null,null,null,null,null,"Ｂ"]
[null,16]
[]
[]
[]
[null,null,null,null,null,null,null,null,null,null,null,null,null,null,null,null,null,null,null,null,null,null,null,null,null,null,null,null,null,null,null,null,null,null,null,null,null,null,null,null,null,null,null,null,null,null,null,null,"Quarter 1"]
[null,null,null,null,null,null,null,null,null,null,null,null,null,null,null,null,null,null,null,null,null,null,null,null,null,null,null,null,null,null,null,null,null,null,null,null,null,null,null,null,null,null,null,"Score"]
[null,17]
[]
[]
[null,null,null,null,null,null,null,null,null,null,null,null,null,null,null,null,null,null,null,null,null,null,null,null,null,null,null,null,null,null,null,null,null,null,null,null,null,null,null,null,null,null,null,null,null,null,null,null,"第２クォーター",null,null,null,null,null,null,null,null,null,null,"Ａ",null,null,null,null,null,null,null,null,"Ｂ"]
[]
[]
[null,18]
[]
[null,null,null,null,null,null,null,null,null,null,null,null,null,null,null,null,null,null,null,null,null,null,null,null,null,null,null,null,null,null,null,null,null,null,null,null,null,null,null,null,null,null,null,null,null,null,null,null,"Quarter 2"]
[]
[]
[]
[null,"コーチ Coach:",null,null,null,null,null,null,null,null,null,null,null,null,null,null,{"$f":"IF(データ管理!C$76=\"\",\"\",データ管理!C$76)","v":0}]
[null,null,null,null,null,null,null,null,null,null,null,null,null,null,null,null,null,null,null,null,null,null,null,null,null,null,null,null,null,null,null,null,null,null,null,null,null,null,null,null,null,null,null,null,null,null,null,null,"第３クォーター",null,null,null,null,null,null,null,null,null,null,"Ａ",null,null,null,null,null,null,null,null,"Ｂ"]
[]
[]
[]
[]
[null,"A.コーチ A. Coach:",null,null,null,null,null,null,null,null,null,null,null,null,null,null,{"$f":"IF(データ管理!D$76=\"\",\"\",データ管理!D$76)","v":0},null,null,null,null,null,null,null,null,null,null,null,null,null,null,null,null,null,null,null,null,null,null,null,null,null,null,null,null,null,null,null,"Quarter 3"]
[]
[]
[]
[]
[null,null,null,null,null,null,null,null,null,null,null,null,null,null,null,null,null,null,null,null,null,null,null,null,null,null,null,null,null,null,null,null,null,null,null,null,null,null,null,null,null,null,null,null,null,null,null,null,"第４クォーター",null,null,null,null,null,null,null,null,null,null,"Ａ",null,null,null,null,null,null,null,null,"Ｂ"]
[null,"スコアラー Scorrer"]
[]
[]
[]
[null,null,null,null,null,null,null,null,null,null,null,null,null,null,null,null,null,null,null,null,null,null,null,null,null,null,null,null,null,null,null,null,null,null,null,null,null,null,null,null,null,null,null,null,null,null,null,null,"Quarter 4"]
[]
[]
[null,"A.スコアラー A. Scorrer"]
[]
[null,null,null,null,null,null,null,null,null,null,null,null,null,null,null,null,null,null,null,null,null,null,null,null,null,null,null,null,null,null,null,null,null,null,null,null,null,null,null,null,null,null,null,null,null,null,null,null,"オーバータイム",null,null,null,null,null,null,null,null,null,null,"Ａ",null,null,null,null,null,null,null,null,"Ｂ"]
[]
[]
[]
[]
[null,"タイマー Timer",null,null,null,null,null,null,null,null,null,null,null,null,null,null,null,null,null,null,null,null,null,null,null,null,null,null,null,null,null,null,null,null,null,null,null,null,null,null,null,null,null,null,null,null,null,null,"Overtime"]
[]
[]
[]
[]
[]
[null,null,null,null,null,null,null,null,null,null,null,null,null,null,null,null,null,null,null,null,null,null,null,null,null,null,null,null,null,null,null,null,null,null,null,null,null,null,null,null,null,null," 最終スコア Final Score",null,null,null,null,null,null,null,null,null,null,null,null,null,null,null,null,"A",null,null,null,null,null,null,null,"－",null,null,null,null,null,null,null,"B"]
[null,"ｼｮｯﾄｸﾛｯｸｵﾍﾟﾚｰﾀ SC Operator"]
[]
[]
[]
[]
[]
[]
[]
[]
[null,"クルーチーフ",null,null,null,null,null,null,null,null,null,null,null,null,null,null,null,null,null,null,null,null,null,null,null,null,null,null,null,null,null,null,null,null,null,null,null,null,null,null,null,null," 勝者チーム Name of Winning Team"]
[]
[]
[null," Crew Chief"]
[]
[null,"1st アンパイア",null,null,null,null,null,null,null,null,null,null,null,null,null,null,null,null,null,null,null,null,null,"2nd アンパイア"]
[null,null,null,null,null,null,null,null,null,null,null,null,null,null,null,null,null,null,null,null,null,null,null,null,null,null,null,null,null,null,null,null,null,null,null,null,null,null,null,null,null,null," 試合終了時間 Game ended at (hh:mm)"]
[]
[null," Unpire 1",null,null,null,null,null,null,null,null,null,null,null,null,null,null,null,null,null,null,null,null,null," Unpire 2"]

{"sheet":"スコアシート記入例","index":2,"n_rows":383,"n_cols":76,"rows_kept":383,"cut":false,"hidden":false,"merged":[[382,1,383,11],[382,23,383,28],[385,42,385,76],[364,75,373,76],[365,1,371,20],[365,21,371,38],[374,1,376,11],[374,42,379,58],[377,1,378,11],[379,1,381,11],[379,23,381,28],[380,42,384,59],[380,60,384,76],[353,70,359,74],[358,1,364,20],[358,21,364,38],[358,48,360,52],[364,42,373,58],[364,59,373,60],[364,61,373,66],[364,67,373,68],[364,69,373,74],[351,1,357,20],[351,21,357,38],[353,48,357,58],[353,59,359,60],[353,61,359,65],[353,68,359,69],[343,48,347,58],[343,59,349,60],[343,61,349,65],[343,68,349,69],[343,70,349,74],[344,1,350,20],[344,21,350,38],[348,48,350,52],[333,59,339,60],[333,61,339,65],[333,68,339,69],[333,70,339,74],[338,1,343,15],[338,16,343,33],[338,34,343,35],[338,36,343,37],[338,38,343,39],[338,48,340,52],[332,1,337,15],[332,16,337,33],[332,34,337,35],[332,36,337,37],[332,38,337,39],[333,48,337,58],[323,61,329,65],[323,68,329,69],[323,70,329,74],[326,1,331,3],[326,4,331,25],[326,26,331,27],[326,28,331,29],[326,30,331,31],[326,32,331,33],[326,34,331,35],[320,32,325,33],[320,34,325,35],[320,36,325,37],[320,38,325,39],[323,48,327,58],[323,59,329,60],[326,36,331,37],[326,38,331,39],[328,48,330,52],[314,34,319,35],[314,36,319,37],[314,38,319,39],[318,48,320,52],[319,43,321,46],[320,1,325,3],[320,4,325,25],[320,26,325,27],[320,28,325,29],[320,30,325,31],[314,1,319,3],[314,4,319,25],[314,26,319,27],[314,28,319,29],[314,30,319,31],[314,32,319,33],[313,43,318,46],[313,48,317,58],[313,59,319,60],[313,61,319,65],[313,68,319,69],[313,70,319,74],[303,75,309,76],[308,1,313,3],[308,4,313,25],[308,26,313,27],[308,28,313,29],[308,30,313,31],[308,32,313,33],[308,34,313,35],[308,36,313,37],[308,38,313,39],[303,62,309,63],[303,64,309,65],[303,66,309,67],[303,69,309,70],[303,71,309,72],[303,73,309,74],[303,48,309,49],[303,51,309,52],[303,53,309,54],[303,55,309,56],[303,57,309,58],[303,60,309,61],[302,34,307,35],[302,36,307,37],[302,38,307,39],[303,42,309,43],[303,44,309,45],[303,46,309,47],[302,1,307,3],[302,4,307,25],[302,26,307,27],[302,28,307,29],[302,30,307,31],[302,32,307,33],[296,64,302,65],[296,66,302,67],[296,69,302,70],[296,71,302,72],[296,73,302,74],[296,75,302,76],[296,51,302,52],[296,53,302,54],[296,55,302,56],[296,57,302,58],[296,60,302,61],[296,62,302,63],[296,36,301,37],[296,38,301,39],[296,42,302,43],[296,44,302,45],[296,46,302,47],[296,48,302,49],[290,34,295,35],[290,36,295,37],[290,38,295,39],[296,1,301,3],[296,4,301,25],[296,26,301,27],[296,28,301,29],[296,30,301,31],[296,32,301,33],[296,34,301,35],[289,69,295,70],[289,71,295,72],[289,73,295,74],[289,75,295,76],[290,1,295,3],[290,4,295,25],[290,26,295,27],[290,28,295,29],[290,30,295,31],[290,32,295,33],[289,55,295,56],[289,57,295,58],[289,60,295,61],[289,62,295,63],[289,64,295,65],[289,66,295,67],[289,42,295,43],[289,44,295,45],[289,46,295,47],[289,48,295,49],[289,51,295,52],[289,53,295,54],[282,75,288,76],[284,1,289,3],[284,4,289,25],[284,26,289,27],[284,28,289,29],[284,30,289,31],[284,32,289,33],[284,34,289,35],[284,36,289,37],[284,38,289,39],[282,62,288,63],[282,64,288,65],[282,66,288,67],[282,69,288,70],[282,71,288,72],[282,73,288,74],[282,48,288,49],[282,51,288,52],[282,53,288,54],[282,55,288,56],[282,57,288,58],[282,60,288,61],[278,34,283,35],[278,36,283,37],[278,38,283,39],[282,42,288,43],[282,44,288,45],[282,46,288,47],[275,69,281,70],[275,71,281,72],[275,73,281,74],[275,75,281,76],[278,1,283,3],[278,4,283,25],[278,26,283,27],[278,28,283,29],[278,30,283,31],[278,32,283,33],[275,55,281,56],[275,57,281,58],[275,60,281,61],[275,62,281,63],[275,64,281,65],[275,66,281,67],[275,42,281,43],[275,44,281,45],[275,46,281,47],[275,48,281,49],[275,51,281,52],[275,53,281,54],[268,75,274,76],[272,1,277,3],[272,4,277,25],[272,26,277,27],[272,28,277,29],[272,30,277,31],[272,32,277,33],[272,34,277,35],[272,36,277,37],[272,38,277,39],[268,62,274,63],[268,64,274,65],[268,66,274,67],[268,69,274,70],[268,71,274,72],[268,73,274,74],[268,48,274,49],[268,51,274,52],[268,53,274,54],[268,55,274,56],[268,57,274,58],[268,60,274,61],[266,34,271,35],[266,36,271,37],[266,38,271,39],[268,42,274,43],[268,44,274,45],[268,46,274,47],[261,69,267,70],[261,71,267,72],[261,73,267,74],[261,75,267,76],[266,1,271,3],[266,4,271,25],[266,26,271,27],[266,28,271,29],[266,30,271,31],[266,32,271,33],[261,55,267,56],[261,57,267,58],[261,60,267,61],[261,62,267,63],[261,64,267,65],[261,66,267,67],[261,42,267,43],[261,44,267,45],[261,46,267,47],[261,48,267,49],[261,51,267,52],[261,53,267,54],[254,75,260,76],[260,1,265,3],[260,4,265,25],[260,26,265,27],[260,28,265,29],[260,30,265,31],[260,32,265,33],[260,34,265,35],[260,36,265,37],[260,38,265,39],[254,62,260,63],[254,64,260,65],[254,66,260,67],[254,69,260,70],[254,71,260,72],[254,73,260,74],[254,48,260,49],[254,51,260,52],[254,53,260,54],[254,55,260,56],[254,57,260,58],[254,60,260,61],[254,34,259,35],[254,36,259,37],[254,38,259,39],[254,42,260,43],[254,44,260,45],[254,46,260,47],[254,1,259,3],[254,4,259,25],[254,26,259,27],[254,28,259,29],[254,30,259,31],[254,32,259,33],[247,75,253,76],[248,1,253,3],[248,4,253,25],[248,26,253,27],[248,28,253,29],[248,30,253,31],[248,32,253,33],[248,34,253,35],[248,36,253,37],[248,38,253,39],[247,62,253,63],[247,64,253,65],[247,66,253,67],[247,69,253,70],[247,71,253,72],[247,73,253,74],[247,48,253,49],[247,51,253,52],[247,53,253,54],[247,55,253,56],[247,57,253,58],[247,60,253,61],[242,34,247,35],[242,36,247,37],[242,38,247,39],[247,42,253,43],[247,44,253,45],[247,46,253,47],[240,69,246,70],[240,71,246,72],[240,73,246,74],[240,75,246,76],[242,1,247,3],[242,4,247,25],[242,26,247,27],[242,28,247,29],[242,30,247,31],[242,32,247,33],[240,55,246,56],[240,57,246,58],[240,60,246,61],[240,62,246,63],[240,64,246,65],[240,66,246,67],[240,42,246,43],[240,44,246,45],[240,46,246,47],[240,48,246,49],[240,51,246,52],[240,53,246,54],[233,75,239,76],[236,1,241,3],[236,4,241,25],[236,26,241,27],[236,28,241,29],[236,30,241,31],[236,32,241,33],[236,34,241,35],[236,36,241,37],[236,38,241,39],[233,62,239,63],[233,64,239,65],[233,66,239,67],[233,69,239,70],[233,71,239,72],[233,73,239,74],[233,48,239,49],[233,51,239,52],[233,53,239,54],[233,55,239,56],[233,57,239,58],[233,60,239,61],[230,34,235,35],[230,36,235,37],[230,38,235,39],[233,42,239,43],[233,44,239,45],[233,46,239,47],[230,1,235,3],[230,4,235,25],[230,26,235,27],[230,28,235,29],[230,30,235,31],[230,32,235,33],[226,64,232,65],[226,66,232,67],[226,69,232,70],[226,71,232,72],[226,73,232,74],[226,75,232,76],[226,51,232,52],[226,53,232,54],[226,55,232,56],[226,57,232,58],[226,60,232,61],[226,62,232,63],[224,36,229,37],[224,38,229,39],[226,42,232,43],[226,44,232,45],[226,46,232,47],[226,48,232,49],[224,1,229,3],[224,4,229,25],[224,26,229,27],[224,28,229,29],[224,30,229,31],[224,32,229,33],[219,69,225,70],[219,71,225,72],[219,73,225,74],[219,75,225,76],[221,30,223,31],[221,32,223,33],[221,34,223,35],[221,36,223,37],[221,38,223,39],[224,34,229,35],[219,55,225,56],[219,57,225,58],[219,60,225,61],[219,62,225,63],[219,64,225,65],[219,66,225,67],[219,42,225,43],[219,44,225,45],[219,46,225,47],[219,48,225,49],[219,51,225,52],[219,53,225,54],[212,66,218,67],[212,69,218,70],[212,71,218,72],[212,73,218,74],[212,75,218,76],[218,1,223,3],[218,4,223,25],[218,26,223,27],[218,28,223,29],[218,30,220,39],[212,53,218,54],[212,55,218,56],[212,57,218,58],[212,60,218,61],[212,62,218,63],[212,64,218,65],[205,75,211,76],[210,2,215,4],[210,5,215,7],[210,8,215,10],[210,12,215,22],[212,42,218,43],[212,44,218,45],[212,46,218,47],[212,48,218,49],[212,51,218,52],[205,62,211,63],[205,64,211,65],[205,66,211,67],[205,69,211,70],[205,71,211,72],[205,73,211,74],[205,48,211,49],[205,51,211,52],[205,53,211,54],[205,55,211,56],[205,57,211,58],[205,60,211,61],[202,33,207,34],[202,35,207,36],[202,37,207,38],[205,42,211,43],[205,44,211,45],[205,46,211,47],[202,21,207,22],[202,23,207,24],[202,25,207,26],[202,27,207,28],[202,29,207,30],[202,31,207,32],[198,69,204,70],[198,71,204,72],[198,73,204,74],[198,75,204,76],[202,2,207,4],[202,5,207,7],[202,8,207,10],[202,12,207,15],[202,16,207,18],[202,19,207,20],[198,55,204,56],[198,57,204,58],[198,60,204,61],[198,62,204,63],[198,64,204,65],[198,66,204,67],[198,42,204,43],[198,44,204,45],[198,46,204,47],[198,48,204,49],[198,51,204,52],[198,53,204,54],[194,27,199,28],[194,29,199,30],[194,31,199,32],[194,33,199,34],[194,35,199,36],[194,37,199,38],[191,75,197,76],[192,3,193,11],[194,2,199,4],[194,5,199,7],[194,12,199,15],[194,16,199,18],[194,19,199,20],[194,21,199,22],[194,23,199,24],[194,25,199,26],[191,62,197,63],[191,64,197,65],[191,66,197,67],[191,69,197,70],[191,71,197,72],[191,73,197,74],[191,48,197,49],[191,51,197,52],[191,53,197,54],[191,55,197,56],[191,57,197,58],[191,60,197,61],[184,69,190,70],[184,71,190,72],[184,73,190,74],[184,75,190,76],[185,1,187,11],[188,2,191,11],[189,23,192,36],[191,42,197,43],[191,44,197,45],[191,46,197,47],[184,55,190,56],[184,57,190,58],[184,60,190,61],[184,62,190,63],[184,64,190,65],[184,66,190,67],[177,73,183,74],[177,75,183,76],[180,1,184,11],[180,15,187,36],[184,42,190,43],[184,44,190,45],[184,46,190,47],[184,48,190,49],[184,51,190,52],[184,53,190,54],[177,60,183,61],[177,62,183,63],[177,64,183,65],[177,66,183,67],[177,69,183,70],[177,71,183,72],[177,46,183,47],[177,48,183,49],[177,51,183,52],[177,53,183,54],[177,55,183,56],[177,57,183,58],[170,71,176,72],[170,73,176,74],[170,75,176,76],[174,1,179,15],[174,16,179,33],[174,34,179,35],[174,36,179,37],[174,38,179,39],[177,42,183,43],[177,44,183,45],[170,57,176,58],[170,60,176,61],[170,62,176,63],[170,64,176,65],[170,66,176,67],[170,69,176,70],[170,44,176,45],[170,46,176,47],[170,48,176,49],[170,51,176,52],[170,53,176,54],[170,55,176,56],[163,69,169,70],[163,71,169,72],[163,73,169,74],[163,75,169,76],[168,1,173,15],[168,16,173,33],[168,34,173,35],[168,36,173,37],[168,38,173,39],[170,42,176,43],[163,55,169,56],[163,57,169,58],[163,60,169,61],[163,62,169,63],[163,64,169,65],[163,66,169,67],[163,42,169,43],[163,44,169,45],[163,46,169,47],[163,48,169,49],[163,51,169,52],[163,53,169,54],[156,75,162,76],[162,1,167,3],[162,4,167,25],[162,26,167,27],[162,28,167,29],[162,30,167,31],[162,32,167,33],[162,34,167,35],[162,36,167,37],[162,38,167,39],[156,62,162,63],[156,64,162,65],[156,66,162,67],[156,69,162,70],[156,71,162,72],[156,73,162,74],[156,48,162,49],[156,51,162,52],[156,53,162,54],[156,55,162,56],[156,57,162,58],[156,60,162,61],[156,34,161,35],[156,36,161,37],[156,38,161,39],[156,42,162,43],[156,44,162,45],[156,46,162,47],[156,1,161,3],[156,4,161,25],[156,26,161,27],[156,28,161,29],[156,30,161,31],[156,32,161,33],[149,75,155,76],[150,1,155,3],[150,4,155,25],[150,26,155,27],[150,28,155,29],[150,30,155,31],[150,32,155,33],[150,34,155,35],[150,36,155,37],[150,38,155,39],[149,62,155,63],[149,64,155,65],[149,66,155,67],[149,69,155,70],[149,71,155,72],[149,73,155,74],[149,48,155,49],[149,51,155,52],[149,53,155,54],[149,55,155,56],[149,57,155,58],[149,60,155,61],[144,34,149,35],[144,36,149,37],[144,38,149,39],[149,42,155,43],[149,44,155,45],[149,46,155,47],[142,69,148,70],[142,71,148,72],[142,73,148,74],[142,75,148,76],[144,1,149,3],[144,4,149,25],[144,26,149,27],[144,28,149,29],[144,30,149,31],[144,32,149,33],[142,55,148,56],[142,57,148,58],[142,60,148,61],[142,62,148,63],[142,64,148,65],[142,66,148,67],[142,42,148,43],[142,44,148,45],[142,46,148,47],[142,48,148,49],[142,51,148,52],[142,53,148,54],[135,75,141,76],[138,1,143,3],[138,4,143,25],[138,26,143,27],[138,28,143,29],[138,30,143,31],[138,32,143,33],[138,34,143,35],[138,36,143,37],[138,38,143,39],[135,62,141,63],[135,64,141,65],[135,66,141,67],[135,69,141,70],[135,71,141,72],[135,73,141,74],[135,48,141,49],[135,51,141,52],[135,53,141,54],[135,55,141,56],[135,57,141,58],[135,60,141,61],[132,34,137,35],[132,36,137,37],[132,38,137,39],[135,42,141,43],[135,44,141,45],[135,46,141,47],[128,69,134,70],[128,71,134,72],[128,73,134,74],[128,75,134,76],[132,1,137,3],[132,4,137,25],[132,26,137,27],[132,28,137,29],[132,30,137,31],[132,32,137,33],[128,55,134,56],[128,57,134,58],[128,60,134,61],[128,62,134,63],[128,64,134,65],[128,66,134,67],[128,42,134,43],[128,44,134,45],[128,46,134,47],[128,48,134,49],[128,51,134,52],[128,53,134,54],[121,75,127,76],[126,1,131,3],[126,4,131,25],[126,26,131,27],[126,28,131,29],[126,30,131,31],[126,32,131,33],[126,34,131,35],[126,36,131,37],[126,38,131,39],[121,62,127,63],[121,64,127,65],[121,66,127,67],[121,69,127,70],[121,71,127,72],[121,73,127,74],[121,48,127,49],[121,51,127,52],[121,53,127,54],[121,55,127,56],[121,57,127,58],[121,60,127,61],[120,34,125,35],[120,36,125,37],[120,38,125,39],[121,42,127,43],[121,44,127,45],[121,46,127,47],[120,1,125,3],[120,4,125,25],[120,26,125,27],[120,28,125,29],[120,30,125,31],[120,32,125,33],[114,64,120,65],[114,66,120,67],[114,69,120,70],[114,71,120,72],[114,73,120,74],[114,75,120,76],[114,51,120,52],[114,53,120,54],[114,55,120,56],[114,57,120,58],[114,60,120,61],[114,62,120,63],[114,36,119,37],[114,38,119,39],[114,42,120,43],[114,44,120,45],[114,46,120,47],[114,48,120,49],[108,34,113,35],[108,36,113,37],[108,38,113,39],[114,1,119,3],[114,4,119,25],[114,26,119,27],[114,28,119,29],[114,30,119,31],[114,32,119,33],[114,34,119,35],[107,69,113,70],[107,71,113,72],[107,73,113,74],[107,75,113,76],[108,1,113,3],[108,4,113,25],[108,26,113,27],[108,28,113,29],[108,30,113,31],[108,32,113,33],[107,55,113,56],[107,57,113,58],[107,60,113,61],[107,62,113,63],[107,64,113,65],[107,66,113,67],[107,42,113,43],[107,44,113,45],[107,46,113,47],[107,48,113,49],[107,51,113,52],[107,53,113,54],[100,75,106,76],[102,1,107,3],[102,4,107,25],[102,26,107,27],[102,28,107,29],[102,30,107,31],[102,32,107,33],[102,34,107,35],[102,36,107,37],[102,38,107,39],[100,62,106,63],[100,64,106,65],[100,66,106,67],[100,69,106,70],[100,71,106,72],[100,73,106,74],[100,48,106,49],[100,51,106,52],[100,53,106,54],[100,55,106,56],[100,57,106,58],[100,60,106,61],[96,34,101,35],[96,36,101,37],[96,38,101,39],[100,42,106,43],[100,44,106,45],[100,46,106,47],[93,69,99,70],[93,71,99,72],[93,73,99,74],[93,75,99,76],[96,1,101,3],[96,4,101,25],[96,26,101,27],[96,28,101,29],[96,30,101,31],[96,32,101,33],[93,55,99,56],[93,57,99,58],[93,60,99,61],[93,62,99,63],[93,64,99,65],[93,66,99,67],[93,42,99,43],[93,44,99,45],[93,46,99,47],[93,48,99,49],[93,51,99,52],[93,53,99,54],[86,75,92,76],[90,1,95,3],[90,4,95,25],[90,26,95,27],[90,28,95,29],[90,30,95,31],[90,32,95,33],[90,34,95,35],[90,36,95,37],[90,38,95,39],[86,62,92,63],[86,64,92,65],[86,66,92,67],[86,69,92,70],[86,71,92,72],[86,73,92,74],[86,48,92,49],[86,51,92,52],[86,53,92,54],[86,55,92,56],[86,57,92,58],[86,60,92,61],[84,34,89,35],[84,36,89,37],[84,38,89,39],[86,42,92,43],[86,44,92,45],[86,46,92,47],[79,69,85,70],[79,71,85,72],[79,73,85,74],[79,75,85,76],[84,1,89,3],[84,4,89,25],[84,26,89,27],[84,28,89,29],[84,30,89,31],[84,32,89,33],[79,55,85,56],[79,57,85,58],[79,60,85,61],[79,62,85,63],[79,64,85,65],[79,66,85,67],[79,42,85,43],[79,44,85,45],[79,46,85,47],[79,48,85,49],[79,51,85,52],[79,53,85,54],[72,75,78,76],[78,1,83,3],[78,4,83,25],[78,26,83,27],[78,28,83,29],[78,30,83,31],[78,32,83,33],[78,34,83,35],[78,36,83,37],[78,38,83,39],[72,62,78,63],[72,64,78,65],[72,66,78,67],[72,69,78,70],[72,71,78,72],[72,73,78,74],[72,48,78,49],[72,51,78,52],[72,53,78,54],[72,55,78,56],[72,57,78,58],[72,60,78,61],[72,34,77,35],[72,36,77,37],[72,38,77,39],[72,42,78,43],[72,44,78,45],[72,46,78,47],[72,1,77,3],[72,4,77,25],[72,26,77,27],[72,28,77,29],[72,30,77,31],[72,32,77,33],[65,75,71,76],[66,1,71,3],[66,4,71,25],[66,26,71,27],[66,28,71,29],[66,30,71,31],[66,32,71,33],[66,34,71,35],[66,36,71,37],[66,38,71,39],[65,62,71,63],[65,64,71,65],[65,66,71,67],[65,69,71,70],[65,71,71,72],[65,73,71,74],[65,48,71,49],[65,51,71,52],[65,53,71,54],[65,55,71,56],[65,57,71,58],[65,60,71,61],[60,34,65,35],[60,36,65,37],[60,38,65,39]],"merged_total":1177,"flags":["merged_cut"]}
[]
[null,"BASKETBALL　SCORE SHEET"]
[null," チ ー ム A :",null,null,null,null,null,null,null,null,null,null,"○○市立○○中学校",null,null,null,null,null,null,null,null,null,null,null,null,null,null,null,null,null,null,null,null,null,null,null,null,null,null,null,null,null," チ ー ム B :",null,null,null,null,null,"□□町立□□中学校"]
[]
[]
[null,"  Team A",null,null,null,null,null,null,null,null,null,null,null,null,null,null,null,null,null,null,null,null,null,null,null,null,null,null,null,null,null,null,null,null,null,null,null,null,null,null,null,null,"  Team B"]
[]
[null,"大会名",null,null,null,null,null,null,{"$f":"IF(印刷画面!C2=\"\",\"\",印刷画面!C2)","v":"春季大会"},null,null,null,null,null,null,null,null,null,null,null,null,null,null,"日付",null,null,"2020-04-26",null,null,null,null,null,null,null,"時間",null,null,"10:20:00",null,null,null,null,null,null,null,"クルーチーフ"]
[null,null,null,null,null,null,null,null,null,null,null,null,null,null,null,null,null,null,null,null,null,null,null,null,null,null,null,null,null,null,null,null,null,null,null,null,null,null,null,null,null,null,null,null,null,null,null,null,null,null,null,null,null,null,"◇◇　◇◇"]
[]
[null,"Competition",null,null,null,null,null,null,null,null,null,null,null,null,null,null,null,null,null,null,null,null,null,"Date",null,null,null,null,null,null,null,null,null,null,"Time",null,null,null,null,null,null,null,null,null,null,"Crew Chief"]
[null,null,null,null,null,null,null,null,null,null,null,null,null,null,null,null,null,null,null,null,null,null,null,"場所",null,null,null,null,null,null,null,null,null,null,null,null,null,null,null,null,null,null,null,null,null,"1st アンパイア",null,null,null,null,null,null,null,null,null,null,null,null,null,null,null,"2nd アンパイア"]
[null,"Game No.",null,null,null,null,null,null,null,null,null,"Ａ２",null,null,null,null,null,null,null,null,null,null,null,null,null,null,{"$f":"印刷画面!C4","v":"網走総合体育館"},null,null,null,null,null,null,null,null,null,null,null,null,null,null,null,null,null,null,null,null,null,null,null,null,null,"◇◇　◇◇",null,null,null,null,null,null,null,null,null,null,null,null,null,null,null,"◇◇　◇◇"]
[]
[null,null,null,null,null,null,null,null,null,null,null,null,null,null,null,null,null,null,null,null,null,null,null,"Place",null,null,null,null,null,null,null,null,null,null,null,null,null,null,null,null,null,null,null,null,null,"Unpire 1",null,null,null,null,null,null,null,null,null,null,null,null,null,null,null,"Unpire 2"]
[]
[null," チ ー ム A :",null,null,null,null,null,null,null,null,null,null,null,null,null,{"$f":"M3","v":"○○市立○○中学校"},null,null,null,null,null,null,null,null,null,null,null,null,null,null,null,null,null,null,null,null,null,null,null,null,null,null,"ラ ン ニ ン グ ･スコア　　   RUNNING SCORE"]
[]
[]
[]
[]
[null,"  Team A"]
[]
[null,null,null,null,null,null,null,null,null,null,null,null,null,null,null,null,null,null,null,null,null,null,null,null,null,null,null,null,null,null,null,null,null,null,null,null,null,null,null,null,null,null,"A",null,null,null,"B",null,null,null,null,"A",null,null,null,"B",null,null,null,null,"A",null,null,null,"B",null,null,null,null,"A",null,null,null,"B"]
[null,null,"タイムアウト"]
[null,null,null,null,null,null,null,null,null,null,null,null,null,null,null,null,null,null,null,null,null,null,null,"チームファール　Team fouls"]
[]
[]
[null,null,null,"Timeout"]
[]
[null,null,6,null,null,8,null,null,null,null,null,null,"ｸｫｰﾀｰ",null,null,null,"Quarter",null,null,"①",null,1,null,2,null,3,null,4,null,"②",null,1,null,2,null,3,null,4,null,null,null,null,null,null,1,null,1,null,null,null,null,null,null,41,null,41,null,null,null,null,null,null,81,null,81,null,null,null,null,null,null,121,null,121]
[]
[]
[]
[]
[]
[]
[null,null,null,null,null,null,null,null,null,null,null,null,null,null,null,null,null,null,null,null,null,null,null,null,null,null,null,null,null,null,null,null,null,null,null,null,null,null,null,null,null,null,null,null,{"$f":"AS31+1","v":2},null,{"$f":"AU31+1","v":2},null,null,null,null,null,null,42,null,42,null,null,null,null,null,null,82,null,82,null,null,null,null,null,null,122,null,122]
[null,null,null,null,null,7,null,null,null,null,null,null,"ｸｫｰﾀｰ",null,null,null,"Quarter",null,null,"③",null,1,null,2,null,3,null,4,null,"④",null,1,null,2,null,3,null,4]
[]
[]
[]
[]
[]
[null,null,null,null,null,null,null,null,null,null,null,null,null,null,null,null,null,null,null,null,null,null,null,null,null,null,null,null,null,null,null,null,null,null,null,null,null,null,null,null,null,null,null,null,{"$f":"AS38+1","v":3},null,{"$f":"AU38+1","v":3},null,null,null,null,null,null,43,null,43,null,null,null,null,null,null,83,null,83,null,null,null,null,null,null,123,null,123]
[]
[null,null,null,null,null,null,null,null,null,null,null,null,"ｵｰﾊﾞｰﾀｲﾑ　Overtime"]
[]
[]
[]
[]
[null,null,null,null,null,null,null,null,null,null,null,null,null,null,null,null,null,null,null,null,null,null,null,null,null,null,null,null,null,null,null,null,null,null,null,null,null,null,null,null,null,null,null,null,{"$f":"AS45+1","v":4},null,{"$f":"AU45+1","v":4},null,null,null,null,null,null,44,null,44,null,null,null,null,null,null,84,null,84,null,null,null,null,null,null,124,null,124]
[]
[]
[null,"No.",null,null,"選手氏名 Players",null,null,null,null,null,null,null,null,null,null,null,null,null,null,null,null,null,null,null,null,null,"No.",null,"Pl-in",null,"ファウル Fouls"]
[]
[]
[null,null,null,null,null,null,null,null,null,null,null,null,null,null,null,null,null,null,null,null,null,null,null,null,null,null,null,null,null,null,1,null,2,null,3,null,4,null,5]
[null,null,null,null,null,null,null,null,null,null,null,null,null,null,null,null,null,null,null,null,null,null,null,null,null,null,null,null,null,null,null,null,null,null,null,null,null,null,null,null,null,null,null,null,{"$f":"AS52+1","v":5},null,{"$f":"AU52+1","v":5},null,null,null,null,null,null,45,null,45,null,null,null,null,null,null,85,null,85,null,null,null,null,null,null,125,null,125]
[]
[null,1,null,null,"　　　　　○○　○○（CAP)",null,null,null,null,null,null,null,null,null,null,null,null,null,null,null,null,null,null,null,null,null,4,null,"✕",null,"P"]
[]
[]
[]
[]
[null,null,null,null,null,null,null,null,null,null,null,null,null,null,null,null,null,null,null,null,null,null,null,null,null,null,null,null,null,null,null,null,null,null,null,null,null,null,null,null,null,null,null,null,6,null,6,null,null,null,null,null,null,46,null,46,null,null,null,null,null,null,86,null,86,null,null,null,null,null,null,126,null,126]
[null,2,null,null,"○○　○○",null,null,null,null,null,null,null,null,null,null,null,null,null,null,null,null,null,null,null,null,null,5,null,"✕",null,"P１",null,"P",null,"P"]
[]
[]
[]
[]
[]
[null,3,null,null,"○○　○○",null,null,null,null,null,null,null,null,null,null,null,null,null,null,null,null,null,null,null,null,null,6,null,"✕",null,"P１",null,"P",null,"P",null,null,null,null,null,null,null,null,null,7,null,7,null,null,null,null,null,null,47,null,47,null,null,null,null,null,null,87,null,87,null,null,null,null,null,null,127,null,127]
[]
[]
[]
[]
[]
[null,4,null,null,"○○　○○",null,null,null,null,null,null,null,null,null,null,null,null,null,null,null,null,null,null,null,null,null,7,null,"✕",null,"P１"]
[null,null,null,null,null,null,null,null,null,null,null,null,null,null,null,null,null,null,null,null,null,null,null,null,null,null,null,null,null,null,null,null,null,null,null,null,null,null,null,null,null,null,null,null,8,null,8,null,null,null,null,null,null,48,null,48,null,null,null,null,null,null,88,null,88,null,null,null,null,null,null,128,null,128]
[]
[]
[]
[]
[null,5,null,null,"○○　○○",null,null,null,null,null,null,null,null,null,null,null,null,null,null,null,null,null,null,null,null,null,8,null,"✕"]
[]
[null,null,null,null,null,null,null,null,null,null,null,null,null,null,null,null,null,null,null,null,null,null,null,null,null,null,null,null,null,null,null,null,null,null,null,null,null,null,null,null,null,null,null,null,9,null,9,null,null,null,null,null,null,49,null,49,null,null,null,null,null,null,89,null,89,null,null,null,null,null,null,129,null,129]
[]
[]
[]
[null,6,null,null,"○○　○○",null,null,null,null,null,null,null,null,null,null,null,null,null,null,null,null,null,null,null,null,null,9,null,"✕",null,"P１"]
[]
[]
[null,null,null,null,null,null,null,null,null,null,null,null,null,null,null,null,null,null,null,null,null,null,null,null,null,null,null,null,null,null,null,null,null,null,null,null,null,null,null,null,null,null,null,null,10,null,10,null,null,null,null,null,null,50,null,50,null,null,null,null,null,null,90,null,90,null,null,null,null,null,null,130,null,130]
[]
[]
[null,7,null,null,"○○　○○",null,null,null,null,null,null,null,null,null,null,null,null,null,null,null,null,null,null,null,null,null,10,null,"✕"]
[]
[]
[]
[null,null,null,null,null,null,null,null,null,null,null,null,null,null,null,null,null,null,null,null,null,null,null,null,null,null,null,null,null,null,null,null,null,null,null,null,null,null,null,null,null,null,null,null,11,null,11,null,null,null,null,null,null,51,null,51,null,null,null,null,null,null,91,null,91,null,null,null,null,null,null,131,null,131]
[]
[null,8,null,null,"○○　○○",null,null,null,null,null,null,null,null,null,null,null,null,null,null,null,null,null,null,null,null,null,11]
[]
[]
[]
[]
[null,null,null,null,null,null,null,null,null,null,null,null,null,null,null,null,null,null,null,null,null,null,null,null,null,null,null,null,null,null,null,null,null,null,null,null,null,null,null,null,null,null,null,null,12,null,12,null,null,null,null,null,null,52,null,52,null,null,null,null,null,null,92,null,92,null,null,null,null,null,null,132,null,132]
[null,9,null,null,"○○　○○",null,null,null,null,null,null,null,null,null,null,null,null,null,null,null,null,null,null,null,null,null,12,null,"✕",null,"T２"]
[]
[]
[]
[]
[]
[null,10,null,null,"○○　○○",null,null,null,null,null,null,null,null,null,null,null,null,null,null,null,null,null,null,null,null,null,13,null,"✕",null,"U１",null,null,null,null,null,null,null,null,null,null,null,null,null,13,null,13,null,null,null,null,null,null,53,null,53,null,null,null,null,null,null,93,null,93,null,null,null,null,null,null,133,null,133]
[]
[]
[]
[]
[]
[null,11,null,null,"○○　○○",null,null,null,null,null,null,null,null,null,null,null,null,null,null,null,null,null,null,null,null,null,14,null,"✕"]
[null,null,null,null,null,null,null,null,null,null,null,null,null,null,null,null,null,null,null,null,null,null,null,null,null,null,null,null,null,null,null,null,null,null,null,null,null,null,null,null,null,null,null,null,14,null,14,null,null,null,null,null,null,54,null,54,null,null,null,null,null,null,94,null,94,null,null,null,null,null,null,134,null,134]
[]
[]
[]
[]
[null,12,null,null,"○○　○○",null,null,null,null,null,null,null,null,null,null,null,null,null,null,null,null,null,null,null,null,null,15,null,"✕"]
[]
[null,null,null,null,null,null,null,null,null,null,null,null,null,null,null,null,null,null,null,null,null,null,null,null,null,null,null,null,null,null,null,null,null,null,null,null,null,null,null,null,null,null,null,null,15,null,15,null,null,null,null,null,null,55,null,55,null,null,null,null,null,null,95,null,95,null,null,null,null,null,null,135,null,135]
[]
[]
[]
[null,13,null,null,{"$f":"IF(データ管理!AC$75=0,\"\",データ管理!AC$75)","v":""},null,null,null,null,null,null,null,null,null,null,null,null,null,null,null,null,null,null,null,null,null,16]
[]
[]
[null,null,null,null,null,null,null,null,null,null,null,null,null,null,null,null,null,null,null,null,null,null,null,null,null,null,null,null,null,null,null,null,null,null,null,null,null,null,null,null,null,null,null,null,16,null,16,null,null,null,null,null,null,56,null,56,null,null,null,null,null,null,96,null,96,null,null,null,null,null,null,136,null,136]
[]
[]
[null,14,null,null,{"$f":"IF(データ管理!AE$75=0,\"\",データ管理!AE$75)","v":""},null,null,null,null,null,null,null,null,null,null,null,null,null,null,null,null,null,null,null,null,null,17]
[]
[]
[]
[null,null,null,null,null,null,null,null,null,null,null,null,null,null,null,null,null,null,null,null,null,null,null,null,null,null,null,null,null,null,null,null,null,null,null,null,null,null,null,null,null,null,null,null,17,null,17,null,null,null,null,null,null,57,null,57,null,null,null,null,null,null,97,null,97,null,null,null,null,null,null,137,null,137]
[]
[null,15,null,null,{"$f":"IF(データ管理!AG$75=0,\"\",データ管理!AG$75)","v":""},null,null,null,null,null,null,null,null,null,null,null,null,null,null,null,null,null,null,null,null,null,18]
[]
[]
[]
[]
[null,null,null,null,null,null,null,null,null,null,null,null,null,null,null,null,null,null,null,null,null,null,null,null,null,null,null,null,null,null,null,null,null,null,null,null,null,null,null,null,null,null,null,null,18,null,18,null,null,null,null,null,null,58,null,58,null,null,null,null,null,null,98,null,98,null,null,null,null,null,null,138,null,138]
[null,16]
[]
[]
[]
[]
[]
[null,17,null,null,null,null,null,null,null,null,null,null,null,null,null,null,null,null,null,null,null,null,null,null,null,null,null,null,null,null,null,null,null,null,null,null,null,null,null,null,null,null,null,null,19,null,19,null,null,null,null,null,null,59,null,59,null,null,null,null,null,null,99,null,99,null,null,null,null,null,null,139,null,139]
[]
[]
[]
[]
[]
[null,18]
[null,null,null,null,null,null,null,null,null,null,null,null,null,null,null,null,null,null,null,null,null,null,null,null,null,null,null,null,null,null,null,null,null,null,null,null,null,null,null,null,null,null,null,null,20,null,20,null,null,null,null,null,null,60,null,60,null,null,null,null,null,null,100,null,100,null,null,null,null,null,null,140,null,140]
[]
[]
[]
[]
[null,"コーチ Coach:",null,null,null,null,null,null,null,null,null,null,null,null,null,null,{"$f":"IF(データ管理!C$75=\"\",\"\",データ管理!C$75)","v":0}]
[]
[null,null,null,null,null,null,null,null,null,null,null,null,null,null,null,null,null,null,null,null,null,null,null,null,null,null,null,null,null,null,null,null,null,null,null,null,null,null,null,null,null,null,null,null,21,null,21,null,null,null,null,null,null,61,null,61,null,null,null,null,null,null,101,null,101,null,null,null,null,null,null,141,null,141]
[]
[]
[]
[null,"A.コーチ A. Coach:",null,null,null,null,null,null,null,null,null,null,null,null,null,null,{"$f":"IF(データ管理!D$75=\"\",\"\",データ管理!D$75)","v":0}]
[]
[]
[null,null,null,null,null,null,null,null,null,null,null,null,null,null,null,null,null,null,null,null,null,null,null,null,null,null,null,null,null,null,null,null,null,null,null,null,null,null,null,null,null,null,null,null,22,null,22,null,null,null,null,null,null,62,null,62,null,null,null,null,null,null,102,null,102,null,null,null,null,null,null,142,null,142]
[]
[]
[null," チ ー ム B :",null,null,null,null,null,null,null,null,null,null,null,null,null,{"$f":"AW3","v":"□□町立□□中学校"}]
[]
[]
[]
[null,null,null,null,null,null,null,null,null,null,null,null,null,null,null,null,null,null,null,null,null,null,null,null,null,null,null,null,null,null,null,null,null,null,null,null,null,null,null,null,null,null,null,null,23,null,23,null,null,null,null,null,null,63,null,63,null,null,null,null,null,null,103,null,103,null,null,null,null,null,null,143,null,143]
[null,"  Team B"]
[]
[]
[null,null,"タイムアウト"]
[null,null,null,null,null,null,null,null,null,null,null,null,null,null,null,null,null,null,null,null,null,null,null,"チームファール　Team fouls"]
[]
[null,null,null,null,null,null,null,null,null,null,null,null,null,null,null,null,null,null,null,null,null,null,null,null,null,null,null,null,null,null,null,null,null,null,null,null,null,null,null,null,null,null,null,null,24,null,24,null,null,null,null,null,null,64,null,64,null,null,null,null,null,null,104,null,104,null,null,null,null,null,null,144,null,144]
[null,null,null,"Timeout"]
[]
[null,null,null,null,null,null,null,null,null,null,null,null,"ｸｫｰﾀｰ",null,null,null,"Quarter",null,null,"①",null,1,null,2,null,3,null,4,null,"②",null,1,null,2,null,3,null,4]
[]
[]
[]
[null,null,null,null,null,null,null,null,null,null,null,null,null,null,null,null,null,null,null,null,null,null,null,null,null,null,null,null,null,null,null,null,null,null,null,null,null,null,null,null,null,null,null,null,25,null,25,null,null,null,null,null,null,65,null,65,null,null,null,null,null,null,105,null,105,null,null,null,null,null,null,145,null,145]
[]
[]
[]
[null,null,null,null,null,null,null,null,null,null,null,null,"ｸｫｰﾀｰ",null,null,null,"Quarter",null,null,"③",null,1,null,2,null,3,null,4,null,"④",null,1,null,2,null,3,null,4]
[]
[]
[null,null,null,null,null,null,null,null,null,null,null,null,null,null,null,null,null,null,null,null,null,null,null,null,null,null,null,null,null,null,null,null,null,null,null,null,null,null,null,null,null,null,null,null,26,null,26,null,null,null,null,null,null,66,null,66,null,null,null,null,null,null,106,null,106,null,null,null,null,null,null,146,null,146]
[]
[]
[]
[]
[null,null,null,null,null,null,null,null,null,null,null,null,"ｵｰﾊﾞｰﾀｲﾑ　Overtime"]
[]
[null,null,null,null,null,null,null,null,null,null,null,null,null,null,null,null,null,null,null,null,null,null,null,null,null,null,null,null,null,null,null,null,null,null,null,null,null,null,null,null,null,null,null,null,27,null,27,null,null,null,null,null,null,67,null,67,null,null,null,null,null,null,107,null,107,null,null,null,null,null,null,147,null,147]
[]
[]
[]
[]
[]
[null,"No.",null,null,"選手氏名 Players",null,null,null,null,null,null,null,null,null,null,null,null,null,null,null,null,null,null,null,null,null,"No.",null,"Pl-in",null,"ファウル Fouls"]
[null,null,null,null,null,null,null,null,null,null,null,null,null,null,null,null,null,null,null,null,null,null,null,null,null,null,null,null,null,null,null,null,null,null,null,null,null,null,null,null,null,null,null,null,28,null,28,null,null,null,null,null,null,68,null,68,null,null,null,null,null,null,108,null,108,null,null,null,null,null,null,148,null,148]
[]
[null,null,null,null,null,null,null,null,null,null,null,null,null,null,null,null,null,null,null,null,null,null,null,null,null,null,null,null,null,null,1,null,2,null,3,null,4,null,5]
[]
[]
[null,1,null,null,{"$f":"IF(データ管理!E$76=0,\"\",データ管理!E$76)","v":""},null,null,null,null,null,null,null,null,null,null,null,null,null,null,null,null,null,null,null,null,null,4]
[]
[null,null,null,null,null,null,null,null,null,null,null,null,null,null,null,null,null,null,null,null,null,null,null,null,null,null,null,null,null,null,null,null,null,null,null,null,null,null,null,null,null,null,null,null,29,null,29,null,null,null,null,null,null,69,null,69,null,null,null,null,null,null,109,null,109,null,null,null,null,null,null,149,null,149]
[]
[]
[]
[null,2,null,null,{"$f":"IF(データ管理!G$76=0,\"\",データ管理!G$76)","v":""},null,null,null,null,null,null,null,null,null,null,null,null,null,null,null,null,null,null,null,null,null,5]
[]
[]
[null,null,null,null,null,null,null,null,null,null,null,null,null,null,null,null,null,null,null,null,null,null,null,null,null,null,null,null,null,null,null,null,null,null,null,null,null,null,null,null,null,null,null,null,30,null,30,null,null,null,null,null,null,70,null,70,null,null,null,null,null,null,110,null,110,null,null,null,null,null,null,150,null,150]
[]
[]
[null,3,null,null,{"$f":"IF(データ管理!I$76=0,\"\",データ管理!I$76)","v":""},null,null,null,null,null,null,null,null,null,null,null,null,null,null,null,null,null,null,null,null,null,6]
[]
[]
[]
[null,null,null,null,null,null,null,null,null,null,null,null,null,null,null,null,null,null,null,null,null,null,null,null,null,null,null,null,null,null,null,null,null,null,null,null,null,null,null,null,null,null,null,null,31,null,31,null,null,null,null,null,null,71,null,71,null,null,null,null,null,null,111,null,111,null,null,null,null,null,null,151,null,151]
[]
[null,4,null,null,{"$f":"IF(データ管理!K$76=0,\"\",データ管理!K$76)","v":""},null,null,null,null,null,null,null,null,null,null,null,null,null,null,null,null,null,null,null,null,null,7]
[]
[]
[]
[]
[null,null,null,null,null,null,null,null,null,null,null,null,null,null,null,null,null,null,null,null,null,null,null,null,null,null,null,null,null,null,null,null,null,null,null,null,null,null,null,null,null,null,null,null,32,null,32,null,null,null,null,null,null,72,null,72,null,null,null,null,null,null,112,null,112,null,null,null,null,null,null,152,null,152]
[null,5,null,null,{"$f":"IF(データ管理!M$76=0,\"\",データ管理!M$76)","v":""},null,null,null,null,null,null,null,null,null,null,null,null,null,null,null,null,null,null,null,null,null,8]
[]
[]
[]
[]
[]
[null,6,null,null,{"$f":"IF(データ管理!O$76=0,\"\",データ管理!O$76)","v":""},null,null,null,null,null,null,null,null,null,null,null,null,null,null,null,null,null,null,null,null,null,9,null,null,null,null,null,null,null,null,null,null,null,null,null,null,null,null,null,33,null,33,null,null,null,null,null,null,73,null,73,null,null,null,null,null,null,113,null,113,null,null,null,null,null,null,153,null,153]
[]
[]
[]
[]
[]
[null,7,null,null,{"$f":"IF(データ管理!Q$76=0,\"\",データ管理!Q$76)","v":""},null,null,null,null,null,null,null,null,null,null,null,null,null,null,null,null,null,null,null,null,null,10]
[null,null,null,null,null,null,null,null,null,null,null,null,null,null,null,null,null,null,null,null,null,null,null,null,null,null,null,null,null,null,null,null,null,null,null,null,null,null,null,null,null,null,null,null,34,null,34,null,null,null,null,null,null,74,null,74,null,null,null,null,null,null,114,null,114,null,null,null,null,null,null,154,null,154]
[]
[]
[]
[]
[null,8,null,null,{"$f":"IF(データ管理!S$76=0,\"\",データ管理!S$76)","v":""},null,null,null,null,null,null,null,null,null,null,null,null,null,null,null,null,null,null,null,null,null,11]
[]
[null,null,null,null,null,null,null,null,null,null,null,null,null,null,null,null,null,null,null,null,null,null,null,null,null,null,null,null,null,null,null,null,null,null,null,null,null,null,null,null,null,null,null,null,35,null,35,null,null,null,null,null,null,75,null,75,null,null,null,null,null,null,115,null,115,null,null,null,null,null,null,155,null,155]
[]
[]
[]
[null,9,null,null,{"$f":"IF(データ管理!U$76=0,\"\",データ管理!U$76)","v":""},null,null,null,null,null,null,null,null,null,null,null,null,null,null,null,null,null,null,null,null,null,12]
[]
[]
[null,null,null,null,null,null,null,null,null,null,null,null,null,null,null,null,null,null,null,null,null,null,null,null,null,null,null,null,null,null,null,null,null,null,null,null,null,null,null,null,null,null,null,null,36,null,36,null,null,null,null,null,null,76,null,76,null,null,null,null,null,null,116,null,116,null,null,null,null,null,null,156,null,156]
[]
[]
[null,10,null,null,{"$f":"IF(データ管理!W$76=0,\"\",データ管理!W$76)","v":""},null,null,null,null,null,null,null,null,null,null,null,null,null,null,null,null,null,null,null,null,null,13]
[]
[]
[]
[null,null,null,null,null,null,null,null,null,null,null,null,null,null,null,null,null,null,null,null,null,null,null,null,null,null,null,null,null,null,null,null,null,null,null,null,null,null,null,null,null,null,null,null,37,null,37,null,null,null,null,null,null,77,null,77,null,null,null,null,null,null,117,null,117,null,null,null,null,null,null,157,null,157]
[]
[null,11,null,null,{"$f":"IF(データ管理!Y$76=0,\"\",データ管理!Y$76)","v":""},null,null,null,null,null,null,null,null,null,null,null,null,null,null,null,null,null,null,null,null,null,14]
[]
[]
[]
[]
[null,null,null,null,null,null,null,null,null,null,null,null,null,null,null,null,null,null,null,null,null,null,null,null,null,null,null,null,null,null,null,null,null,null,null,null,null,null,null,null,null,null,null,null,38,null,38,null,null,null,null,null,null,78,null,78,null,null,null,null,null,null,118,null,118,null,null,null,null,null,null,158,null,158]
[null,12,null,null,{"$f":"IF(データ管理!AA$76=0,\"\",データ管理!AA$76)","v":""},null,null,null,null,null,null,null,null,null,null,null,null,null,null,null,null,null,null,null,null,null,15]
[]
[]
[]
[]
[]
[null,13,null,null,{"$f":"IF(データ管理!AC$76=0,\"\",データ管理!AC$76)","v":""},null,null,null,null,null,null,null,null,null,null,null,null,null,null,null,null,null,null,null,null,null,16,null,null,null,null,null,null,null,null,null,null,null,null,null,null,null,null,null,39,null,39,null,null,null,null,null,null,79,null,79,null,null,null,null,null,null,119,null,119,null,null,null,null,null,null,159,null,159]
[]
[]
[]
[]
[]
[null,14,null,null,{"$f":"IF(データ管理!AE$76=0,\"\",データ管理!AE$76)","v":""},null,null,null,null,null,null,null,null,null,null,null,null,null,null,null,null,null,null,null,null,null,17]
[null,null,null,null,null,null,null,null,null,null,null,null,null,null,null,null,null,null,null,null,null,null,null,null,null,null,null,null,null,null,null,null,null,null,null,null,null,null,null,null,null,null,null,null,40,null,40,null,null,null,null,null,null,80,null,80,null,null,null,null,null,null,120,null,120,null,null,null,null,null,null,160,null,160]
[]
[]
[]
[]
[null,15,null,null,{"$f":"IF(データ管理!AG$76=0,\"\",データ管理!AG$76)","v":""},null,null,null,null,null,null,null,null,null,null,null,null,null,null,null,null,null,null,null,null,null,18]
[]
[]
[]
[]
[null,null,null,null,null,null,null,null,null,null,null,null,null,null,null,null,null,null,null,null,null,null,null,null,null,null,null,null,null,null,null,null,null,null,null,null,null,null,null,null,null,null,null,"スコア",null,null,null,null,"第１クォーター",null,null,null,null,null,null,null,null,null,null,"Ａ",null,null,null,null,null,null,null,null,"Ｂ"]
[null,16]
[]
[]
[]
[null,null,null,null,null,null,null,null,null,null,null,null,null,null,null,null,null,null,null,null,null,null,null,null,null,null,null,null,null,null,null,null,null,null,null,null,null,null,null,null,null,null,null,null,null,null,null,null,"Quarter 1"]
[null,null,null,null,null,null,null,null,null,null,null,null,null,null,null,null,null,null,null,null,null,null,null,null,null,null,null,null,null,null,null,null,null,null,null,null,null,null,null,null,null,null,null,"Score"]
[null,17]
[]
[]
[null,null,null,null,null,null,null,null,null,null,null,null,null,null,null,null,null,null,null,null,null,null,null,null,null,null,null,null,null,null,null,null,null,null,null,null,null,null,null,null,null,null,null,null,null,null,null,null,"第２クォーター",null,null,null,null,null,null,null,null,null,null,"Ａ",null,null,null,null,null,null,null,null,"Ｂ"]
[]
[]
[null,18]
[]
[null,null,null,null,null,null,null,null,null,null,null,null,null,null,null,null,null,null,null,null,null,null,null,null,null,null,null,null,null,null,null,null,null,null,null,null,null,null,null,null,null,null,null,null,null,null,null,null,"Quarter 2"]
[]
[]
[]
[null,"コーチ Coach:",null,null,null,null,null,null,null,null,null,null,null,null,null,null,{"$f":"IF(データ管理!C$76=\"\",\"\",データ管理!C$76)","v":0}]
[null,null,null,null,null,null,null,null,null,null,null,null,null,null,null,null,null,null,null,null,null,null,null,null,null,null,null,null,null,null,null,null,null,null,null,null,null,null,null,null,null,null,null,null,null,null,null,null,"第３クォーター",null,null,null,null,null,null,null,null,null,null,"Ａ",null,null,null,null,null,null,null,null,"Ｂ"]
[]
[]
[]
[]
[null,"A.コーチ A. Coach:",null,null,null,null,null,null,null,null,null,null,null,null,null,null,{"$f":"IF(データ管理!D$76=\"\",\"\",データ管理!D$76)","v":0},null,null,null,null,null,null,null,null,null,null,null,null,null,null,null,null,null,null,null,null,null,null,null,null,null,null,null,null,null,null,null,"Quarter 3"]
[]
[]
[]
[]
[null,null,null,null,null,null,null,null,null,null,null,null,null,null,null,null,null,null,null,null,null,null,null,null,null,null,null,null,null,null,null,null,null,null,null,null,null,null,null,null,null,null,null,null,null,null,null,null,"第４クォーター",null,null,null,null,null,null,null,null,null,null,"Ａ",null,null,null,null,null,null,null,null,"Ｂ"]
[null,"スコアラー Scorrer"]
[]
[]
[]
[null,null,null,null,null,null,null,null,null,null,null,null,null,null,null,null,null,null,null,null,null,null,null,null,null,null,null,null,null,null,null,null,null,null,null,null,null,null,null,null,null,null,null,null,null,null,null,null,"Quarter 4"]
[]
[]
[null,"A.スコアラー A. Scorrer"]
[]
[null,null,null,null,null,null,null,null,null,null,null,null,null,null,null,null,null,null,null,null,null,null,null,null,null,null,null,null,null,null,null,null,null,null,null,null,null,null,null,null,null,null,null,null,null,null,null,null,"オーバータイム",null,null,null,null,null,null,null,null,null,null,"Ａ",null,null,null,null,null,null,null,null,"Ｂ"]
[]
[]
[]
[]
[null,"タイマー Timer",null,null,null,null,null,null,null,null,null,null,null,null,null,null,null,null,null,null,null,null,null,null,null,null,null,null,null,null,null,null,null,null,null,null,null,null,null,null,null,null,null,null,null,null,null,null,"Overtime"]
[]
[]
[]
[]
[]
[null,null,null,null,null,null,null,null,null,null,null,null,null,null,null,null,null,null,null,null,null,null,null,null,null,null,null,null,null,null,null,null,null,null,null,null,null,null,null,null,null,null," 最終スコア Final Score",null,null,null,null,null,null,null,null,null,null,null,null,null,null,null,null,"A",null,null,null,null,null,null,null,"－",null,null,null,null,null,null,null,"B"]
[null,"ｼｮｯﾄｸﾛｯｸｵﾍﾟﾚｰﾀ SC Operator"]
[]
[]
[]
[]
[]
[]
[]
[]
[null,"クルーチーフ",null,null,null,null,null,null,null,null,null,null,null,null,null,null,null,null,null,null,null,null,null,null,null,null,null,null,null,null,null,null,null,null,null,null,null,null,null,null,null,null," 勝者チーム Name of Winning Team"]
[]
[]
[null," Crew Chief"]
[]
[null,"1st アンパイア",null,null,null,null,null,null,null,null,null,null,null,null,null,null,null,null,null,null,null,null,null,"2nd アンパイア"]
[null,null,null,null,null,null,null,null,null,null,null,null,null,null,null,null,null,null,null,null,null,null,null,null,null,null,null,null,null,null,null,null,null,null,null,null,null,null,null,null,null,null," 試合終了時間 Game ended at (hh:mm)"]
[]
[null," Unpire 1",null,null,null,null,null,null,null,null,null,null,null,null,null,null,null,null,null,null,null,null,null," Unpire 2"]

{"sheet":"選手名簿","index":3,"n_rows":575,"n_cols":26,"rows_kept":575,"cut":false,"hidden":false,"merged":[[1,19,1,20],[2,19,2,20],[5,19,5,20],[1,1,1,2],[6,3,6,7],[7,1,7,2],[6,1,6,2],[4,1,4,2],[4,3,4,7],[5,1,5,2],[5,3,5,7],[1,4,1,7],[1,10,1,11],[2,1,2,2],[2,3,2,7],[3,1,3,2],[3,3,3,7],[1,13,1,16],[6,10,6,11],[5,12,5,16],[7,10,7,11],[2,12,2,16],[3,12,3,16],[4,12,4,16],[26,21,26,25],[27,1,27,2],[27,3,27,7],[27,10,27,11],[27,12,27,16],[27,19,27,20],[27,21,27,25],[2,21,2,25],[3,19,3,20],[3,21,3,25],[4,19,4,20],[4,21,4,25],[5,21,5,25],[6,19,6,20],[6,21,6,25],[7,19,7,20],[25,1,25,2],[25,10,25,11],[25,19,25,20],[26,1,26,2],[2,10,2,11],[3,10,3,11],[4,10,4,11],[5,10,5,11],[50,3,50,7],[50,10,50,11],[50,12,50,16],[50,19,50,20],[26,3,26,7],[26,10,26,11],[26,12,26,16],[29,19,29,20],[28,1,28,2],[28,3,28,7],[28,10,28,11],[28,12,28,16],[26,19,26,20],[28,19,28,20],[52,3,52,7],[52,10,52,11],[52,12,52,16],[52,19,52,20],[52,21,52,25],[28,21,28,25],[29,1,29,2],[29,3,29,7],[29,10,29,11],[29,12,29,16],[29,21,29,25],[30,1,30,2],[30,3,30,7],[30,10,30,11],[30,12,30,16],[30,19,30,20],[30,21,30,25],[31,1,31,2],[31,10,31,11],[31,19,31,20],[49,1,49,2],[49,10,49,11],[49,19,49,20],[50,1,50,2],[50,21,50,25],[74,21,74,25],[53,1,53,2],[53,3,53,7],[53,10,53,11],[53,12,53,16],[53,19,53,20],[53,21,53,25],[54,1,54,2],[54,3,54,7],[54,10,54,11],[54,12,54,16],[54,19,54,20],[54,21,54,25],[55,1,55,2],[55,10,55,11],[55,19,55,20],[51,1,51,2],[51,3,51,7],[51,10,51,11],[51,12,51,16],[51,19,51,20],[51,21,51,25],[52,1,52,2],[77,21,77,25],[78,1,78,2],[78,3,78,7],[78,10,78,11],[78,12,78,16],[78,19,78,20],[78,21,78,25],[76,21,76,25],[75,1,75,2],[75,3,75,7],[75,10,75,11],[75,12,75,16],[75,19,75,20],[75,21,75,25],[76,1,76,2],[76,3,76,7],[76,10,76,11],[76,12,76,16],[76,19,76,20],[99,21,99,25],[100,1,100,2],[100,3,100,7],[100,10,100,11],[100,12,100,16],[100,19,100,20],[100,21,100,25],[79,1,79,2],[79,10,79,11],[79,19,79,20],[97,1,97,2],[97,10,97,11],[97,19,97,20],[98,1,98,2],[98,3,98,7],[98,10,98,11],[98,12,98,16],[98,19,98,20],[98,21,98,25],[123,1,123,2],[123,3,123,7],[123,10,123,11],[123,12,123,16],[123,19,123,20],[123,21,123,25],[102,21,102,25],[101,1,101,2],[101,3,101,7],[101,10,101,11],[101,12,101,16],[101,19,101,20],[101,21,101,25],[121,1,121,2],[121,10,121,11],[121,19,121,20],[122,1,122,2],[122,3,122,7],[122,10,122,11],[122,12,122,16],[122,19,122,20],[122,21,122,25],[103,1,103,2],[103,10,103,11],[103,19,103,20],[73,1,73,2],[73,10,73,11],[102,1,102,2],[102,3,102,7],[102,10,102,11],[102,12,102,16],[102,19,102,20],[99,1,99,2],[99,3,99,7],[99,10,99,11],[99,12,99,16],[99,19,99,20],[77,1,77,2],[77,3,77,7],[77,10,77,11],[77,12,77,16],[77,19,77,20],[73,19,73,20],[74,1,74,2],[74,3,74,7],[74,10,74,11],[74,12,74,16],[74,19,74,20],[124,21,124,25],[126,21,126,25],[125,1,125,2],[125,3,125,7],[125,10,125,11],[125,12,125,16],[125,19,125,20],[125,21,125,25],[126,1,126,2],[126,3,126,7],[127,1,127,2],[127,10,127,11],[127,19,127,20],[145,1,145,2],[145,10,145,11],[145,19,145,20],[124,1,124,2],[124,3,124,7],[124,10,124,11],[124,12,124,16],[124,19,124,20],[126,10,126,11],[126,12,126,16],[126,19,126,20],[147,21,147,25],[146,1,146,2],[146,3,146,7],[146,10,146,11],[146,12,146,16],[146,19,146,20],[146,21,146,25],[147,1,147,2],[147,3,147,7],[147,10,147,11],[147,12,147,16],[147,19,147,20],[148,21,148,25],[150,21,150,25],[149,1,149,2],[149,3,149,7],[149,10,149,11],[149,12,149,16],[149,19,149,20],[149,21,149,25],[150,1,150,2],[150,3,150,7],[151,1,151,2],[151,10,151,11],[151,19,151,20],[169,1,169,2],[169,10,169,11],[169,19,169,20],[148,1,148,2],[148,3,148,7],[148,10,148,11],[148,12,148,16],[148,19,148,20],[150,10,150,11],[150,12,150,16],[150,19,150,20],[171,21,171,25],[170,1,170,2],[170,3,170,7],[170,10,170,11],[170,12,170,16],[170,19,170,20],[170,21,170,25],[171,1,171,2],[171,3,171,7],[171,10,171,11],[171,12,171,16],[171,19,171,20],[172,21,172,25],[174,21,174,25],[173,1,173,2],[173,3,173,7],[173,10,173,11],[173,12,173,16],[173,19,173,20],[173,21,173,25],[174,1,174,2],[174,3,174,7],[175,1,175,2],[175,10,175,11],[175,19,175,20],[193,1,193,2],[193,10,193,11],[193,19,193,20],[172,1,172,2],[172,3,172,7],[172,10,172,11],[172,12,172,16],[172,19,172,20],[174,10,174,11],[174,12,174,16],[174,19,174,20],[195,21,195,25],[194,1,194,2],[194,3,194,7],[194,10,194,11],[194,12,194,16],[194,19,194,20],[194,21,194,25],[195,1,195,2],[195,3,195,7],[195,10,195,11],[195,12,195,16],[195,19,195,20],[199,1,199,2],[199,10,199,11],[199,19,199,20],[217,1,217,2],[217,10,217,11],[217,19,217,20],[196,1,196,2],[196,3,196,7],[196,10,196,11],[196,12,196,16],[196,19,196,20],[198,10,198,11],[198,12,198,16],[198,19,198,20],[197,1,197,2],[197,3,197,7],[197,10,197,11],[197,12,197,16],[197,19,197,20],[198,1,198,2],[198,3,198,7],[218,1,218,2],[218,3,218,7],[218,10,218,11],[218,12,218,16],[218,19,218,20],[218,21,218,25],[219,1,219,2],[219,3,219,7],[219,10,219,11],[219,12,219,16],[219,19,219,20],[223,1,223,2],[223,10,223,11],[223,19,223,20],[241,1,241,2],[241,10,241,11],[241,19,241,20],[220,1,220,2],[220,3,220,7],[220,10,220,11],[220,12,220,16],[220,19,220,20],[222,10,222,11],[222,12,222,16],[222,19,222,20],[221,1,221,2],[221,3,221,7],[221,10,221,11],[221,12,221,16],[221,19,221,20],[222,1,222,2],[222,3,222,7],[242,1,242,2],[242,3,242,7],[242,10,242,11],[242,12,242,16],[242,19,242,20],[242,21,242,25],[243,1,243,2],[243,3,243,7],[243,10,243,11],[243,12,243,16],[243,19,243,20],[244,1,244,2],[244,3,244,7],[244,10,244,11],[244,12,244,16],[244,19,244,20],[246,10,246,11],[246,12,246,16],[246,19,246,20],[244,21,244,25],[246,21,246,25],[245,1,245,2],[245,3,245,7],[245,10,245,11],[245,12,245,16],[245,19,245,20],[245,21,245,25],[246,1,246,2],[246,3,246,7],[247,1,247,2],[247,10,247,11],[247,19,247,20],[265,1,265,2],[265,10,265,11],[265,19,265,20],[266,1,266,2],[266,3,266,7],[266,10,266,11],[267,1,267,2],[267,3,267,7],[267,10,267,11],[267,12,267,16],[268,1,268,2],[268,3,268,7],[268,10,268,11],[266,12,266,16],[266,19,266,20],[268,12,268,16],[268,19,268,20],[267,19,267,20],[269,1,269,2],[269,3,269,7],[291,12,291,16],[291,19,291,20],[271,1,271,2],[271,10,271,11],[271,19,271,20],[270,1,270,2],[270,3,270,7],[269,12,269,16],[269,19,269,20],[289,1,289,2],[289,10,289,11],[289,19,289,20],[294,19,294,20],[291,21,291,25],[290,1,290,2],[290,3,290,7],[290,10,290,11],[290,12,290,16],[290,19,290,20],[290,21,290,25],[291,1,291,2],[291,3,291,7],[291,10,291,11],[294,12,294,16],[295,1,295,2],[295,10,295,11],[295,19,295,20],[313,1,313,2],[313,10,313,11],[313,19,313,20],[313,4,313,7],[313,13,313,16],[292,21,292,25],[294,21,294,25],[293,1,293,2],[293,3,293,7],[293,10,293,11],[293,12,293,16],[293,19,293,20],[293,21,293,25],[294,1,294,2],[294,3,294,7],[292,1,292,2],[292,3,292,7],[292,10,292,11],[292,12,292,16],[292,19,292,20],[294,10,294,11],[315,21,315,25],[314,1,314,2],[314,3,314,7],[314,10,314,11],[314,12,314,16],[314,19,314,20],[314,21,314,25],[315,1,315,2],[315,3,315,7],[315,10,315,11],[315,12,315,16],[315,19,315,20],[316,21,316,25],[318,21,318,25],[317,1,317,2],[317,3,317,7],[317,10,317,11],[317,12,317,16],[317,19,317,20],[317,21,317,25],[318,1,318,2],[319,1,319,2],[319,10,319,11],[319,19,319,20],[337,1,337,2],[337,10,337,11],[337,19,337,20],[318,3,318,7],[316,1,316,2],[316,3,316,7],[316,10,316,11],[316,12,316,16],[316,19,316,20],[318,10,318,11],[318,12,318,16],[318,19,318,20],[339,21,339,25],[338,1,338,2],[338,3,338,7],[338,10,338,11],[338,12,338,16],[338,19,338,20],[338,21,338,25],[339,1,339,2],[339,3,339,7],[339,10,339,11],[339,12,339,16],[339,19,339,20],[340,21,340,25],[342,21,342,25],[341,1,341,2],[341,3,341,7],[341,10,341,11],[341,12,341,16],[341,19,341,20],[341,21,341,25],[342,1,342,2],[342,3,342,7],[343,1,343,2],[343,10,343,11],[343,19,343,20],[361,1,361,2],[361,10,361,11],[361,19,361,20],[340,1,340,2],[340,3,340,7],[340,10,340,11],[340,12,340,16],[340,19,340,20],[342,10,342,11],[342,12,342,16],[342,19,342,20],[363,21,363,25],[362,1,362,2],[362,3,362,7],[362,10,362,11],[362,12,362,16],[362,19,362,20],[362,21,362,25],[363,1,363,2],[363,3,363,7],[363,10,363,11],[363,12,363,16],[363,19,363,20],[364,21,364,25],[366,21,366,25],[365,1,365,2],[365,3,365,7],[365,10,365,11],[365,12,365,16],[365,19,365,20],[365,21,365,25],[366,1,366,2],[366,3,366,7],[367,1,367,2],[367,10,367,11],[367,19,367,20],[385,1,385,2],[385,10,385,11],[385,19,385,20],[364,1,364,2],[364,3,364,7],[364,10,364,11],[364,12,364,16],[364,19,364,20],[366,10,366,11],[366,12,366,16],[366,19,366,20],[387,21,387,25],[386,1,386,2],[386,3,386,7],[386,19,386,20],[386,21,386,25],[387,1,387,2],[387,3,387,7],[387,19,387,20],[387,10,387,11],[387,12,387,16],[386,10,386,11],[386,12,386,16],[388,21,388,25],[390,21,390,25],[389,1,389,2],[389,3,389,7],[389,19,389,20],[389,21,389,25],[390,1,390,2],[390,3,390,7],[388,10,388,11],[391,1,391,2],[391,19,391,20],[409,1,409,2],[409,10,409,11],[409,19,409,20],[388,1,388,2],[388,3,388,7],[388,19,388,20],[390,19,390,20],[390,10,390,11],[390,12,390,16],[388,12,388,16],[391,10,391,11],[389,10,389,11],[389,12,389,16],[411,21,411,25],[410,1,410,2],[410,3,410,7],[410,10,410,11],[410,12,410,16],[410,19,410,20],[410,21,410,25],[411,1,411,2],[411,3,411,7],[411,10,411,11],[411,12,411,16],[411,19,411,20],[412,21,412,25],[414,21,414,25],[413,1,413,2],[413,3,413,7],[413,10,413,11],[413,12,413,16],[413,19,413,20],[413,21,413,25],[414,1,414,2],[414,3,414,7],[415,1,415,2],[415,10,415,11],[415,19,415,20],[433,1,433,2],[433,10,433,11],[433,19,433,20],[412,1,412,2],[412,3,412,7],[412,10,412,11],[412,12,412,16],[412,19,412,20],[414,10,414,11],[414,12,414,16],[414,19,414,20],[435,21,435,25],[434,1,434,2],[434,3,434,7],[434,10,434,11],[434,12,434,16],[434,19,434,20],[434,21,434,25],[435,1,435,2],[435,3,435,7],[435,10,435,11],[435,12,435,16],[435,19,435,20],[436,21,436,25],[438,21,438,25],[437,1,437,2],[437,3,437,7],[437,10,437,11],[437,12,437,16],[437,19,437,20],[437,21,437,25],[438,1,438,2],[438,3,438,7],[439,1,439,2],[439,10,439,11],[439,19,439,20],[457,1,457,2],[457,10,457,11],[457,19,457,20],[436,1,436,2],[436,3,436,7],[436,10,436,11],[436,12,436,16],[436,19,436,20],[438,10,438,11],[438,12,438,16],[438,19,438,20],[459,21,459,25],[458,1,458,2],[458,3,458,7],[458,10,458,11],[458,12,458,16],[458,19,458,20],[458,21,458,25],[459,1,459,2],[459,3,459,7],[459,10,459,11],[459,12,459,16],[459,19,459,20],[460,21,460,25],[462,21,462,25],[461,1,461,2],[461,3,461,7],[461,10,461,11],[461,12,461,16],[461,19,461,20],[461,21,461,25],[462,1,462,2],[462,3,462,7],[463,1,463,2],[463,10,463,11],[463,19,463,20],[481,1,481,2],[481,10,481,11],[481,19,481,20],[460,1,460,2],[460,3,460,7],[460,10,460,11],[460,12,460,16],[460,19,460,20],[462,10,462,11],[462,12,462,16],[462,19,462,20],[483,21,483,25],[482,1,482,2],[482,3,482,7],[482,10,482,11],[482,12,482,16],[482,19,482,20],[482,21,482,25],[483,1,483,2],[483,3,483,7],[483,10,483,11],[483,12,483,16],[483,19,483,20],[484,21,484,25],[486,21,486,25],[485,1,485,2],[485,3,485,7],[485,10,485,11],[485,12,485,16],[485,19,485,20],[485,21,485,25],[486,1,486,2],[486,3,486,7],[487,1,487,2],[487,10,487,11],[487,19,487,20],[505,1,505,2],[505,10,505,11],[505,19,505,20],[484,1,484,2],[484,3,484,7],[484,10,484,11],[484,12,484,16],[484,19,484,20],[486,10,486,11],[486,12,486,16],[486,19,486,20],[507,21,507,25],[506,1,506,2],[506,3,506,7],[506,10,506,11],[506,12,506,16],[506,19,506,20],[506,21,506,25],[507,1,507,2],[507,3,507,7],[507,10,507,11],[507,12,507,16],[507,19,507,20],[508,21,508,25],[510,21,510,25],[509,1,509,2],[509,3,509,7],[509,10,509,11],[509,12,509,16],[509,19,509,20],[509,21,509,25],[510,1,510,2],[510,3,510,7],[511,1,511,2],[511,10,511,11],[511,19,511,20],[529,1,529,2],[529,10,529,11],[529,19,529,20],[508,1,508,2],[508,3,508,7],[508,10,508,11],[508,12,508,16],[508,19,508,20],[510,10,510,11],[510,12,510,16],[510,19,510,20],[531,21,531,25],[530,1,530,2],[530,3,530,7],[530,10,530,11],[530,12,530,16],[530,19,530,20],[530,21,530,25],[531,1,531,2],[531,3,531,7],[531,10,531,11],[531,12,531,16],[531,19,531,20],[532,21,532,25],[534,21,534,25],[533,1,533,2],[533,3,533,7],[533,10,533,11],[533,12,533,16],[533,19,533,20],[533,21,533,25],[534,1,534,2],[534,3,534,7],[535,1,535,2],[535,10,535,11],[535,19,535,20],[553,1,553,2],[553,10,553,11],[553,19,553,20],[532,1,532,2],[532,3,532,7],[532,10,532,11],[532,12,532,16],[532,19,532,20],[534,10,534,11],[534,12,534,16],[534,19,534,20],[555,21,555,25],[554,1,554,2],[554,3,554,7],[554,10,554,11],[554,12,554,16],[554,19,554,20],[554,21,554,25],[555,1,555,2],[555,3,555,7],[555,10,555,11],[555,12,555,16],[555,19,555,20],[556,1,556,2],[556,3,556,7],[556,10,556,11],[556,12,556,16],[556,19,556,20],[556,21,556,25],[557,1,557,2],[557,3,557,7],[557,10,557,11],[557,12,557,16],[557,19,557,20],[557,21,557,25],[558,21,558,25],[559,1,559,2],[559,10,559,11],[559,19,559,20],[558,1,558,2],[558,3,558,7],[558,10,558,11],[558,12,558,16],[558,19,558,20],[1,22,1,25],[25,4,25,7],[25,13,25,16],[289,4,289,7],[289,13,289,16],[289,22,289,25],[268,21,268,25],[270,21,270,25],[269,10,269,11],[270,10,270,11],[270,12,270,16],[270,19,270,20],[267,21,267,25],[266,21,266,25],[269,21,269,25],[243,21,243,25],[220,21,220,25],[222,21,222,25],[221,21,221,25],[219,21,219,25],[196,21,196,25],[198,21,198,25],[197,21,197,25],[6,12,6,16]]}
[]
[null,"男子",null,1,null,null,null,null,null,null,"男子",null,2,null,null,null,null,null,null,"男子",null,3]
[null,"チーム名",null,null,null,null,null,null,null,null,"チーム名",null,null,null,null,null,null,null,null,"チーム名"]
[null,"引率責任者",null,null,null,null,null,null,null,null,"引率責任者",null,null,null,null,null,null,null,null,"引率責任者"]
[null,"コ　ー　チ",null,null,null,null,null,null,null,null,"コ　ー　チ",null,null,null,null,null,null,null,null,"コ　ー　チ"]
[null,"A・コーチ",null,null,null,null,null,null,null,null,"A・コーチ",null,null,null,null,null,null,null,null,"A・コーチ"]
[null,"スコアラー",null,null,null,null,null,null,null,null,"スコアラー",null,null,null,null,null,null,null,null,"スコアラー"]
[null,"選　手　氏　名",null,"No.","身長","学年","出身チーム","備考",null,null,"選　手　氏　名",null,"No.","身長","学年","出身チーム","備考",null,null,"選　手　氏　名",null,"No.","身長","学年","出身チーム","備考"]
[null,1,null,4,null,null,null,null,null,null,1,null,4,null,null,null,null,null,null,1,null,4]
[null,2,null,5,null,null,null,null,null,null,2,null,5,null,null,null,null,null,null,2,null,5]
[null,3,null,6,null,null,null,null,null,null,3,null,6,null,null,null,null,null,null,3,null,6]
[null,4,null,7,null,null,null,null,null,null,4,null,7,null,null,null,null,null,null,4,null,7]
[null,5,null,8,null,null,null,null,null,null,5,null,8,null,null,null,null,null,null,5,null,8]
[null,6,null,9,null,null,null,null,null,null,6,null,9,null,null,null,null,null,null,6,null,9]
[null,7,null,10,null,null,null,null,null,null,7,null,10,null,null,null,null,null,null,7,null,10]
[null,8,null,11,null,null,null,null,null,null,8,null,11,null,null,null,null,null,null,8,null,11]
[null,9,null,12,null,null,null,null,null,null,9,null,12,null,null,null,null,null,null,9,null,12]
[null,10,null,13,null,null,null,null,null,null,10,null,13,null,null,null,null,null,null,10,null,13]
[null,11,null,14,null,null,null,null,null,null,11,null,14,null,null,null,null,null,null,11,null,14]
[null,12,null,15,null,null,null,null,null,null,12,null,15,null,null,null,null,null,null,12,null,15]
[null,13,null,16,null,null,null,null,null,null,13,null,16,null,null,null,null,null,null,13,null,16]
[null,14,null,17,null,null,null,null,null,null,14,null,17,null,null,null,null,null,null,14,null,17]
[null,15,null,18,null,null,null,null,null,null,15,null,18,null,null,null,null,null,null,15,null,18]
[]
[]
[null,"男子",null,4,null,null,null,null,null,null,"男子",null,5,null,null,null,null,null,null,"男子",null,6]
[null,"チーム名",null,null,null,null,null,null,null,null,"チーム名",null,null,null,null,null,null,null,null,"チーム名"]
[null,"引率責任者",null,null,null,null,null,null,null,null,"引率責任者",null,null,null,null,null,null,null,null,"引率責任者"]
[null,"コ　ー　チ",null,null,null,null,null,null,null,null,"コ　ー　チ",null,null,null,null,null,null,null,null,"コ　ー　チ"]
[null,"A・コーチ",null,null,null,null,null,null,null,null,"A・コーチ",null,null,null,null,null,null,null,null,"A・コーチ"]
[null,"スコアラー",null,null,null,null,null,null,null,null,"スコアラー",null,null,null,null,null,null,null,null,"スコアラー"]
[null,"選　手　氏　名",null,"No.","身長","学年","出身チーム","備考",null,null,"選　手　氏　名",null,"No.","身長","学年","出身チーム","備考",null,null,"選　手　氏　名",null,"No.","身長","学年","出身チーム","備考"]
[null,1,null,4,null,null,null,null,null,null,1,null,4,null,null,null,null,null,null,1,null,4]
[null,2,null,5,null,null,null,null,null,null,2,null,5,null,null,null,null,null,null,2,null,5]
[null,3,null,6,null,null,null,null,null,null,3,null,6,null,null,null,null,null,null,3,null,6]
[null,4,null,7,null,null,null,null,null,null,4,null,7,null,null,null,null,null,null,4,null,7]
[null,5,null,8,null,null,null,null,null,null,5,null,8,null,null,null,null,null,null,5,null,8]
[null,6,null,9,null,null,null,null,null,null,6,null,9,null,null,null,null,null,null,6,null,9]
[null,7,null,10,null,null,null,null,null,null,7,null,10,null,null,null,null,null,null,7,null,10]
[null,8,null,11,null,null,null,null,null,null,8,null,11,null,null,null,null,null,null,8,null,11]
[null,9,null,12,null,null,null,null,null,null,9,null,12,null,null,null,null,null,null,9,null,12]
[null,10,null,13,null,null,null,null,null,null,10,null,13,null,null,null,null,null,null,10,null,13]
[null,11,null,14,null,null,null,null,null,null,11,null,14,null,null,null,null,null,null,11,null,14]
[null,12,null,15,null,null,null,null,null,null,12,null,15,null,null,null,null,null,null,12,null,15]
[null,13,null,16,null,null,null,null,null,null,13,null,16,null,null,null,null,null,null,13,null,16]
[null,14,null,17,null,null,null,null,null,null,14,null,17,null,null,null,null,null,null,14,null,17]
[null,15,null,18,null,null,null,null,null,null,15,null,18,null,null,null,null,null,null,15,null,18]
[]
[]
[null,"男子",null,7,null,null,null,null,null,null,"男子",null,8,null,null,null,null,null,null,"男子",null,9]
[null,"チーム名",null,null,null,null,null,null,null,null,"チーム名",null,null,null,null,null,null,null,null,"チーム名"]
[null,"引率責任者",null,null,null,null,null,null,null,null,"引率責任者",null,null,null,null,null,null,null,null,"引率責任者"]
[null,"コ　ー　チ",null,null,null,null,null,null,null,null,"コ　ー　チ",null,null,null,null,null,null,null,null,"コ　ー　チ"]
[null,"A・コーチ",null,null,null,null,null,null,null,null,"A・コーチ",null,null,null,null,null,null,null,null,"A・コーチ"]
[null,"スコアラー",null,null,null,null,null,null,null,null,"スコアラー",null,null,null,null,null,null,null,null,"スコアラー"]
[null,"選　手　氏　名",null,"No.","身長","学年","出身チーム","備考",null,null,"選　手　氏　名",null,"No.","身長","学年","出身チーム","備考",null,null,"選　手　氏　名",null,"No.","身長","学年","出身チーム","備考"]
[null,1,null,4,null,null,null,null,null,null,1,null,4,null,null,null,null,null,null,1,null,4]
[null,2,null,5,null,null,null,null,null,null,2,null,5,null,null,null,null,null,null,2,null,5]
[null,3,null,6,null,null,null,null,null,null,3,null,6,null,null,null,null,null,null,3,null,6]
[null,4,null,7,null,null,null,null,null,null,4,null,7,null,null,null,null,null,null,4,null,7]
[null,5,null,8,null,null,null,null,null,null,5,null,8,null,null,null,null,null,null,5,null,8]
[null,6,null,9,null,null,null,null,null,null,6,null,9,null,null,null,null,null,null,6,null,9]
[null,7,null,10,null,null,null,null,null,null,7,null,10,null,null,null,null,null,null,7,null,10]
[null,8,null,11,null,null,null,null,null,null,8,null,11,null,null,null,null,null,null,8,null,11]
[null,9,null,12,null,null,null,null,null,null,9,null,12,null,null,null,null,null,null,9,null,12]
[null,10,null,13,null,null,null,null,null,null,10,null,13,null,null,null,null,null,null,10,null,13]
[null,11,null,14,null,null,null,null,null,null,11,null,14,null,null,null,null,null,null,11,null,14]
[null,12,null,15,null,null,null,null,null,null,12,null,15,null,null,null,null,null,null,12,null,15]
[null,13,null,16,null,null,null,null,null,null,13,null,16,null,null,null,null,null,null,13,null,16]
[null,14,null,17,null,null,null,null,null,null,14,null,17,null,null,null,null,null,null,14,null,17]
[null,15,null,18,null,null,null,null,null,null,15,null,18,null,null,null,null,null,null,15,null,18]
[]
[]
[null,"男子",null,10,null,null,null,null,null,null,"男子",null,11,null,null,null,null,null,null,"男子",null,12]
[null,"チーム名",null,null,null,null,null,null,null,null,"チーム名",null,null,null,null,null,null,null,null,"チーム名"]
[null,"引率責任者",null,null,null,null,null,null,null,null,"引率責任者",null,null,null,null,null,null,null,null,"引率責任者"]
[null,"コ　ー　チ",null,null,null,null,null,null,null,null,"コ　ー　チ",null,null,null,null,null,null,null,null,"コ　ー　チ"]
[null,"A・コーチ",null,null,null,null,null,null,null,null,"A・コーチ",null,null,null,null,null,null,null,null,"A・コーチ"]
[null,"スコアラー",null,null,null,null,null,null,null,null,"スコアラー",null,null,null,null,null,null,null,null,"スコアラー"]
[null,"選　手　氏　名",null,"No.","身長","学年","出身チーム","備考",null,null,"選　手　氏　名",null,"No.","身長","学年","出身チーム","備考",null,null,"選　手　氏　名",null,"No.","身長","学年","出身チーム","備考"]
[null,1,null,4,null,null,null,null,null,null,1,null,4,null,null,null,null,null,null,1,null,4]
[null,2,null,5,null,null,null,null,null,null,2,null,5,null,null,null,null,null,null,2,null,5]
[null,3,null,6,null,null,null,null,null,null,3,null,6,null,null,null,null,null,null,3,null,6]
[null,4,null,7,null,null,null,null,null,null,4,null,7,null,null,null,null,null,null,4,null,7]
[null,5,null,8,null,null,null,null,null,null,5,null,8,null,null,null,null,null,null,5,null,8]
[null,6,null,9,null,null,null,null,null,null,6,null,9,null,null,null,null,null,null,6,null,9]
[null,7,null,10,null,null,null,null,null,null,7,null,10,null,null,null,null,null,null,7,null,10]
[null,8,null,11,null,null,null,null,null,null,8,null,11,null,null,null,null,null,null,8,null,11]
[null,9,null,12,null,null,null,null,null,null,9,null,12,null,null,null,null,null,null,9,null,12]
[null,10,null,13,null,null,null,null,null,null,10,null,13,null,null,null,null,null,null,10,null,13]
[null,11,null,14,null,null,null,null,null,null,11,null,14,null,null,null,null,null,null,11,null,14]
[null,12,null,15,null,null,null,null,null,null,12,null,15,null,null,null,null,null,null,12,null,15]
[null,13,null,16,null,null,null,null,null,null,13,null,16,null,null,null,null,null,null,13,null,16]
[null,14,null,17,null,null,null,null,null,null,14,null,17,null,null,null,null,null,null,14,null,17]
[null,15,null,18,null,null,null,null,null,null,15,null,18,null,null,null,null,null,null,15,null,18]
[]
[]
[null,"男子",null,13,null,null,null,null,null,null,"男子",null,14,null,null,null,null,null,null,"男子",null,15]
[null,"チーム名",null,null,null,null,null,null,null,null,"チーム名",null,null,null,null,null,null,null,null,"チーム名"]
[null,"引率責任者",null,null,null,null,null,null,null,null,"引率責任者",null,null,null,null,null,null,null,null,"引率責任者"]
[null,"コ　ー　チ",null,null,null,null,null,null,null,null,"コ　ー　チ",null,null,null,null,null,null,null,null,"コ　ー　チ"]
[null,"A・コーチ",null,null,null,null,null,null,null,null,"A・コーチ",null,null,null,null,null,null,null,null,"A・コーチ"]
[null,"スコアラー",null,null,null,null,null,null,null,null,"スコアラー",null,null,null,null,null,null,null,null,"スコアラー"]
[null,"選　手　氏　名",null,"No.","身長","学年","出身チーム","備考",null,null,"選　手　氏　名",null,"No.","身長","学年","出身チーム","備考",null,null,"選　手　氏　名",null,"No.","身長","学年","出身チーム","備考"]
[null,1,null,4,null,null,null,null,null,null,1,null,4,null,null,null,null,null,null,1,null,4]
[null,2,null,5,null,null,null,null,null,null,2,null,5,null,null,null,null,null,null,2,null,5]
[null,3,null,6,null,null,null,null,null,null,3,null,6,null,null,null,null,null,null,3,null,6]
[null,4,null,7,null,null,null,null,null,null,4,null,7,null,null,null,null,null,null,4,null,7]
[null,5,null,8,null,null,null,null,null,null,5,null,8,null,null,null,null,null,null,5,null,8]
[null,6,null,9,null,null,null,null,null,null,6,null,9,null,null,null,null,null,null,6,null,9]
[null,7,null,10,null,null,null,null,null,null,7,null,10,null,null,null,null,null,null,7,null,10]
[null,8,null,11,null,null,null,null,null,null,8,null,11,null,null,null,null,null,null,8,null,11]
[null,9,null,12,null,null,null,null,null,null,9,null,12,null,null,null,null,null,null,9,null,12]
[null,10,null,13,null,null,null,null,null,null,10,null,13,null,null,null,null,null,null,10,null,13]
[null,11,null,14,null,null,null,null,null,null,11,null,14,null,null,null,null,null,null,11,null,14]
[null,12,null,15,null,null,null,null,null,null,12,null,15,null,null,null,null,null,null,12,null,15]
[null,13,null,16,null,null,null,null,null,null,13,null,16,null,null,null,null,null,null,13,null,16]
[null,14,null,17,null,null,null,null,null,null,14,null,17,null,null,null,null,null,null,14,null,17]
[null,15,null,18,null,null,null,null,null,null,15,null,18,null,null,null,null,null,null,15,null,18]
[]
[]
[null,"男子",null,16,null,null,null,null,null,null,"男子",null,17,null,null,null,null,null,null,"男子",null,18]
[null,"チーム名",null,null,null,null,null,null,null,null,"チーム名",null,null,null,null,null,null,null,null,"チーム名"]
[null,"引率責任者",null,null,null,null,null,null,null,null,"引率責任者",null,null,null,null,null,null,null,null,"引率責任者"]
[null,"コ　ー　チ",null,null,null,null,null,null,null,null,"コ　ー　チ",null,null,null,null,null,null,null,null,"コ　ー　チ"]
[null,"A・コーチ",null,null,null,null,null,null,null,null,"A・コーチ",null,null,null,null,null,null,null,null,"A・コーチ"]
[null,"スコアラー",null,null,null,null,null,null,null,null,"スコアラー",null,null,null,null,null,null,null,null,"スコアラー"]
[null,"選　手　氏　名",null,"No.","身長","学年","出身チーム","備考",null,null,"選　手　氏　名",null,"No.","身長","学年","出身チーム","備考",null,null,"選　手　氏　名",null,"No.","身長","学年","出身チーム","備考"]
[null,1,null,4,null,null,null,null,null,null,1,null,4,null,null,null,null,null,null,1,null,4]
[null,2,null,5,null,null,null,null,null,null,2,null,5,null,null,null,null,null,null,2,null,5]
[null,3,null,6,null,null,null,null,null,null,3,null,6,null,null,null,null,null,null,3,null,6]
[null,4,null,7,null,null,null,null,null,null,4,null,7,null,null,null,null,null,null,4,null,7]
[null,5,null,8,null,null,null,null,null,null,5,null,8,null,null,null,null,null,null,5,null,8]
[null,6,null,9,null,null,null,null,null,null,6,null,9,null,null,null,null,null,null,6,null,9]
[null,7,null,10,null,null,null,null,null,null,7,null,10,null,null,null,null,null,null,7,null,10]
[null,8,null,11,null,null,null,null,null,null,8,null,11,null,null,null,null,null,null,8,null,11]
[null,9,null,12,null,null,null,null,null,null,9,null,12,null,null,null,null,null,null,9,null,12]
[null,10,null,13,null,null,null,null,null,null,10,null,13,null,null,null,null,null,null,10,null,13]
[null,11,null,14,null,null,null,null,null,null,11,null,14,null,null,null,null,null,null,11,null,14]
[null,12,null,15,null,null,null,null,null,null,12,null,15,null,null,null,null,null,null,12,null,15]
[null,13,null,16,null,null,null,null,null,null,13,null,16,null,null,null,null,null,null,13,null,16]
[null,14,null,17,null,null,null,null,null,null,14,null,17,null,null,null,null,null,null,14,null,17]
[null,15,null,18,null,null,null,null,null,null,15,null,18,null,null,null,null,null,null,15,null,18]
[]
[]
[null,"男子",null,19,null,null,null,null,null,null,"男子",null,20,null,null,null,null,null,null,"男子",null,21]
[null,"チーム名",null,null,null,null,null,null,null,null,"チーム名",null,null,null,null,null,null,null,null,"チーム名"]
[null,"引率責任者",null,null,null,null,null,null,null,null,"引率責任者",null,null,null,null,null,null,null,null,"引率責任者"]
[null,"コ　ー　チ",null,null,null,null,null,null,null,null,"コ　ー　チ",null,null,null,null,null,null,null,null,"コ　ー　チ"]
[null,"A・コーチ",null,null,null,null,null,null,null,null,"A・コーチ",null,null,null,null,null,null,null,null,"A・コーチ"]
[null,"スコアラー",null,null,null,null,null,null,null,null,"スコアラー",null,null,null,null,null,null,null,null,"スコアラー"]
[null,"選　手　氏　名",null,"No.","身長","学年","出身チーム","備考",null,null,"選　手　氏　名",null,"No.","身長","学年","出身チーム","備考",null,null,"選　手　氏　名",null,"No.","身長","学年","出身チーム","備考"]
[null,1,null,4,null,null,null,null,null,null,1,null,4,null,null,null,null,null,null,1,null,4]
[null,2,null,5,null,null,null,null,null,null,2,null,5,null,null,null,null,null,null,2,null,5]
[null,3,null,6,null,null,null,null,null,null,3,null,6,null,null,null,null,null,null,3,null,6]
[null,4,null,7,null,null,null,null,null,null,4,null,7,null,null,null,null,null,null,4,null,7]
[null,5,null,8,null,null,null,null,null,null,5,null,8,null,null,null,null,null,null,5,null,8]
[null,6,null,9,null,null,null,null,null,null,6,null,9,null,null,null,null,null,null,6,null,9]
[null,7,null,10,null,null,null,null,null,null,7,null,10,null,null,null,null,null,null,7,null,10]
[null,8,null,11,null,null,null,null,null,null,8,null,11,null,null,null,null,null,null,8,null,11]
[null,9,null,12,null,null,null,null,null,null,9,null,12,null,null,null,null,null,null,9,null,12]
[null,10,null,13,null,null,null,null,null,null,10,null,13,null,null,null,null,null,null,10,null,13]
[null,11,null,14,null,null,null,null,null,null,11,null,14,null,null,null,null,null,null,11,null,14]
[null,12,null,15,null,null,null,null,null,null,12,null,15,null,null,null,null,null,null,12,null,15]
[null,13,null,16,null,null,null,null,null,null,13,null,16,null,null,null,null,null,null,13,null,16]
[null,14,null,17,null,null,null,null,null,null,14,null,17,null,null,null,null,null,null,14,null,17]
[null,15,null,18,null,null,null,null,null,null,15,null,18,null,null,null,null,null,null,15,null,18]
[]
[]
[null,"男子",null,22,null,null,null,null,null,null,"男子",null,23,null,null,null,null,null,null,"男子",null,24]
[null,"チーム名",null,null,null,null,null,null,null,null,"チーム名",null,null,null,null,null,null,null,null,"チーム名"]
[null,"引率責任者",null,null,null,null,null,null,null,null,"引率責任者",null,null,null,null,null,null,null,null,"引率責任者"]
[null,"コ　ー　チ",null,null,null,null,null,null,null,null,"コ　ー　チ",null,null,null,null,null,null,null,null,"コ　ー　チ"]
[null,"A・コーチ",null,null,null,null,null,null,null,null,"A・コーチ",null,null,null,null,null,null,null,null,"A・コーチ"]
[null,"スコアラー",null,null,null,null,null,null,null,null,"スコアラー",null,null,null,null,null,null,null,null,"スコアラー"]
[null,"選　手　氏　名",null,"No.","身長","学年","出身チーム","備考",null,null,"選　手　氏　名",null,"No.","身長","学年","出身チーム","備考",null,null,"選　手　氏　名",null,"No.","身長","学年","出身チーム","備考"]
[null,1,null,4,null,null,null,null,null,null,1,null,4,null,null,null,null,null,null,1,null,4]
[null,2,null,5,null,null,null,null,null,null,2,null,5,null,null,null,null,null,null,2,null,5]
[null,3,null,6,null,null,null,null,null,null,3,null,6,null,null,null,null,null,null,3,null,6]
[null,4,null,7,null,null,null,null,null,null,4,null,7,null,null,null,null,null,null,4,null,7]
[null,5,null,8,null,null,null,null,null,null,5,null,8,null,null,null,null,null,null,5,null,8]
[null,6,null,9,null,null,null,null,null,null,6,null,9,null,null,null,null,null,null,6,null,9]
[null,7,null,10,null,null,null,null,null,null,7,null,10,null,null,null,null,null,null,7,null,10]
[null,8,null,11,null,null,null,null,null,null,8,null,11,null,null,null,null,null,null,8,null,11]
[null,9,null,12,null,null,null,null,null,null,9,null,12,null,null,null,null,null,null,9,null,12]
[null,10,null,13,null,null,null,null,null,null,10,null,13,null,null,null,null,null,null,10,null,13]
[null,11,null,14,null,null,null,null,null,null,11,null,14,null,null,null,null,null,null,11,null,14]
[null,12,null,15,null,null,null,null,null,null,12,null,15,null,null,null,null,null,null,12,null,15]
[null,13,null,16,null,null,null,null,null,null,13,null,16,null,null,null,null,null,null,13,null,16]
[null,14,null,17,null,null,null,null,null,null,14,null,17,null,null,null,null,null,null,14,null,17]
[null,15,null,18,null,null,null,null,null,null,15,null,18,null,null,null,null,null,null,15,null,18]
[]
[]
[null,"男子",null,25,null,null,null,null,null,null,"男子",null,26,null,null,null,null,null,null,"男子",null,27]
[null,"チーム名",null,null,null,null,null,null,null,null,"チーム名",null,null,null,null,null,null,null,null,"チーム名"]
[null,"引率責任者",null,null,null,null,null,null,null,null,"引率責任者",null,null,null,null,null,null,null,null,"引率責任者"]
[null,"コ　ー　チ",null,null,null,null,null,null,null,null,"コ　ー　チ",null,null,null,null,null,null,null,null,"コ　ー　チ"]
[null,"A・コーチ",null,null,null,null,null,null,null,null,"A・コーチ",null,null,null,null,null,null,null,null,"A・コーチ"]
[null,"スコアラー",null,null,null,null,null,null,null,null,"スコアラー",null,null,null,null,null,null,null,null,"スコアラー"]
[null,"選　手　氏　名",null,"No.","身長","学年","出身チーム","備考",null,null,"選　手　氏　名",null,"No.","身長","学年","出身チーム","備考",null,null,"選　手　氏　名",null,"No.","身長","学年","出身チーム","備考"]
[null,1,null,4,null,null,null,null,null,null,1,null,4,null,null,null,null,null,null,1,null,4]
[null,2,null,5,null,null,null,null,null,null,2,null,5,null,null,null,null,null,null,2,null,5]
[null,3,null,6,null,null,null,null,null,null,3,null,6,null,null,null,null,null,null,3,null,6]
[null,4,null,7,null,null,null,null,null,null,4,null,7,null,null,null,null,null,null,4,null,7]
[null,5,null,8,null,null,null,null,null,null,5,null,8,null,null,null,null,null,null,5,null,8]
[null,6,null,9,null,null,null,null,null,null,6,null,9,null,null,null,null,null,null,6,null,9]
[null,7,null,10,null,null,null,null,null,null,7,null,10,null,null,null,null,null,null,7,null,10]
[null,8,null,11,null,null,null,null,null,null,8,null,11,null,null,null,null,null,null,8,null,11]
[null,9,null,12,null,null,null,null,null,null,9,null,12,null,null,null,null,null,null,9,null,12]
[null,10,null,13,null,null,null,null,null,null,10,null,13,null,null,null,null,null,null,10,null,13]
[null,11,null,14,null,null,null,null,null,null,11,null,14,null,null,null,null,null,null,11,null,14]
[null,12,null,15,null,null,null,null,null,null,12,null,15,null,null,null,null,null,null,12,null,15]
[null,13,null,16,null,null,null,null,null,null,13,null,16,null,null,null,null,null,null,13,null,16]
[null,14,null,17,null,null,null,null,null,null,14,null,17,null,null,null,null,null,null,14,null,17]
[null,15,null,18,null,null,null,null,null,null,15,null,18,null,null,null,null,null,null,15,null,18]
[]
[]
[null,"男子",null,28,null,null,null,null,null,null,"男子",null,29,null,null,null,null,null,null,"男子",null,30]
[null,"チーム名",null,null,null,null,null,null,null,null,"チーム名",null,null,null,null,null,null,null,null,"チーム名"]
[null,"引率責任者",null,null,null,null,null,null,null,null,"引率責任者",null,null,null,null,null,null,null,null,"引率責任者"]
[null,"コ　ー　チ",null,null,null,null,null,null,null,null,"コ　ー　チ",null,null,null,null,null,null,null,null,"コ　ー　チ"]
[null,"A・コーチ",null,null,null,null,null,null,null,null,"A・コーチ",null,null,null,null,null,null,null,null,"A・コーチ"]
[null,"スコアラー",null,null,null,null,null,null,null,null,"スコアラー",null,null,null,null,null,null,null,null,"スコアラー"]
[null,"選　手　氏　名",null,"No.","身長","学年","出身チーム","備考",null,null,"選　手　氏　名",null,"No.","身長","学年","出身チーム","備考",null,null,"選　手　氏　名",null,"No.","身長","学年","出身チーム","備考"]
[null,1,null,4,null,null,null,null,null,null,1,null,4,null,null,null,null,null,null,1,null,4]
[null,2,null,5,null,null,null,null,null,null,2,null,5,null,null,null,null,null,null,2,null,5]
[null,3,null,6,null,null,null,null,null,null,3,null,6,null,null,null,null,null,null,3,null,6]
[null,4,null,7,null,null,null,null,null,null,4,null,7,null,null,null,null,null,null,4,null,7]
[null,5,null,8,null,null,null,null,null,null,5,null,8,null,null,null,null,null,null,5,null,8]
[null,6,null,9,null,null,null,null,null,null,6,null,9,null,null,null,null,null,null,6,null,9]
[null,7,null,10,null,null,null,null,null,null,7,null,10,null,null,null,null,null,null,7,null,10]
[null,8,null,11,null,null,null,null,null,null,8,null,11,null,null,null,null,null,null,8,null,11]
[null,9,null,12,null,null,null,null,null,null,9,null,12,null,null,null,null,null,null,9,null,12]
[null,10,null,13,null,null,null,null,null,null,10,null,13,null,null,null,null,null,null,10,null,13]
[null,11,null,14,null,null,null,null,null,null,11,null,14,null,null,null,null,null,null,11,null,14]
[null,12,null,15,null,null,null,null,null,null,12,null,15,null,null,null,null,null,null,12,null,15]
[null,13,null,16,null,null,null,null,null,null,13,null,16,null,null,null,null,null,null,13,null,16]
[null,14,null,17,null,null,null,null,null,null,14,null,17,null,null,null,null,null,null,14,null,17]
[null,15,null,18,null,null,null,null,null,null,15,null,18,null,null,null,null,null,null,15,null,18]
[]
[]
[null,"男子",null,31,null,null,null,null,null,null,"男子",null,32,null,null,null,null,null,null,"男子",null,33]
[null,"チーム名",null,null,null,null,null,null,null,null,"チーム名",null,null,null,null,null,null,null,null,"チーム名"]
[null,"引率責任者",null,null,null,null,null,null,null,null,"引率責任者",null,null,null,null,null,null,null,null,"引率責任者"]
[null,"コ　ー　チ",null,null,null,null,null,null,null,null,"コ　ー　チ",null,null,null,null,null,null,null,null,"コ　ー　チ"]
[null,"A・コーチ",null,null,null,null,null,null,null,null,"A・コーチ",null,null,null,null,null,null,null,null,"A・コーチ"]
[null,"スコアラー",null,null,null,null,null,null,null,null,"スコアラー",null,null,null,null,null,null,null,null,"スコアラー"]
[null,"選　手　氏　名",null,"No.","身長","学年","出身チーム","備考",null,null,"選　手　氏　名",null,"No.","身長","学年","出身チーム","備考",null,null,"選　手　氏　名",null,"No.","身長","学年","出身チーム","備考"]
[null,1,null,4,null,null,null,null,null,null,1,null,4,null,null,null,null,null,null,1,null,4]
[null,2,null,5,null,null,null,null,null,null,2,null,5,null,null,null,null,null,null,2,null,5]
[null,3,null,6,null,null,null,null,null,null,3,null,6,null,null,null,null,null,null,3,null,6]
[null,4,null,7,null,null,null,null,null,null,4,null,7,null,null,null,null,null,null,4,null,7]
[null,5,null,8,null,null,null,null,null,null,5,null,8,null,null,null,null,null,null,5,null,8]
[null,6,null,9,null,null,null,null,null,null,6,null,9,null,null,null,null,null,null,6,null,9]
[null,7,null,10,null,null,null,null,null,null,7,null,10,null,null,null,null,null,null,7,null,10]
[null,8,null,11,null,null,null,null,null,null,8,null,11,null,null,null,null,null,null,8,null,11]
[null,9,null,12,null,null,null,null,null,null,9,null,12,null,null,null,null,null,null,9,null,12]
[null,10,null,13,null,null,null,null,null,null,10,null,13,null,null,null,null,null,null,10,null,13]
[null,11,null,14,null,null,null,null,null,null,11,null,14,null,null,null,null,null,null,11,null,14]
[null,12,null,15,null,null,null,null,null,null,12,null,15,null,null,null,null,null,null,12,null,15]
[null,13,null,16,null,null,null,null,null,null,13,null,16,null,null,null,null,null,null,13,null,16]
[null,14,null,17,null,null,null,null,null,null,14,null,17,null,null,null,null,null,null,14,null,17]
[null,15,null,18,null,null,null,null,null,null,15,null,18,null,null,null,null,null,null,15,null,18]
[]
[]
[null,"男子",null,34,null,null,null,null,null,null,"男子",null,35,null,null,null,null,null,null,"男子",null,36]
[null,"チーム名",null,null,null,null,null,null,null,null,"チーム名",null,null,null,null,null,null,null,null,"チーム名"]
[null,"引率責任者",null,null,null,null,null,null,null,null,"引率責任者",null,null,null,null,null,null,null,null,"引率責任者"]
[null,"コ　ー　チ",null,null,null,null,null,null,null,null,"コ　ー　チ",null,null,null,null,null,null,null,null,"コ　ー　チ"]
[null,"A・コーチ",null,null,null,null,null,null,null,null,"A・コーチ",null,null,null,null,null,null,null,null,"A・コーチ"]
[null,"スコアラー",null,null,null,null,null,null,null,null,"スコアラー",null,null,null,null,null,null,null,null,"スコアラー"]
[null,"選　手　氏　名",null,"No.","身長","学年","出身チーム","備考",null,null,"選　手　氏　名",null,"No.","身長","学年","出身チーム","備考",null,null,"選　手　氏　名",null,"No.","身長","学年","出身チーム","備考"]
[null,1,null,4,null,null,null,null,null,null,1,null,4,null,null,null,null,null,null,1,null,4]
[null,2,null,5,null,null,null,null,null,null,2,null,5,null,null,null,null,null,null,2,null,5]
[null,3,null,6,null,null,null,null,null,null,3,null,6,null,null,null,null,null,null,3,null,6]
[null,4,null,7,null,null,null,null,null,null,4,null,7,null,null,null,null,null,null,4,null,7]
[null,5,null,8,null,null,null,null,null,null,5,null,8,null,null,null,null,null,null,5,null,8]
[null,6,null,9,null,null,null,null,null,null,6,null,9,null,null,null,null,null,null,6,null,9]
[null,7,null,10,null,null,null,null,null,null,7,null,10,null,null,null,null,null,null,7,null,10]
[null,8,null,11,null,null,null,null,null,null,8,null,11,null,null,null,null,null,null,8,null,11]
[null,9,null,12,null,null,null,null,null,null,9,null,12,null,null,null,null,null,null,9,null,12]
[null,10,null,13,null,null,null,null,null,null,10,null,13,null,null,null,null,null,null,10,null,13]
[null,11,null,14,null,null,null,null,null,null,11,null,14,null,null,null,null,null,null,11,null,14]
[null,12,null,15,null,null,null,null,null,null,12,null,15,null,null,null,null,null,null,12,null,15]
[null,13,null,16,null,null,null,null,null,null,13,null,16,null,null,null,null,null,null,13,null,16]
[null,14,null,17,null,null,null,null,null,null,14,null,17,null,null,null,null,null,null,14,null,17]
[null,15,null,18,null,null,null,null,null,null,15,null,18,null,null,null,null,null,null,15,null,18]
[]
[]
[null,"女子",null,1,null,null,null,null,null,null,"女子",null,2,null,null,null,null,null,null,"女子",null,3]
[null,"チーム名",null,null,null,null,null,null,null,null,"チーム名",null,null,null,null,null,null,null,null,"チーム名"]
[null,"引率責任者",null,null,null,null,null,null,null,null,"引率責任者",null,null,null,null,null,null,null,null,"引率責任者"]
[null,"コ　ー　チ",null,null,null,null,null,null,null,null,"コ　ー　チ",null,null,null,null,null,null,null,null,"コ　ー　チ"]
[null,"A・コーチ",null,null,null,null,null,null,null,null,"A・コーチ",null,null,null,null,null,null,null,null,"A・コーチ"]
[null,"スコアラー",null,null,null,null,null,null,null,null,"スコアラー",null,null,null,null,null,null,null,null,"スコアラー"]
[null,"選　手　氏　名",null,"No.","身長","学年","出身チーム","備考",null,null,"選　手　氏　名",null,"No.","身長","学年","出身チーム","備考",null,null,"選　手　氏　名",null,"No.","身長","学年","出身チーム","備考"]
[null,1,null,4,null,null,null,null,null,null,1,null,4,null,null,null,null,null,null,1,null,4]
[null,2,null,5,null,null,null,null,null,null,2,null,5,null,null,null,null,null,null,2,null,5]
[null,3,null,6,null,null,null,null,null,null,3,null,6,null,null,null,null,null,null,3,null,6]
[null,4,null,7,null,null,null,null,null,null,4,null,7,null,null,null,null,null,null,4,null,7]
[null,5,null,8,null,null,null,null,null,null,5,null,8,null,null,null,null,null,null,5,null,8]
[null,6,null,9,null,null,null,null,null,null,6,null,9,null,null,null,null,null,null,6,null,9]
[null,7,null,10,null,null,null,null,null,null,7,null,10,null,null,null,null,null,null,7,null,10]
[null,8,null,11,null,null,null,null,null,null,8,null,11,null,null,null,null,null,null,8,null,11]
[null,9,null,12,null,null,null,null,null,null,9,null,12,null,null,null,null,null,null,9,null,12]
[null,10,null,13,null,null,null,null,null,null,10,null,13,null,null,null,null,null,null,10,null,13]
[null,11,null,14,null,null,null,null,null,null,11,null,14,null,null,null,null,null,null,11,null,14]
[null,12,null,15,null,null,null,null,null,null,12,null,15,null,null,null,null,null,null,12,null,15]
[null,13,null,16,null,null,null,null,null,null,13,null,16,null,null,null,null,null,null,13,null,16]
[null,14,null,17,null,null,null,null,null,null,14,null,17,null,null,null,null,null,null,14,null,17]
[null,15,null,18,null,null,null,null,null,null,15,null,18,null,null,null,null,null,null,15,null,18]
[]
[]
[null,"女子",null,4,null,null,null,null,null,null,"女子",null,5,null,null,null,null,null,null,"女子",null,6]
[null,"チーム名",null,null,null,null,null,null,null,null,"チーム名",null,null,null,null,null,null,null,null,"チーム名"]
[null,"引率責任者",null,null,null,null,null,null,null,null,"引率責任者",null,null,null,null,null,null,null,null,"引率責任者"]
[null,"コ　ー　チ",null,null,null,null,null,null,null,null,"コ　ー　チ",null,null,null,null,null,null,null,null,"コ　ー　チ"]
[null,"A・コーチ",null,null,null,null,null,null,null,null,"A・コーチ",null,null,null,null,null,null,null,null,"A・コーチ"]
[null,"スコアラー",null,null,null,null,null,null,null,null,"スコアラー",null,null,null,null,null,null,null,null,"スコアラー"]
[null,"選　手　氏　名",null,"No.","身長","学年","出身チーム","備考",null,null,"選　手　氏　名",null,"No.","身長","学年","出身チーム","備考",null,null,"選　手　氏　名",null,"No.","身長","学年","出身チーム","備考"]
[null,1,null,4,null,null,null,null,null,null,1,null,4,null,null,null,null,null,null,1,null,4]
[null,2,null,5,null,null,null,null,null,null,2,null,5,null,null,null,null,null,null,2,null,5]
[null,3,null,6,null,null,null,null,null,null,3,null,6,null,null,null,null,null,null,3,null,6]
[null,4,null,7,null,null,null,null,null,null,4,null,7,null,null,null,null,null,null,4,null,7]
[null,5,null,8,null,null,null,null,null,null,5,null,8,null,null,null,null,null,null,5,null,8]
[null,6,null,9,null,null,null,null,null,null,6,null,9,null,null,null,null,null,null,6,null,9]
[null,7,null,10,null,null,null,null,null,null,7,null,10,null,null,null,null,null,null,7,null,10]
[null,8,null,11,null,null,null,null,null,null,8,null,11,null,null,null,null,null,null,8,null,11]
[null,9,null,12,null,null,null,null,null,null,9,null,12,null,null,null,null,null,null,9,null,12]
[null,10,null,13,null,null,null,null,null,null,10,null,13,null,null,null,null,null,null,10,null,13]
[null,11,null,14,null,null,null,null,null,null,11,null,14,null,null,null,null,null,null,11,null,14]
[null,12,null,15,null,null,null,null,null,null,12,null,15,null,null,null,null,null,null,12,null,15]
[null,13,null,16,null,null,null,null,null,null,13,null,16,null,null,null,null,null,null,13,null,16]
[null,14,null,17,null,null,null,null,null,null,14,null,17,null,null,null,null,null,null,14,null,17]
[null,15,null,18,null,null,null,null,null,null,15,null,18,null,null,null,null,null,null,15,null,18]
[]
[]
[null,"女子",null,7,null,null,null,null,null,null,"女子",null,8,null,null,null,null,null,null,"女子",null,9]
[null,"チーム名",null,null,null,null,null,null,null,null,"チーム名",null,null,null,null,null,null,null,null,"チーム名"]
[null,"引率責任者",null,null,null,null,null,null,null,null,"引率責任者",null,null,null,null,null,null,null,null,"引率責任者"]
[null,"コ　ー　チ",null,null,null,null,null,null,null,null,"コ　ー　チ",null,null,null,null,null,null,null,null,"コ　ー　チ"]
[null,"A・コーチ",null,null,null,null,null,null,null,null,"A・コーチ",null,null,null,null,null,null,null,null,"A・コーチ"]
[null,"スコアラー",null,null,null,null,null,null,null,null,"スコアラー",null,null,null,null,null,null,null,null,"スコアラー"]
[null,"選　手　氏　名",null,"No.","身長","学年","出身チーム","備考",null,null,"選　手　氏　名",null,"No.","身長","学年","出身チーム","備考",null,null,"選　手　氏　名",null,"No.","身長","学年","出身チーム","備考"]
[null,1,null,4,null,null,null,null,null,null,1,null,4,null,null,null,null,null,null,1,null,4]
[null,2,null,5,null,null,null,null,null,null,2,null,5,null,null,null,null,null,null,2,null,5]
[null,3,null,6,null,null,null,null,null,null,3,null,6,null,null,null,null,null,null,3,null,6]
[null,4,null,7,null,null,null,null,null,null,4,null,7,null,null,null,null,null,null,4,null,7]
[null,5,null,8,null,null,null,null,null,null,5,null,8,null,null,null,null,null,null,5,null,8]
[null,6,null,9,null,null,null,null,null,null,6,null,9,null,null,null,null,null,null,6,null,9]
[null,7,null,10,null,null,null,null,null,null,7,null,10,null,null,null,null,null,null,7,null,10]
[null,8,null,11,null,null,null,null,null,null,8,null,11,null,null,null,null,null,null,8,null,11]
[null,9,null,12,null,null,null,null,null,null,9,null,12,null,null,null,null,null,null,9,null,12]
[null,10,null,13,null,null,null,null,null,null,10,null,13,null,null,null,null,null,null,10,null,13]
[null,11,null,14,null,null,null,null,null,null,11,null,14,null,null,null,null,null,null,11,null,14]
[null,12,null,15,null,null,null,null,null,null,12,null,15,null,null,null,null,null,null,12,null,15]
[null,13,null,16,null,null,null,null,null,null,13,null,16,null,null,null,null,null,null,13,null,16]
[null,14,null,17,null,null,null,null,null,null,14,null,17,null,null,null,null,null,null,14,null,17]
[null,15,null,18,null,null,null,null,null,null,15,null,18,null,null,null,null,null,null,15,null,18]
[]
[]
[null,"女子",null,10,null,null,null,null,null,null,"女子",null,11,null,null,null,null,null,null,"女子",null,12]
[null,"チーム名",null,null,null,null,null,null,null,null,"チーム名",null,null,null,null,null,null,null,null,"チーム名"]
[null,"引率責任者",null,null,null,null,null,null,null,null,"引率責任者",null,null,null,null,null,null,null,null,"引率責任者"]
[null,"コ　ー　チ",null,null,null,null,null,null,null,null,"コ　ー　チ",null,null,null,null,null,null,null,null,"コ　ー　チ"]
[null,"A・コーチ",null,null,null,null,null,null,null,null,"A・コーチ",null,null,null,null,null,null,null,null,"A・コーチ"]
[null,"スコアラー",null,null,null,null,null,null,null,null,"スコアラー",null,null,null,null,null,null,null,null,"スコアラー"]
[null,"選　手　氏　名",null,"No.","身長","学年","出身チーム","備考",null,null,"選　手　氏　名",null,"No.","身長","学年","出身チーム","備考",null,null,"選　手　氏　名",null,"No.","身長","学年","出身チーム","備考"]
[null,1,null,4,null,null,null,null,null,null,1,null,4,null,null,null,null,null,null,1,null,4]
[null,2,null,5,null,null,null,null,null,null,2,null,5,null,null,null,null,null,null,2,null,5]
[null,3,null,6,null,null,null,null,null,null,3,null,6,null,null,null,null,null,null,3,null,6]
[null,4,null,7,null,null,null,null,null,null,4,null,7,null,null,null,null,null,null,4,null,7]
[null,5,null,8,null,null,null,null,null,null,5,null,8,null,null,null,null,null,null,5,null,8]
[null,6,null,9,null,null,null,null,null,null,6,null,9,null,null,null,null,null,null,6,null,9]
[null,7,null,10,null,null,null,null,null,null,7,null,10,null,null,null,null,null,null,7,null,10]
[null,8,null,11,null,null,null,null,null,null,8,null,11,null,null,null,null,null,null,8,null,11]
[null,9,null,12,null,null,null,null,null,null,9,null,12,null,null,null,null,null,null,9,null,12]
[null,10,null,13,null,null,null,null,null,null,10,null,13,null,null,null,null,null,null,10,null,13]
[null,11,null,14,null,null,null,null,null,null,11,null,14,null,null,null,null,null,null,11,null,14]
[null,12,null,15,null,null,null,null,null,null,12,null,15,null,null,null,null,null,null,12,null,15]
[null,13,null,16,null,null,null,null,null,null,13,null,16,null,null,null,null,null,null,13,null,16]
[null,14,null,17,null,null,null,null,null,null,14,null,17,null,null,null,null,null,null,14,null,17]
[null,15,null,18,null,null,null,null,null,null,15,null,18,null,null,null,null,null,null,15,null,18]
[]
[]
[null,"女子",null,13,null,null,null,null,null,null,"女子",null,14,null,null,null,null,null,null,"女子",null,15]
[null,"チーム名",null,null,null,null,null,null,null,null,"チーム名",null,null,null,null,null,null,null,null,"チーム名"]
[null,"引率責任者",null,null,null,null,null,null,null,null,"引率責任者",null,null,null,null,null,null,null,null,"引率責任者"]
[null,"コ　ー　チ",null,null,null,null,null,null,null,null,"コ　ー　チ",null,null,null,null,null,null,null,null,"コ　ー　チ"]
[null,"A・コーチ",null,null,null,null,null,null,null,null,"A・コーチ",null,null,null,null,null,null,null,null,"A・コーチ"]
[null,"スコアラー",null,null,null,null,null,null,null,null,"スコアラー",null,null,null,null,null,null,null,null,"スコアラー"]
[null,"選　手　氏　名",null,"No.","身長","学年","出身チーム","備考",null,null,"選　手　氏　名",null,"No.","身長","学年","出身チーム","備考",null,null,"選　手　氏　名",null,"No.","身長","学年","出身チーム","備考"]
[null,1,null,4,null,null,null,null,null,null,1,null,4,null,null,null,null,null,null,1,null,4]
[null,2,null,5,null,null,null,null,null,null,2,null,5,null,null,null,null,null,null,2,null,5]
[null,3,null,6,null,null,null,null,null,null,3,null,6,null,null,null,null,null,null,3,null,6]
[null,4,null,7,null,null,null,null,null,null,4,null,7,null,null,null,null,null,null,4,null,7]
[null,5,null,8,null,null,null,null,null,null,5,null,8,null,null,null,null,null,null,5,null,8]
[null,6,null,9,null,null,null,null,null,null,6,null,9,null,null,null,null,null,null,6,null,9]
[null,7,null,10,null,null,null,null,null,null,7,null,10,null,null,null,null,null,null,7,null,10]
[null,8,null,11,null,null,null,null,null,null,8,null,11,null,null,null,null,null,null,8,null,11]
[null,9,null,12,null,null,null,null,null,null,9,null,12,null,null,null,null,null,null,9,null,12]
[null,10,null,13,null,null,null,null,null,null,10,null,13,null,null,null,null,null,null,10,null,13]
[null,11,null,14,null,null,null,null,null,null,11,null,14,null,null,null,null,null,null,11,null,14]
[null,12,null,15,null,null,null,null,null,null,12,null,15,null,null,null,null,null,null,12,null,15]
[null,13,null,16,null,null,null,null,null,null,13,null,16,null,null,null,null,null,null,13,null,16]
[null,14,null,17,null,null,null,null,null,null,14,null,17,null,null,null,null,null,null,14,null,17]
[null,15,null,18,null,null,null,null,null,null,15,null,18,null,null,null,null,null,null,15,null,18]
[]
[]
[null,"女子",null,16,null,null,null,null,null,null,"女子",null,17,null,null,null,null,null,null,"女子",null,18]
[null,"チーム名",null,null,null,null,null,null,null,null,"チーム名",null,null,null,null,null,null,null,null,"チーム名"]
[null,"引率責任者",null,null,null,null,null,null,null,null,"引率責任者",null,null,null,null,null,null,null,null,"引率責任者"]
[null,"コ　ー　チ",null,null,null,null,null,null,null,null,"コ　ー　チ",null,null,null,null,null,null,null,null,"コ　ー　チ"]
[null,"A・コーチ",null,null,null,null,null,null,null,null,"A・コーチ",null,null,null,null,null,null,null,null,"A・コーチ"]
[null,"スコアラー",null,null,null,null,null,null,null,null,"スコアラー",null,null,null,null,null,null,null,null,"スコアラー"]
[null,"選　手　氏　名",null,"No.","身長","学年","出身チーム","備考",null,null,"選　手　氏　名",null,"No.","身長","学年","出身チーム","備考",null,null,"選　手　氏　名",null,"No.","身長","学年","出身チーム","備考"]
[null,1,null,4,null,null,null,null,null,null,1,null,4,null,null,null,null,null,null,1,null,4]
[null,2,null,5,null,null,null,null,null,null,2,null,5,null,null,null,null,null,null,2,null,5]
[null,3,null,6,null,null,null,null,null,null,3,null,6,null,null,null,null,null,null,3,null,6]
[null,4,null,7,null,null,null,null,null,null,4,null,7,null,null,null,null,null,null,4,null,7]
[null,5,null,8,null,null,null,null,null,null,5,null,8,null,null,null,null,null,null,5,null,8]
[null,6,null,9,null,null,null,null,null,null,6,null,9,null,null,null,null,null,null,6,null,9]
[null,7,null,10,null,null,null,null,null,null,7,null,10,null,null,null,null,null,null,7,null,10]
[null,8,null,11,null,null,null,null,null,null,8,null,11,null,null,null,null,null,null,8,null,11]
[null,9,null,12,null,null,null,null,null,null,9,null,12,null,null,null,null,null,null,9,null,12]
[null,10,null,13,null,null,null,null,null,null,10,null,13,null,null,null,null,null,null,10,null,13]
[null,11,null,14,null,null,null,null,null,null,11,null,14,null,null,null,null,null,null,11,null,14]
[null,12,null,15,null,null,null,null,null,null,12,null,15,null,null,null,null,null,null,12,null,15]
[null,13,null,16,null,null,null,null,null,null,13,null,16,null,null,null,null,null,null,13,null,16]
[null,14,null,17,null,null,null,null,null,null,14,null,17,null,null,null,null,null,null,14,null,17]
[null,15,null,18,null,null,null,null,null,null,15,null,18,null,null,null,null,null,null,15,null,18]
[]
[]
[null,"女子",null,19,null,null,null,null,null,null,"女子",null,20,null,null,null,null,null,null,"女子",null,21]
[null,"チーム名",null,null,null,null,null,null,null,null,"チーム名",null,null,null,null,null,null,null,null,"チーム名"]
[null,"引率責任者",null,null,null,null,null,null,null,null,"引率責任者",null,null,null,null,null,null,null,null,"引率責任者"]
[null,"コ　ー　チ",null,null,null,null,null,null,null,null,"コ　ー　チ",null,null,null,null,null,null,null,null,"コ　ー　チ"]
[null,"A・コーチ",null,null,null,null,null,null,null,null,"A・コーチ",null,null,null,null,null,null,null,null,"A・コーチ"]
[null,"スコアラー",null,null,null,null,null,null,null,null,"スコアラー",null,null,null,null,null,null,null,null,"スコアラー"]
[null,"選　手　氏　名",null,"No.","身長","学年","出身チーム","備考",null,null,"選　手　氏　名",null,"No.","身長","学年","出身チーム","備考",null,null,"選　手　氏　名",null,"No.","身長","学年","出身チーム","備考"]
[null,1,null,4,null,null,null,null,null,null,1,null,4,null,null,null,null,null,null,1,null,4]
[null,2,null,5,null,null,null,null,null,null,2,null,5,null,null,null,null,null,null,2,null,5]
[null,3,null,6,null,null,null,null,null,null,3,null,6,null,null,null,null,null,null,3,null,6]
[null,4,null,7,null,null,null,null,null,null,4,null,7,null,null,null,null,null,null,4,null,7]
[null,5,null,8,null,null,null,null,null,null,5,null,8,null,null,null,null,null,null,5,null,8]
[null,6,null,9,null,null,null,null,null,null,6,null,9,null,null,null,null,null,null,6,null,9]
[null,7,null,10,null,null,null,null,null,null,7,null,10,null,null,null,null,null,null,7,null,10]
[null,8,null,11,null,null,null,null,null,null,8,null,11,null,null,null,null,null,null,8,null,11]
[null,9,null,12,null,null,null,null,null,null,9,null,12,null,null,null,null,null,null,9,null,12]
[null,10,null,13,null,null,null,null,null,null,10,null,13,null,null,null,null,null,null,10,null,13]
[null,11,null,14,null,null,null,null,null,null,11,null,14,null,null,null,null,null,null,11,null,14]
[null,12,null,15,null,null,null,null,null,null,12,null,15,null,null,null,null,null,null,12,null,15]
[null,13,null,16,null,null,null,null,null,null,13,null,16,null,null,null,null,null,null,13,null,16]
[null,14,null,17,null,null,null,null,null,null,14,null,17,null,null,null,null,null,null,14,null,17]
[null,15,null,18,null,null,null,null,null,null,15,null,18,null,null,null,null,null,null,15,null,18]
[]
[]
[null,"女子",null,22,null,null,null,null,null,null,"女子",null,23,null,null,null,null,null,null,"女子",null,24]
[null,"チーム名",null,null,null,null,null,null,null,null,"チーム名",null,null,null,null,null,null,null,null,"チーム名"]
[null,"引率責任者",null,null,null,null,null,null,null,null,"引率責任者",null,null,null,null,null,null,null,null,"引率責任者"]
[null,"コ　ー　チ",null,null,null,null,null,null,null,null,"コ　ー　チ",null,null,null,null,null,null,null,null,"コ　ー　チ"]
[null,"A・コーチ",null,null,null,null,null,null,null,null,"A・コーチ",null,null,null,null,null,null,null,null,"A・コーチ"]
[null,"スコアラー",null,null,null,null,null,null,null,null,"スコアラー",null,null,null,null,null,null,null,null,"スコアラー"]
[null,"選　手　氏　名",null,"No.","身長","学年","出身チーム","備考",null,null,"選　手　氏　名",null,"No.","身長","学年","出身チーム","備考",null,null,"選　手　氏　名",null,"No.","身長","学年","出身チーム","備考"]
[null,1,null,4,null,null,null,null,null,null,1,null,4,null,null,null,null,null,null,1,null,4]
[null,2,null,5,null,null,null,null,null,null,2,null,5,null,null,null,null,null,null,2,null,5]
[null,3,null,6,null,null,null,null,null,null,3,null,6,null,null,null,null,null,null,3,null,6]
[null,4,null,7,null,null,null,null,null,null,4,null,7,null,null,null,null,null,null,4,null,7]
[null,5,null,8,null,null,null,null,null,null,5,null,8,null,null,null,null,null,null,5,null,8]
[null,6,null,9,null,null,null,null,null,null,6,null,9,null,null,null,null,null,null,6,null,9]
[null,7,null,10,null,null,null,null,null,null,7,null,10,null,null,null,null,null,null,7,null,10]
[null,8,null,11,null,null,null,null,null,null,8,null,11,null,null,null,null,null,null,8,null,11]
[null,9,null,12,null,null,null,null,null,null,9,null,12,null,null,null,null,null,null,9,null,12]
[null,10,null,13,null,null,null,null,null,null,10,null,13,null,null,null,null,null,null,10,null,13]
[null,11,null,14,null,null,null,null,null,null,11,null,14,null,null,null,null,null,null,11,null,14]
[null,12,null,15,null,null,null,null,null,null,12,null,15,null,null,null,null,null,null,12,null,15]
[null,13,null,16,null,null,null,null,null,null,13,null,16,null,null,null,null,null,null,13,null,16]
[null,14,null,17,null,null,null,null,null,null,14,null,17,null,null,null,null,null,null,14,null,17]
[null,15,null,18,null,null,null,null,null,null,15,null,18,null,null,null,null,null,null,15,null,18]
[]
[]
[null,"女子",null,25,null,null,null,null,null,null,"女子",null,26,null,null,null,null,null,null,"女子",null,27]
[null,"チーム名",null,null,null,null,null,null,null,null,"チーム名",null,null,null,null,null,null,null,null,"チーム名"]
[null,"引率責任者",null,null,null,null,null,null,null,null,"引率責任者",null,null,null,null,null,null,null,null,"引率責任者"]
[null,"コ　ー　チ",null,null,null,null,null,null,null,null,"コ　ー　チ",null,null,null,null,null,null,null,null,"コ　ー　チ"]
[null,"A・コーチ",null,null,null,null,null,null,null,null,"A・コーチ",null,null,null,null,null,null,null,null,"A・コーチ"]
[null,"スコアラー",null,null,null,null,null,null,null,null,"スコアラー",null,null,null,null,null,null,null,null,"スコアラー"]
[null,"選　手　氏　名",null,"No.","身長","学年","出身チーム","備考",null,null,"選　手　氏　名",null,"No.","身長","学年","出身チーム","備考",null,null,"選　手　氏　名",null,"No.","身長","学年","出身チーム","備考"]
[null,1,null,4,null,null,null,null,null,null,1,null,4,null,null,null,null,null,null,1,null,4]
[null,2,null,5,null,null,null,null,null,null,2,null,5,null,null,null,null,null,null,2,null,5]
[null,3,null,6,null,null,null,null,null,null,3,null,6,null,null,null,null,null,null,3,null,6]
[null,4,null,7,null,null,null,null,null,null,4,null,7,null,null,null,null,null,null,4,null,7]
[null,5,null,8,null,null,null,null,null,null,5,null,8,null,null,null,null,null,null,5,null,8]
[null,6,null,9,null,null,null,null,null,null,6,null,9,null,null,null,null,null,null,6,null,9]
[null,7,null,10,null,null,null,null,null,null,7,null,10,null,null,null,null,null,null,7,null,10]
[null,8,null,11,null,null,null,null,null,null,8,null,11,null,null,null,null,null,null,8,null,11]
[null,9,null,12,null,null,null,null,null,null,9,null,12,null,null,null,null,null,null,9,null,12]
[null,10,null,13,null,null,null,null,null,null,10,null,13,null,null,null,null,null,null,10,null,13]
[null,11,null,14,null,null,null,null,null,null,11,null,14,null,null,null,null,null,null,11,null,14]
[null,12,null,15,null,null,null,null,null,null,12,null,15,null,null,null,null,null,null,12,null,15]
[null,13,null,16,null,null,null,null,null,null,13,null,16,null,null,null,null,null,null,13,null,16]
[null,14,null,17,null,null,null,null,null,null,14,null,17,null,null,null,null,null,null,14,null,17]
[null,15,null,18,null,null,null,null,null,null,15,null,18,null,null,null,null,null,null,15,null,18]
[]
[]
[null,"女子",null,28,null,null,null,null,null,null,"女子",null,29,null,null,null,null,null,null,"女子",null,30]
[null,"チーム名",null,null,null,null,null,null,null,null,"チーム名",null,null,null,null,null,null,null,null,"チーム名"]
[null,"引率責任者",null,null,null,null,null,null,null,null,"引率責任者",null,null,null,null,null,null,null,null,"引率責任者"]
[null,"コ　ー　チ",null,null,null,null,null,null,null,null,"コ　ー　チ",null,null,null,null,null,null,null,null,"コ　ー　チ"]
[null,"A・コーチ",null,null,null,null,null,null,null,null,"A・コーチ",null,null,null,null,null,null,null,null,"A・コーチ"]
[null,"スコアラー",null,null,null,null,null,null,null,null,"スコアラー",null,null,null,null,null,null,null,null,"スコアラー"]
[null,"選　手　氏　名",null,"No.","身長","学年","出身チーム","備考",null,null,"選　手　氏　名",null,"No.","身長","学年","出身チーム","備考",null,null,"選　手　氏　名",null,"No.","身長","学年","出身チーム","備考"]
[null,1,null,4,null,null,null,null,null,null,1,null,4,null,null,null,null,null,null,1,null,4]
[null,2,null,5,null,null,null,null,null,null,2,null,5,null,null,null,null,null,null,2,null,5]
[null,3,null,6,null,null,null,null,null,null,3,null,6,null,null,null,null,null,null,3,null,6]
[null,4,null,7,null,null,null,null,null,null,4,null,7,null,null,null,null,null,null,4,null,7]
[null,5,null,8,null,null,null,null,null,null,5,null,8,null,null,null,null,null,null,5,null,8]
[null,6,null,9,null,null,null,null,null,null,6,null,9,null,null,null,null,null,null,6,null,9]
[null,7,null,10,null,null,null,null,null,null,7,null,10,null,null,null,null,null,null,7,null,10]
[null,8,null,11,null,null,null,null,null,null,8,null,11,null,null,null,null,null,null,8,null,11]
[null,9,null,12,null,null,null,null,null,null,9,null,12,null,null,null,null,null,null,9,null,12]
[null,10,null,13,null,null,null,null,null,null,10,null,13,null,null,null,null,null,null,10,null,13]
[null,11,null,14,null,null,null,null,null,null,11,null,14,null,null,null,null,null,null,11,null,14]
[null,12,null,15,null,null,null,null,null,null,12,null,15,null,null,null,null,null,null,12,null,15]
[null,13,null,16,null,null,null,null,null,null,13,null,16,null,null,null,null,null,null,13,null,16]
[null,14,null,17,null,null,null,null,null,null,14,null,17,null,null,null,null,null,null,14,null,17]
[null,15,null,18,null,null,null,null,null,null,15,null,18,null,null,null,null,null,null,15,null,18]
[]
[]
[null,"女子",null,31,null,null,null,null,null,null,"女子",null,32,null,null,null,null,null,null,"女子",null,33]
[null,"チーム名",null,null,null,null,null,null,null,null,"チーム名",null,null,null,null,null,null,null,null,"チーム名"]
[null,"引率責任者",null,null,null,null,null,null,null,null,"引率責任者",null,null,null,null,null,null,null,null,"引率責任者"]
[null,"コ　ー　チ",null,null,null,null,null,null,null,null,"コ　ー　チ",null,null,null,null,null,null,null,null,"コ　ー　チ"]
[null,"A・コーチ",null,null,null,null,null,null,null,null,"A・コーチ",null,null,null,null,null,null,null,null,"A・コーチ"]
[null,"スコアラー",null,null,null,null,null,null,null,null,"スコアラー",null,null,null,null,null,null,null,null,"スコアラー"]
[null,"選　手　氏　名",null,"No.","身長","学年","出身チーム","備考",null,null,"選　手　氏　名",null,"No.","身長","学年","出身チーム","備考",null,null,"選　手　氏　名",null,"No.","身長","学年","出身チーム","備考"]
[null,1,null,4,null,null,null,null,null,null,1,null,4,null,null,null,null,null,null,1,null,4]
[null,2,null,5,null,null,null,null,null,null,2,null,5,null,null,null,null,null,null,2,null,5]
[null,3,null,6,null,null,null,null,null,null,3,null,6,null,null,null,null,null,null,3,null,6]
[null,4,null,7,null,null,null,null,null,null,4,null,7,null,null,null,null,null,null,4,null,7]
[null,5,null,8,null,null,null,null,null,null,5,null,8,null,null,null,null,null,null,5,null,8]
[null,6,null,9,null,null,null,null,null,null,6,null,9,null,null,null,null,null,null,6,null,9]
[null,7,null,10,null,null,null,null,null,null,7,null,10,null,null,null,null,null,null,7,null,10]
[null,8,null,11,null,null,null,null,null,null,8,null,11,null,null,null,null,null,null,8,null,11]
[null,9,null,12,null,null,null,null,null,null,9,null,12,null,null,null,null,null,null,9,null,12]
[null,10,null,13,null,null,null,null,null,null,10,null,13,null,null,null,null,null,null,10,null,13]
[null,11,null,14,null,null,null,null,null,null,11,null,14,null,null,null,null,null,null,11,null,14]
[null,12,null,15,null,null,null,null,null,null,12,null,15,null,null,null,null,null,null,12,null,15]
[null,13,null,16,null,null,null,null,null,null,13,null,16,null,null,null,null,null,null,13,null,16]
[null,14,null,17,null,null,null,null,null,null,14,null,17,null,null,null,null,null,null,14,null,17]
[null,15,null,18,null,null,null,null,null,null,15,null,18,null,null,null,null,null,null,15,null,18]
[]
[]
[null,"女子",null,34,null,null,null,null,null,null,"女子",null,35,null,null,null,null,null,null,"女子",null,36]
[null,"チーム名",null,null,null,null,null,null,null,null,"チーム名",null,null,null,null,null,null,null,null,"チーム名"]
[null,"引率責任者",null,null,null,null,null,null,null,null,"引率責任者",null,null,null,null,null,null,null,null,"引率責任者"]
[null,"コ　ー　チ",null,null,null,null,null,null,null,null,"コ　ー　チ",null,null,null,null,null,null,null,null,"コ　ー　チ"]
[null,"A・コーチ",null,null,null,null,null,null,null,null,"A・コーチ",null,null,null,null,null,null,null,null,"A・コーチ"]
[null,"スコアラー",null,null,null,null,null,null,null,null,"スコアラー",null,null,null,null,null,null,null,null,"スコアラー"]
[null,"選　手　氏　名",null,"No.","身長","学年","出身チーム","備考",null,null,"選　手　氏　名",null,"No.","身長","学年","出身チーム","備考",null,null,"選　手　氏　名",null,"No.","身長","学年","出身チーム","備考"]
[null,1,null,4,null,null,null,null,null,null,1,null,4,null,null,null,null,null,null,1,null,4]
[null,2,null,5,null,null,null,null,null,null,2,null,5,null,null,null,null,null,null,2,null,5]
[null,3,null,6,null,null,null,null,null,null,3,null,6,null,null,null,null,null,null,3,null,6]
[null,4,null,7,null,null,null,null,null,null,4,null,7,null,null,null,null,null,null,4,null,7]
[null,5,null,8,null,null,null,null,null,null,5,null,8,null,null,null,null,null,null,5,null,8]
[null,6,null,9,null,null,null,null,null,null,6,null,9,null,null,null,null,null,null,6,null,9]
[null,7,null,10,null,null,null,null,null,null,7,null,10,null,null,null,null,null,null,7,null,10]
[null,8,null,11,null,null,null,null,null,null,8,null,11,null,null,null,null,null,null,8,null,11]
[null,9,null,12,null,null,null,null,null,null,9,null,12,null,null,null,null,null,null,9,null,12]
[null,10,null,13,null,null,null,null,null,null,10,null,13,null,null,null,null,null,null,10,null,13]
[null,11,null,14,null,null,null,null,null,null,11,null,14,null,null,null,null,null,null,11,null,14]
[null,12,null,15,null,null,null,null,null,null,12,null,15,null,null,null,null,null,null,12,null,15]
[null,13,null,16,null,null,null,null,null,null,13,null,16,null,null,null,null,null,null,13,null,16]
[null,14,null,17,null,null,null,null,null,null,14,null,17,null,null,null,null,null,null,14,null,17]
[null,15,null,18,null,null,null,null,null,null,15,null,18,null,null,null,null,null,null,15,null,18]

{"sheet":"データ管理","index":4,"n_rows":76,"n_cols":34,"rows_kept":76,"cut":false,"hidden":false,"merged":[]}
["組合せ番号","チーム名","コーチ","Ａ・コーチ","選手１","No.","選手２","No.","選手３","No.","選手４","No.","選手５","No.","選手６","No.","選手７","No.","選手８","No.","選手９","No.","選手１０","No.","選手１１","No.","選手１２","No.","選手１３","No.","選手１４","No.","選手１５","No."]
[1,{"$f":"選手名簿!D3","v":0},{"$f":"選手名簿!D5","v":0},{"$f":"選手名簿!D6","v":0},{"$f":"選手名簿!C9","v":0},{"$f":"選手名簿!D9","v":4},{"$f":"選手名簿!C10","v":0},{"$f":"選手名簿!D10","v":5},{"$f":"選手名簿!C11","v":0},{"$f":"選手名簿!D11","v":6},{"$f":"選手名簿!C12","v":0},{"$f":"選手名簿!D12","v":7},{"$f":"選手名簿!C13","v":0},{"$f":"選手名簿!D13","v":8},{"$f":"選手名簿!C14","v":0},{"$f":"選手名簿!D14","v":9},{"$f":"選手名簿!C15","v":0},{"$f":"選手名簿!D15","v":10},{"$f":"選手名簿!C16","v":0},{"$f":"選手名簿!D16","v":11},{"$f":"選手名簿!C17","v":0},{"$f":"選手名簿!D17","v":12},{"$f":"選手名簿!C18","v":0},{"$f":"選手名簿!D18","v":13},{"$f":"選手名簿!C19","v":0},{"$f":"選手名簿!D19","v":14},{"$f":"選手名簿!C20","v":0},{"$f":"選手名簿!D20","v":15},{"$f":"選手名簿!C21","v":0},{"$f":"選手名簿!D21","v":16},{"$f":"選手名簿!C22","v":0},{"$f":"選手名簿!D22","v":17},{"$f":"選手名簿!C23","v":0},{"$f":"選手名簿!D23","v":18}]
[2,{"$f":"選手名簿!M3","v":0},{"$f":"選手名簿!M5","v":0},{"$f":"選手名簿!M6","v":0},{"$f":"選手名簿!L9","v":0},{"$f":"選手名簿!M9","v":4},{"$f":"選手名簿!L10","v":0},{"$f":"選手名簿!M10","v":5},{"$f":"選手名簿!L11","v":0},{"$f":"選手名簿!M11","v":6},{"$f":"選手名簿!L12","v":0},{"$f":"選手名簿!M12","v":7},{"$f":"選手名簿!L13","v":0},{"$f":"選手名簿!M13","v":8},{"$f":"選手名簿!L14","v":0},{"$f":"選手名簿!M14","v":9},{"$f":"選手名簿!L15","v":0},{"$f":"選手名簿!M15","v":10},{"$f":"選手名簿!L16","v":0},{"$f":"選手名簿!M16","v":11},{"$f":"選手名簿!L17","v":0},{"$f":"選手名簿!M17","v":12},{"$f":"選手名簿!L18","v":0},{"$f":"選手名簿!M18","v":13},{"$f":"選手名簿!L19","v":0},{"$f":"選手名簿!M19","v":14},{"$f":"選手名簿!L20","v":0},{"$f":"選手名簿!M20","v":15},{"$f":"選手名簿!L21","v":0},{"$f":"選手名簿!M21","v":16},{"$f":"選手名簿!L22","v":0},{"$f":"選手名簿!M22","v":17},{"$f":"選手名簿!L23","v":0},{"$f":"選手名簿!M23","v":18}]
[3,{"$f":"選手名簿!V3","v":0},{"$f":"選手名簿!V5","v":0},{"$f":"選手名簿!V6","v":0},{"$f":"選手名簿!U9","v":0},{"$f":"選手名簿!V9","v":4},{"$f":"選手名簿!U10","v":0},{"$f":"選手名簿!V10","v":5},{"$f":"選手名簿!U11","v":0},{"$f":"選手名簿!V11","v":6},{"$f":"選手名簿!U12","v":0},{"$f":"選手名簿!V12","v":7},{"$f":"選手名簿!U13","v":0},{"$f":"選手名簿!V13","v":8},{"$f":"選手名簿!U14","v":0},{"$f":"選手名簿!V14","v":9},{"$f":"選手名簿!U15","v":0},{"$f":"選手名簿!V15","v":10},{"$f":"選手名簿!U16","v":0},{"$f":"選手名簿!V16","v":11},{"$f":"選手名簿!U17","v":0},{"$f":"選手名簿!V17","v":12},{"$f":"選手名簿!U18","v":0},{"$f":"選手名簿!V18","v":13},{"$f":"選手名簿!U19","v":0},{"$f":"選手名簿!V19","v":14},{"$f":"選手名簿!U20","v":0},{"$f":"選手名簿!V20","v":15},{"$f":"選手名簿!U21","v":0},{"$f":"選手名簿!V21","v":16},{"$f":"選手名簿!U22","v":0},{"$f":"選手名簿!V22","v":17},{"$f":"選手名簿!U23","v":0},{"$f":"選手名簿!V23","v":18}]
[4,{"$f":"選手名簿!D27","v":0},{"$f":"選手名簿!D29","v":0},{"$f":"選手名簿!D30","v":0},{"$f":"選手名簿!C33","v":0},{"$f":"選手名簿!D33","v":4},{"$f":"選手名簿!C34","v":0},{"$f":"選手名簿!D34","v":5},{"$f":"選手名簿!C35","v":0},{"$f":"選手名簿!D35","v":6},{"$f":"選手名簿!C36","v":0},{"$f":"選手名簿!D36","v":7},{"$f":"選手名簿!C37","v":0},{"$f":"選手名簿!D37","v":8},{"$f":"選手名簿!C38","v":0},{"$f":"選手名簿!D38","v":9},{"$f":"選手名簿!C39","v":0},{"$f":"選手名簿!D39","v":10},{"$f":"選手名簿!C40","v":0},{"$f":"選手名簿!D40","v":11},{"$f":"選手名簿!C41","v":0},{"$f":"選手名簿!D41","v":12},{"$f":"選手名簿!C42","v":0},{"$f":"選手名簿!D42","v":13},{"$f":"選手名簿!C43","v":0},{"$f":"選手名簿!D43","v":14},{"$f":"選手名簿!C44","v":0},{"$f":"選手名簿!D44","v":15},{"$f":"選手名簿!C45","v":0},{"$f":"選手名簿!D45","v":16},{"$f":"選手名簿!C46","v":0},{"$f":"選手名簿!D46","v":17},{"$f":"選手名簿!C47","v":0},{"$f":"選手名簿!D47","v":18}]
[5,{"$f":"選手名簿!M27","v":0},{"$f":"選手名簿!M29","v":0},{"$f":"選手名簿!D30","v":0},{"$f":"選手名簿!L33","v":0},{"$f":"選手名簿!M33","v":4},{"$f":"選手名簿!L34","v":0},{"$f":"選手名簿!M34","v":5},{"$f":"選手名簿!L35","v":0},{"$f":"選手名簿!M35","v":6},{"$f":"選手名簿!L36","v":0},{"$f":"選手名簿!M36","v":7},{"$f":"選手名簿!L37","v":0},{"$f":"選手名簿!M37","v":8},{"$f":"選手名簿!L38","v":0},{"$f":"選手名簿!M38","v":9},{"$f":"選手名簿!L39","v":0},{"$f":"選手名簿!M39","v":10},{"$f":"選手名簿!L40","v":0},{"$f":"選手名簿!M40","v":11},{"$f":"選手名簿!L41","v":0},{"$f":"選手名簿!M41","v":12},{"$f":"選手名簿!L42","v":0},{"$f":"選手名簿!M42","v":13},{"$f":"選手名簿!L43","v":0},{"$f":"選手名簿!M43","v":14},{"$f":"選手名簿!L44","v":0},{"$f":"選手名簿!M44","v":15},{"$f":"選手名簿!L45","v":0},{"$f":"選手名簿!M45","v":16},{"$f":"選手名簿!L46","v":0},{"$f":"選手名簿!M46","v":17},{"$f":"選手名簿!L47","v":0},{"$f":"選手名簿!M47","v":18}]
[6,{"$f":"選手名簿!V27","v":0},{"$f":"選手名簿!V29","v":0},{"$f":"選手名簿!V30","v":0},{"$f":"選手名簿!U33","v":0},{"$f":"選手名簿!V33","v":4},{"$f":"選手名簿!U34","v":0},{"$f":"選手名簿!M34","v":5},{"$f":"選手名簿!U35","v":0},{"$f":"選手名簿!V35","v":6},{"$f":"選手名簿!U36","v":0},{"$f":"選手名簿!V36","v":7},{"$f":"選手名簿!U37","v":0},{"$f":"選手名簿!V37","v":8},{"$f":"選手名簿!U38","v":0},{"$f":"選手名簿!V38","v":9},{"$f":"選手名簿!U39","v":0},{"$f":"選手名簿!V39","v":10},{"$f":"選手名簿!U40","v":0},{"$f":"選手名簿!V40","v":11},{"$f":"選手名簿!U41","v":0},{"$f":"選手名簿!V41","v":12},{"$f":"選手名簿!U42","v":0},{"$f":"選手名簿!V42","v":13},{"$f":"選手名簿!U43","v":0},{"$f":"選手名簿!V43","v":14},{"$f":"選手名簿!U44","v":0},{"$f":"選手名簿!V44","v":15},{"$f":"選手名簿!U45","v":0},{"$f":"選手名簿!V45","v":16},{"$f":"選手名簿!U46","v":0},{"$f":"選手名簿!V46","v":17},{"$f":"選手名簿!U47","v":0},{"$f":"選手名簿!V47","v":18}]
[7,{"$f":"選手名簿!D51","v":0},{"$f":"選手名簿!D53","v":0},{"$f":"選手名簿!D54","v":0},{"$f":"選手名簿!C57","v":0},{"$f":"選手名簿!D57","v":4},{"$f":"選手名簿!C58","v":0},{"$f":"選手名簿!D58","v":5},{"$f":"選手名簿!C59","v":0},{"$f":"選手名簿!D59","v":6},{"$f":"選手名簿!C60","v":0},{"$f":"選手名簿!D60","v":7},{"$f":"選手名簿!C61","v":0},{"$f":"選手名簿!D61","v":8},{"$f":"選手名簿!C62","v":0},{"$f":"選手名簿!D62","v":9},{"$f":"選手名簿!C63","v":0},{"$f":"選手名簿!D63","v":10},{"$f":"選手名簿!C64","v":0},{"$f":"選手名簿!D64","v":11},{"$f":"選手名簿!C65","v":0},{"$f":"選手名簿!D65","v":12},{"$f":"選手名簿!C66","v":0},{"$f":"選手名簿!D66","v":13},{"$f":"選手名簿!C67","v":0},{"$f":"選手名簿!D67","v":14},{"$f":"選手名簿!C68","v":0},{"$f":"選手名簿!D68","v":15},{"$f":"選手名簿!C69","v":0},{"$f":"選手名簿!D69","v":16},{"$f":"選手名簿!C70","v":0},{"$f":"選手名簿!D70","v":17},{"$f":"選手名簿!C71","v":0},{"$f":"選手名簿!D71","v":18}]
[8,{"$f":"選手名簿!M51","v":0},{"$f":"選手名簿!M53","v":0},{"$f":"選手名簿!M54","v":0},{"$f":"選手名簿!L57","v":0},{"$f":"選手名簿!M57","v":4},{"$f":"選手名簿!L58","v":0},{"$f":"選手名簿!M58","v":5},{"$f":"選手名簿!L59","v":0},{"$f":"選手名簿!M59","v":6},{"$f":"選手名簿!L60","v":0},{"$f":"選手名簿!M60","v":7},{"$f":"選手名簿!L61","v":0},{"$f":"選手名簿!M61","v":8},{"$f":"選手名簿!L62","v":0},{"$f":"選手名簿!M62","v":9},{"$f":"選手名簿!L63","v":0},{"$f":"選手名簿!M63","v":10},{"$f":"選手名簿!L64","v":0},{"$f":"選手名簿!M64","v":11},{"$f":"選手名簿!L65","v":0},{"$f":"選手名簿!M65","v":12},{"$f":"選手名簿!L66","v":0},{"$f":"選手名簿!M66","v":13},{"$f":"選手名簿!L67","v":0},{"$f":"選手名簿!M67","v":14},{"$f":"選手名簿!L68","v":0},{"$f":"選手名簿!M68","v":15},{"$f":"選手名簿!L69","v":0},{"$f":"選手名簿!M69","v":16},{"$f":"選手名簿!L70","v":0},{"$f":"選手名簿!M70","v":17},{"$f":"選手名簿!L71","v":0},{"$f":"選手名簿!M71","v":18}]
[9,{"$f":"選手名簿!V51","v":0},{"$f":"選手名簿!V53","v":0},{"$f":"選手名簿!V54","v":0},{"$f":"選手名簿!U57","v":0},{"$f":"選手名簿!V57","v":4},{"$f":"選手名簿!U58","v":0},{"$f":"選手名簿!V58","v":5},{"$f":"選手名簿!U59","v":0},{"$f":"選手名簿!V59","v":6},{"$f":"選手名簿!U60","v":0},{"$f":"選手名簿!V60","v":7},{"$f":"選手名簿!U61","v":0},{"$f":"選手名簿!V61","v":8},{"$f":"選手名簿!U62","v":0},{"$f":"選手名簿!V62","v":9},{"$f":"選手名簿!U63","v":0},{"$f":"選手名簿!V63","v":10},{"$f":"選手名簿!U64","v":0},{"$f":"選手名簿!V64","v":11},{"$f":"選手名簿!U65","v":0},{"$f":"選手名簿!V65","v":12},{"$f":"選手名簿!U66","v":0},{"$f":"選手名簿!V66","v":13},{"$f":"選手名簿!U67","v":0},{"$f":"選手名簿!V67","v":14},{"$f":"選手名簿!U68","v":0},{"$f":"選手名簿!V68","v":15},{"$f":"選手名簿!U69","v":0},{"$f":"選手名簿!V69","v":16},{"$f":"選手名簿!U70","v":0},{"$f":"選手名簿!V70","v":17},{"$f":"選手名簿!U71","v":0},{"$f":"選手名簿!V71","v":18}]
[10,{"$f":"選手名簿!D75","v":0},{"$f":"選手名簿!D77","v":0},{"$f":"選手名簿!D78","v":0},{"$f":"選手名簿!C81","v":0},{"$f":"選手名簿!D81","v":4},{"$f":"選手名簿!C82","v":0},{"$f":"選手名簿!D82","v":5},{"$f":"選手名簿!C83","v":0},{"$f":"選手名簿!D83","v":6},{"$f":"選手名簿!C84","v":0},{"$f":"選手名簿!D84","v":7},{"$f":"選手名簿!C85","v":0},{"$f":"選手名簿!D85","v":8},{"$f":"選手名簿!C86","v":0},{"$f":"選手名簿!D86","v":9},{"$f":"選手名簿!C87","v":0},{"$f":"選手名簿!D87","v":10},{"$f":"選手名簿!C88","v":0},{"$f":"選手名簿!D88","v":11},{"$f":"選手名簿!C89","v":0},{"$f":"選手名簿!D89","v":12},{"$f":"選手名簿!C90","v":0},{"$f":"選手名簿!D91","v":14},{"$f":"選手名簿!C91","v":0},{"$f":"選手名簿!D92","v":15},{"$f":"選手名簿!C92","v":0},{"$f":"選手名簿!D93","v":16},{"$f":"選手名簿!C93","v":0},{"$f":"選手名簿!D93","v":16},{"$f":"選手名簿!C94","v":0},{"$f":"選手名簿!D94","v":17},{"$f":"選手名簿!C95","v":0},{"$f":"選手名簿!D95","v":18}]
[11,{"$f":"選手名簿!M75","v":0},{"$f":"選手名簿!M77","v":0},{"$f":"選手名簿!M78","v":0},{"$f":"選手名簿!L81","v":0},{"$f":"選手名簿!M81","v":4},{"$f":"選手名簿!L82","v":0},{"$f":"選手名簿!M82","v":5},{"$f":"選手名簿!L83","v":0},{"$f":"選手名簿!M83","v":6},{"$f":"選手名簿!L84","v":0},{"$f":"選手名簿!M84","v":7},{"$f":"選手名簿!L85","v":0},{"$f":"選手名簿!M85","v":8},{"$f":"選手名簿!L86","v":0},{"$f":"選手名簿!M86","v":9},{"$f":"選手名簿!L87","v":0},{"$f":"選手名簿!M87","v":10},{"$f":"選手名簿!L88","v":0},{"$f":"選手名簿!M88","v":11},{"$f":"選手名簿!L89","v":0},{"$f":"選手名簿!M89","v":12},{"$f":"選手名簿!L90","v":0},{"$f":"選手名簿!M90","v":13},{"$f":"選手名簿!L91","v":0},{"$f":"選手名簿!M91","v":14},{"$f":"選手名簿!L92","v":0},{"$f":"選手名簿!M92","v":15},{"$f":"選手名簿!L93","v":0},{"$f":"選手名簿!M93","v":16},{"$f":"選手名簿!L94","v":0},{"$f":"選手名簿!M94","v":17},{"$f":"選手名簿!L95","v":0},{"$f":"選手名簿!M95","v":18}]
[12,{"$f":"選手名簿!V75","v":0},{"$f":"選手名簿!V77","v":0},{"$f":"選手名簿!V78","v":0},{"$f":"選手名簿!U81","v":0},{"$f":"選手名簿!V81","v":4},{"$f":"選手名簿!U82","v":0},{"$f":"選手名簿!V82","v":5},{"$f":"選手名簿!U83","v":0},{"$f":"選手名簿!V83","v":6},{"$f":"選手名簿!U84","v":0},{"$f":"選手名簿!V84","v":7},{"$f":"選手名簿!U85","v":0},{"$f":"選手名簿!V85","v":8},{"$f":"選手名簿!U86","v":0},{"$f":"選手名簿!V86","v":9},{"$f":"選手名簿!U87","v":0},{"$f":"選手名簿!V87","v":10},{"$f":"選手名簿!U88","v":0},{"$f":"選手名簿!V88","v":11},{"$f":"選手名簿!U89","v":0},{"$f":"選手名簿!V89","v":12},{"$f":"選手名簿!U90","v":0},{"$f":"選手名簿!V90","v":13},{"$f":"選手名簿!U91","v":0},{"$f":"選手名簿!V91","v":14},{"$f":"選手名簿!U92","v":0},{"$f":"選手名簿!V92","v":15},{"$f":"選手名簿!U93","v":0},{"$f":"選手名簿!V93","v":16},{"$f":"選手名簿!U94","v":0},{"$f":"選手名簿!V94","v":17},{"$f":"選手名簿!U95","v":0},{"$f":"選手名簿!V95","v":18}]
[13,{"$f":"選手名簿!D99","v":0},{"$f":"選手名簿!D101","v":0},{"$f":"選手名簿!D102","v":0},{"$f":"選手名簿!C105","v":0},{"$f":"選手名簿!D105","v":4},{"$f":"選手名簿!C106","v":0},{"$f":"選手名簿!D106","v":5},{"$f":"選手名簿!C107","v":0},{"$f":"選手名簿!D107","v":6},{"$f":"選手名簿!C108","v":0},{"$f":"選手名簿!D108","v":7},{"$f":"選手名簿!C109","v":0},{"$f":"選手名簿!D109","v":8},{"$f":"選手名簿!C110","v":0},{"$f":"選手名簿!D110","v":9},{"$f":"選手名簿!C111","v":0},{"$f":"選手名簿!D111","v":10},{"$f":"選手名簿!C112","v":0},{"$f":"選手名簿!D112","v":11},{"$f":"選手名簿!C113","v":0},{"$f":"選手名簿!D113","v":12},{"$f":"選手名簿!C114","v":0},{"$f":"選手名簿!D114","v":13},{"$f":"選手名簿!C115","v":0},{"$f":"選手名簿!D115","v":14},{"$f":"選手名簿!C116","v":0},{"$f":"選手名簿!D116","v":15},{"$f":"選手名簿!C117","v":0},{"$f":"選手名簿!D117","v":16},{"$f":"選手名簿!C118","v":0},{"$f":"選手名簿!D118","v":17},{"$f":"選手名簿!C119","v":0},{"$f":"選手名簿!D119","v":18}]
[14,{"$f":"選手名簿!M99","v":0},{"$f":"選手名簿!M101","v":0},{"$f":"選手名簿!M102","v":0},{"$f":"選手名簿!L105","v":0},{"$f":"選手名簿!M105","v":4},{"$f":"選手名簿!L106","v":0},{"$f":"選手名簿!M106","v":5},{"$f":"選手名簿!L107","v":0},{"$f":"選手名簿!M107","v":6},{"$f":"選手名簿!L108","v":0},{"$f":"選手名簿!M108","v":7},{"$f":"選手名簿!L109","v":0},{"$f":"選手名簿!M109","v":8},{"$f":"選手名簿!L110","v":0},{"$f":"選手名簿!M110","v":9},{"$f":"選手名簿!L111","v":0},{"$f":"選手名簿!M111","v":10},{"$f":"選手名簿!L112","v":0},{"$f":"選手名簿!M112","v":11},{"$f":"選手名簿!L113","v":0},{"$f":"選手名簿!M113","v":12},{"$f":"選手名簿!L114","v":0},{"$f":"選手名簿!M114","v":13},{"$f":"選手名簿!L115","v":0},{"$f":"選手名簿!M115","v":14},{"$f":"選手名簿!L116","v":0},{"$f":"選手名簿!M116","v":15},{"$f":"選手名簿!L117","v":0},{"$f":"選手名簿!M117","v":16},{"$f":"選手名簿!L118","v":0},{"$f":"選手名簿!M118","v":17},{"$f":"選手名簿!L119","v":0},{"$f":"選手名簿!M119","v":18}]
[15,{"$f":"選手名簿!V99","v":0},{"$f":"選手名簿!V101","v":0},{"$f":"選手名簿!V102","v":0},{"$f":"選手名簿!U105","v":0},{"$f":"選手名簿!V105","v":4},{"$f":"選手名簿!U106","v":0},{"$f":"選手名簿!V106","v":5},{"$f":"選手名簿!U107","v":0},{"$f":"選手名簿!V107","v":6},{"$f":"選手名簿!U108","v":0},{"$f":"選手名簿!V108","v":7},{"$f":"選手名簿!U109","v":0},{"$f":"選手名簿!V109","v":8},{"$f":"選手名簿!U110","v":0},{"$f":"選手名簿!V110","v":9},{"$f":"選手名簿!U111","v":0},{"$f":"選手名簿!V111","v":10},{"$f":"選手名簿!U112","v":0},{"$f":"選手名簿!V112","v":11},{"$f":"選手名簿!U113","v":0},{"$f":"選手名簿!V113","v":12},{"$f":"選手名簿!U114","v":0},{"$f":"選手名簿!V114","v":13},{"$f":"選手名簿!U115","v":0},{"$f":"選手名簿!V115","v":14},{"$f":"選手名簿!U116","v":0},{"$f":"選手名簿!V116","v":15},{"$f":"選手名簿!U117","v":0},{"$f":"選手名簿!V117","v":16},{"$f":"選手名簿!U118","v":0},{"$f":"選手名簿!V118","v":17},{"$f":"選手名簿!U119","v":0},{"$f":"選手名簿!V119","v":18}]
[16,{"$f":"選手名簿!D123","v":0},{"$f":"選手名簿!D125","v":0},{"$f":"選手名簿!D126","v":0},{"$f":"選手名簿!C129","v":0},{"$f":"選手名簿!D129","v":4},{"$f":"選手名簿!C130","v":0},{"$f":"選手名簿!D130","v":5},{"$f":"選手名簿!C131","v":0},{"$f":"選手名簿!D131","v":6},{"$f":"選手名簿!C132","v":0},{"$f":"選手名簿!D132","v":7},{"$f":"選手名簿!C133","v":0},{"$f":"選手名簿!D133","v":8},{"$f":"選手名簿!C134","v":0},{"$f":"選手名簿!D134","v":9},{"$f":"選手名簿!C135","v":0},{"$f":"選手名簿!D135","v":10},{"$f":"選手名簿!C136","v":0},{"$f":"選手名簿!D136","v":11},{"$f":"選手名簿!C137","v":0},{"$f":"選手名簿!D137","v":12},{"$f":"選手名簿!C138","v":0},{"$f":"選手名簿!D138","v":13},{"$f":"選手名簿!C139","v":0},{"$f":"選手名簿!D139","v":14},{"$f":"選手名簿!C140","v":0},{"$f":"選手名簿!D140","v":15},{"$f":"選手名簿!C141","v":0},{"$f":"選手名簿!D141","v":16},{"$f":"選手名簿!C142","v":0},{"$f":"選手名簿!D142","v":17},{"$f":"選手名簿!C143","v":0},{"$f":"選手名簿!D143","v":18}]
[17,{"$f":"選手名簿!M123","v":0},{"$f":"選手名簿!M125","v":0},{"$f":"選手名簿!M126","v":0},{"$f":"選手名簿!L129","v":0},{"$f":"選手名簿!M129","v":4},{"$f":"選手名簿!L130","v":0},{"$f":"選手名簿!M130","v":5},{"$f":"選手名簿!L131","v":0},{"$f":"選手名簿!M131","v":6},{"$f":"選手名簿!L132","v":0},{"$f":"選手名簿!M132","v":7},{"$f":"選手名簿!L133","v":0},{"$f":"選手名簿!M133","v":8},{"$f":"選手名簿!L134","v":0},{"$f":"選手名簿!M134","v":9},{"$f":"選手名簿!L135","v":0},{"$f":"選手名簿!M135","v":10},{"$f":"選手名簿!L136","v":0},{"$f":"選手名簿!M136","v":11},{"$f":"選手名簿!L137","v":0},{"$f":"選手名簿!M137","v":12},{"$f":"選手名簿!L138","v":0},{"$f":"選手名簿!M138","v":13},{"$f":"選手名簿!L139","v":0},{"$f":"選手名簿!M139","v":14},{"$f":"選手名簿!L140","v":0},{"$f":"選手名簿!M140","v":15},{"$f":"選手名簿!L141","v":0},{"$f":"選手名簿!M141","v":16},{"$f":"選手名簿!L142","v":0},{"$f":"選手名簿!M142","v":17},{"$f":"選手名簿!L143","v":0},{"$f":"選手名簿!M143","v":18}]
[18,{"$f":"選手名簿!V123","v":0},{"$f":"選手名簿!V125","v":0},{"$f":"選手名簿!V126","v":0},{"$f":"選手名簿!U129","v":0},{"$f":"選手名簿!V129","v":4},{"$f":"選手名簿!U130","v":0},{"$f":"選手名簿!V130","v":5},{"$f":"選手名簿!U131","v":0},{"$f":"選手名簿!V131","v":6},{"$f":"選手名簿!U132","v":0},{"$f":"選手名簿!V132","v":7},{"$f":"選手名簿!U133","v":0},{"$f":"選手名簿!V133","v":8},{"$f":"選手名簿!U134","v":0},{"$f":"選手名簿!V134","v":9},{"$f":"選手名簿!U135","v":0},{"$f":"選手名簿!V135","v":10},{"$f":"選手名簿!U136","v":0},{"$f":"選手名簿!V136","v":11},{"$f":"選手名簿!U137","v":0},{"$f":"選手名簿!V137","v":12},{"$f":"選手名簿!U138","v":0},{"$f":"選手名簿!V138","v":13},{"$f":"選手名簿!U139","v":0},{"$f":"選手名簿!V139","v":14},{"$f":"選手名簿!U140","v":0},{"$f":"選手名簿!V140","v":15},{"$f":"選手名簿!U141","v":0},{"$f":"選手名簿!V141","v":16},{"$f":"選手名簿!U142","v":0},{"$f":"選手名簿!V142","v":17},{"$f":"選手名簿!U143","v":0},{"$f":"選手名簿!V143","v":18}]
[19,{"$f":"選手名簿!D147","v":0},{"$f":"選手名簿!D149","v":0},{"$f":"選手名簿!D150","v":0},{"$f":"選手名簿!C153","v":0},{"$f":"選手名簿!D153","v":4},{"$f":"選手名簿!C154","v":0},{"$f":"選手名簿!D154","v":5},{"$f":"選手名簿!C155","v":0},{"$f":"選手名簿!D155","v":6},{"$f":"選手名簿!C156","v":0},{"$f":"選手名簿!D156","v":7},{"$f":"選手名簿!C157","v":0},{"$f":"選手名簿!D157","v":8},{"$f":"選手名簿!C158","v":0},{"$f":"選手名簿!D158","v":9},{"$f":"選手名簿!C159","v":0},{"$f":"選手名簿!D159","v":10},{"$f":"選手名簿!C160","v":0},{"$f":"選手名簿!D160","v":11},{"$f":"選手名簿!C161","v":0},{"$f":"選手名簿!D161","v":12},{"$f":"選手名簿!C162","v":0},{"$f":"選手名簿!D162","v":13},{"$f":"選手名簿!C163","v":0},{"$f":"選手名簿!D163","v":14},{"$f":"選手名簿!C164","v":0},{"$f":"選手名簿!D164","v":15},{"$f":"選手名簿!C165","v":0},{"$f":"選手名簿!D165","v":16},{"$f":"選手名簿!C166","v":0},{"$f":"選手名簿!D166","v":17},{"$f":"選手名簿!C167","v":0},{"$f":"選手名簿!D167","v":18}]
[20,{"$f":"選手名簿!M147","v":0},{"$f":"選手名簿!M149","v":0},{"$f":"選手名簿!M150","v":0},{"$f":"選手名簿!L153","v":0},{"$f":"選手名簿!M153","v":4},{"$f":"選手名簿!L154","v":0},{"$f":"選手名簿!M154","v":5},{"$f":"選手名簿!L155","v":0},{"$f":"選手名簿!M155","v":6},{"$f":"選手名簿!L156","v":0},{"$f":"選手名簿!M156","v":7},{"$f":"選手名簿!L157","v":0},{"$f":"選手名簿!M157","v":8},{"$f":"選手名簿!L158","v":0},{"$f":"選手名簿!M158","v":9},{"$f":"選手名簿!L159","v":0},{"$f":"選手名簿!M159","v":10},{"$f":"選手名簿!L160","v":0},{"$f":"選手名簿!M160","v":11},{"$f":"選手名簿!L161","v":0},{"$f":"選手名簿!M161","v":12},{"$f":"選手名簿!L162","v":0},{"$f":"選手名簿!M162","v":13},{"$f":"選手名簿!L163","v":0},{"$f":"選手名簿!M163","v":14},{"$f":"選手名簿!L164","v":0},{"$f":"選手名簿!M164","v":15},{"$f":"選手名簿!L165","v":0},{"$f":"選手名簿!M165","v":16},{"$f":"選手名簿!L166","v":0},{"$f":"選手名簿!M166","v":17},{"$f":"選手名簿!L167","v":0},{"$f":"選手名簿!M167","v":18}]
[21,{"$f":"選手名簿!V147","v":0},{"$f":"選手名簿!V149","v":0},{"$f":"選手名簿!V150","v":0},{"$f":"選手名簿!U153","v":0},{"$f":"選手名簿!V153","v":4},{"$f":"選手名簿!U154","v":0},{"$f":"選手名簿!V154","v":5},{"$f":"選手名簿!U155","v":0},{"$f":"選手名簿!V155","v":6},{"$f":"選手名簿!U156","v":0},{"$f":"選手名簿!V156","v":7},{"$f":"選手名簿!U157","v":0},{"$f":"選手名簿!V157","v":8},{"$f":"選手名簿!U158","v":0},{"$f":"選手名簿!V158","v":9},{"$f":"選手名簿!U159","v":0},{"$f":"選手名簿!V159","v":10},{"$f":"選手名簿!U160","v":0},{"$f":"選手名簿!V160","v":11},{"$f":"選手名簿!U161","v":0},{"$f":"選手名簿!V161","v":12},{"$f":"選手名簿!U162","v":0},{"$f":"選手名簿!V162","v":13},{"$f":"選手名簿!U163","v":0},{"$f":"選手名簿!V163","v":14},{"$f":"選手名簿!U164","v":0},{"$f":"選手名簿!V164","v":15},{"$f":"選手名簿!U165","v":0},{"$f":"選手名簿!V165","v":16},{"$f":"選手名簿!U166","v":0},{"$f":"選手名簿!V166","v":17},{"$f":"選手名簿!U167","v":0},{"$f":"選手名簿!V167","v":18}]
[22,{"$f":"選手名簿!D171","v":0},{"$f":"選手名簿!D173","v":0},{"$f":"選手名簿!D174","v":0},{"$f":"選手名簿!C177","v":0},{"$f":"選手名簿!D177","v":4},{"$f":"選手名簿!C178","v":0},{"$f":"選手名簿!D178","v":5},{"$f":"選手名簿!C179","v":0},{"$f":"選手名簿!D179","v":6},{"$f":"選手名簿!C180","v":0},{"$f":"選手名簿!D180","v":7},{"$f":"選手名簿!C181","v":0},{"$f":"選手名簿!D181","v":8},{"$f":"選手名簿!C182","v":0},{"$f":"選手名簿!D182","v":9},{"$f":"選手名簿!C183","v":0},{"$f":"選手名簿!D183","v":10},{"$f":"選手名簿!C184","v":0},{"$f":"選手名簿!D184","v":11},{"$f":"選手名簿!C185","v":0},{"$f":"選手名簿!D185","v":12},{"$f":"選手名簿!C186","v":0},{"$f":"選手名簿!D186","v":13},{"$f":"選手名簿!C187","v":0},{"$f":"選手名簿!D187","v":14},{"$f":"選手名簿!C188","v":0},{"$f":"選手名簿!D188","v":15},{"$f":"選手名簿!C189","v":0},{"$f":"選手名簿!D189","v":16},{"$f":"選手名簿!C190","v":0},{"$f":"選手名簿!D190","v":17},{"$f":"選手名簿!C191","v":0},{"$f":"選手名簿!D191","v":18}]
[23,{"$f":"選手名簿!M171","v":0},{"$f":"選手名簿!M173","v":0},{"$f":"選手名簿!M174","v":0},{"$f":"選手名簿!L177","v":0},{"$f":"選手名簿!M177","v":4},{"$f":"選手名簿!L178","v":0},{"$f":"選手名簿!M178","v":5},{"$f":"選手名簿!L179","v":0},{"$f":"選手名簿!M179","v":6},{"$f":"選手名簿!L180","v":0},{"$f":"選手名簿!M180","v":7},{"$f":"選手名簿!L181","v":0},{"$f":"選手名簿!M181","v":8},{"$f":"選手名簿!L182","v":0},{"$f":"選手名簿!M182","v":9},{"$f":"選手名簿!L183","v":0},{"$f":"選手名簿!M183","v":10},{"$f":"選手名簿!L184","v":0},{"$f":"選手名簿!M184","v":11},{"$f":"選手名簿!L185","v":0},{"$f":"選手名簿!M185","v":12},{"$f":"選手名簿!L186","v":0},{"$f":"選手名簿!M186","v":13},{"$f":"選手名簿!L187","v":0},{"$f":"選手名簿!M187","v":14},{"$f":"選手名簿!L188","v":0},{"$f":"選手名簿!M188","v":15},{"$f":"選手名簿!L189","v":0},{"$f":"選手名簿!M189","v":16},{"$f":"選手名簿!L190","v":0},{"$f":"選手名簿!M190","v":17},{"$f":"選手名簿!L191","v":0},{"$f":"選手名簿!M191","v":18}]
[24,{"$f":"選手名簿!V171","v":0},{"$f":"選手名簿!V173","v":0},{"$f":"選手名簿!V174","v":0},{"$f":"選手名簿!U177","v":0},{"$f":"選手名簿!V177","v":4},{"$f":"選手名簿!U178","v":0},{"$f":"選手名簿!V178","v":5},{"$f":"選手名簿!U179","v":0},{"$f":"選手名簿!V179","v":6},{"$f":"選手名簿!U180","v":0},{"$f":"選手名簿!V180","v":7},{"$f":"選手名簿!U181","v":0},{"$f":"選手名簿!V181","v":8},{"$f":"選手名簿!U182","v":0},{"$f":"選手名簿!V182","v":9},{"$f":"選手名簿!U183","v":0},{"$f":"選手名簿!V183","v":10},{"$f":"選手名簿!U184","v":0},{"$f":"選手名簿!V184","v":11},{"$f":"選手名簿!U185","v":0},{"$f":"選手名簿!V185","v":12},{"$f":"選手名簿!U186","v":0},{"$f":"選手名簿!V186","v":13},{"$f":"選手名簿!U187","v":0},{"$f":"選手名簿!V187","v":14},{"$f":"選手名簿!U188","v":0},{"$f":"選手名簿!V188","v":15},{"$f":"選手名簿!U189","v":0},{"$f":"選手名簿!V189","v":16},{"$f":"選手名簿!U190","v":0},{"$f":"選手名簿!V190","v":17},{"$f":"選手名簿!U191","v":0},{"$f":"選手名簿!V191","v":18}]
[25,{"$f":"選手名簿!D195","v":0},{"$f":"選手名簿!D197","v":0},{"$f":"選手名簿!D198","v":0},{"$f":"選手名簿!C201","v":0},{"$f":"選手名簿!D201","v":4},{"$f":"選手名簿!C202","v":0},{"$f":"選手名簿!D202","v":5},{"$f":"選手名簿!C203","v":0},{"$f":"選手名簿!D203","v":6},{"$f":"選手名簿!C204","v":0},{"$f":"選手名簿!D204","v":7},{"$f":"選手名簿!C205","v":0},{"$f":"選手名簿!D205","v":8},{"$f":"選手名簿!C206","v":0},{"$f":"選手名簿!D206","v":9},{"$f":"選手名簿!C207","v":0},{"$f":"選手名簿!D207","v":10},{"$f":"選手名簿!C208","v":0},{"$f":"選手名簿!D208","v":11},{"$f":"選手名簿!C209","v":0},{"$f":"選手名簿!D209","v":12},{"$f":"選手名簿!C210","v":0},{"$f":"選手名簿!D210","v":13},{"$f":"選手名簿!C211","v":0},{"$f":"選手名簿!D211","v":14},{"$f":"選手名簿!C212","v":0},{"$f":"選手名簿!D212","v":15},{"$f":"選手名簿!C213","v":0},{"$f":"選手名簿!D213","v":16},{"$f":"選手名簿!C214","v":0},{"$f":"選手名簿!D214","v":17},{"$f":"選手名簿!C215","v":0},{"$f":"選手名簿!D215","v":18}]
[26,{"$f":"選手名簿!M195","v":0},{"$f":"選手名簿!M197","v":0},{"$f":"選手名簿!M198","v":0},{"$f":"選手名簿!L201","v":0},{"$f":"選手名簿!M201","v":4},{"$f":"選手名簿!L202","v":0},{"$f":"選手名簿!M202","v":5},{"$f":"選手名簿!L203","v":0},{"$f":"選手名簿!M203","v":6},{"$f":"選手名簿!L204","v":0},{"$f":"選手名簿!M204","v":7},{"$f":"選手名簿!L205","v":0},{"$f":"選手名簿!M205","v":8},{"$f":"選手名簿!L206","v":0},{"$f":"選手名簿!M206","v":9},{"$f":"選手名簿!L207","v":0},{"$f":"選手名簿!M207","v":10},{"$f":"選手名簿!L208","v":0},{"$f":"選手名簿!M208","v":11},{"$f":"選手名簿!L209","v":0},{"$f":"選手名簿!M209","v":12},{"$f":"選手名簿!L210","v":0},{"$f":"選手名簿!M210","v":13},{"$f":"選手名簿!L211","v":0},{"$f":"選手名簿!M211","v":14},{"$f":"選手名簿!L212","v":0},{"$f":"選手名簿!M212","v":15},{"$f":"選手名簿!L213","v":0},{"$f":"選手名簿!M213","v":16},{"$f":"選手名簿!L214","v":0},{"$f":"選手名簿!M214","v":17},{"$f":"選手名簿!L215","v":0},{"$f":"選手名簿!M215","v":18}]
[27,{"$f":"選手名簿!V195","v":0},{"$f":"選手名簿!V197","v":0},{"$f":"選手名簿!V198","v":0},{"$f":"選手名簿!U201","v":0},{"$f":"選手名簿!V201","v":4},{"$f":"選手名簿!U202","v":0},{"$f":"選手名簿!V202","v":5},{"$f":"選手名簿!U203","v":0},{"$f":"選手名簿!V203","v":6},{"$f":"選手名簿!U204","v":0},{"$f":"選手名簿!V204","v":7},{"$f":"選手名簿!U205","v":0},{"$f":"選手名簿!V205","v":8},{"$f":"選手名簿!U206","v":0},{"$f":"選手名簿!V206","v":9},{"$f":"選手名簿!U207","v":0},{"$f":"選手名簿!V207","v":10},{"$f":"選手名簿!U208","v":0},{"$f":"選手名簿!V208","v":11},{"$f":"選手名簿!U209","v":0},{"$f":"選手名簿!V209","v":12},{"$f":"選手名簿!U210","v":0},{"$f":"選手名簿!V210","v":13},{"$f":"選手名簿!U211","v":0},{"$f":"選手名簿!V211","v":14},{"$f":"選手名簿!U212","v":0},{"$f":"選手名簿!V212","v":15},{"$f":"選手名簿!U213","v":0},{"$f":"選手名簿!V213","v":16},{"$f":"選手名簿!U214","v":0},{"$f":"選手名簿!V214","v":17},{"$f":"選手名簿!U215","v":0},{"$f":"選手名簿!V215","v":18}]
[28,{"$f":"選手名簿!D219","v":0},{"$f":"選手名簿!D221","v":0},{"$f":"選手名簿!D222","v":0},{"$f":"選手名簿!C225","v":0},{"$f":"選手名簿!D225","v":4},{"$f":"選手名簿!C226","v":0},{"$f":"選手名簿!D226","v":5},{"$f":"選手名簿!C227","v":0},{"$f":"選手名簿!D227","v":6},{"$f":"選手名簿!C228","v":0},{"$f":"選手名簿!D228","v":7},{"$f":"選手名簿!C229","v":0},{"$f":"選手名簿!D229","v":8},{"$f":"選手名簿!C230","v":0},{"$f":"選手名簿!D230","v":9},{"$f":"選手名簿!C231","v":0},{"$f":"選手名簿!D231","v":10},{"$f":"選手名簿!C232","v":0},{"$f":"選手名簿!D232","v":11},{"$f":"選手名簿!C233","v":0},{"$f":"選手名簿!D233","v":12},{"$f":"選手名簿!C234","v":0},{"$f":"選手名簿!D234","v":13},{"$f":"選手名簿!C235","v":0},{"$f":"選手名簿!D235","v":14},{"$f":"選手名簿!C236","v":0},{"$f":"選手名簿!D236","v":15},{"$f":"選手名簿!C237","v":0},{"$f":"選手名簿!D237","v":16},{"$f":"選手名簿!C238","v":0},{"$f":"選手名簿!D238","v":17},{"$f":"選手名簿!C239","v":0},{"$f":"選手名簿!D239","v":18}]
[29,{"$f":"選手名簿!M219","v":0},{"$f":"選手名簿!M221","v":0},{"$f":"選手名簿!M222","v":0},{"$f":"選手名簿!L225","v":0},{"$f":"選手名簿!M225","v":4},{"$f":"選手名簿!L226","v":0},{"$f":"選手名簿!M226","v":5},{"$f":"選手名簿!L227","v":0},{"$f":"選手名簿!M227","v":6},{"$f":"選手名簿!L228","v":0},{"$f":"選手名簿!M228","v":7},{"$f":"選手名簿!L229","v":0},{"$f":"選手名簿!M229","v":8},{"$f":"選手名簿!L230","v":0},{"$f":"選手名簿!M230","v":9},{"$f":"選手名簿!L231","v":0},{"$f":"選手名簿!M231","v":10},{"$f":"選手名簿!L232","v":0},{"$f":"選手名簿!M232","v":11},{"$f":"選手名簿!L233","v":0},{"$f":"選手名簿!M233","v":12},{"$f":"選手名簿!L234","v":0},{"$f":"選手名簿!M234","v":13},{"$f":"選手名簿!L235","v":0},{"$f":"選手名簿!M235","v":14},{"$f":"選手名簿!L236","v":0},{"$f":"選手名簿!M236","v":15},{"$f":"選手名簿!L237","v":0},{"$f":"選手名簿!M237","v":16},{"$f":"選手名簿!L238","v":0},{"$f":"選手名簿!M238","v":17},{"$f":"選手名簿!L239","v":0},{"$f":"選手名簿!M239","v":18}]
[30,{"$f":"選手名簿!V219","v":0},{"$f":"選手名簿!V221","v":0},{"$f":"選手名簿!V222","v":0},{"$f":"選手名簿!U225","v":0},{"$f":"選手名簿!V225","v":4},{"$f":"選手名簿!U226","v":0},{"$f":"選手名簿!V226","v":5},{"$f":"選手名簿!U227","v":0},{"$f":"選手名簿!V227","v":6},{"$f":"選手名簿!U228","v":0},{"$f":"選手名簿!V228","v":7},{"$f":"選手名簿!U229","v":0},{"$f":"選手名簿!V229","v":8},{"$f":"選手名簿!U230","v":0},{"$f":"選手名簿!V230","v":9},{"$f":"選手名簿!U231","v":0},{"$f":"選手名簿!V231","v":10},{"$f":"選手名簿!U232","v":0},{"$f":"選手名簿!V232","v":11},{"$f":"選手名簿!U233","v":0},{"$f":"選手名簿!V233","v":12},{"$f":"選手名簿!U234","v":0},{"$f":"選手名簿!V234","v":13},{"$f":"選手名簿!U235","v":0},{"$f":"選手名簿!V235","v":14},{"$f":"選手名簿!U236","v":0},{"$f":"選手名簿!V236","v":15},{"$f":"選手名簿!U237","v":0},{"$f":"選手名簿!V237","v":16},{"$f":"選手名簿!U238","v":0},{"$f":"選手名簿!V238","v":17},{"$f":"選手名簿!U239","v":0},{"$f":"選手名簿!V239","v":18}]
[31,{"$f":"選手名簿!D243","v":0},{"$f":"選手名簿!D245","v":0},{"$f":"選手名簿!D246","v":0},{"$f":"選手名簿!C249","v":0},{"$f":"選手名簿!D249","v":4},{"$f":"選手名簿!C250","v":0},{"$f":"選手名簿!D250","v":5},{"$f":"選手名簿!C251","v":0},{"$f":"選手名簿!D251","v":6},{"$f":"選手名簿!C252","v":0},{"$f":"選手名簿!D252","v":7},{"$f":"選手名簿!C253","v":0},{"$f":"選手名簿!D253","v":8},{"$f":"選手名簿!C254","v":0},{"$f":"選手名簿!D254","v":9},{"$f":"選手名簿!C255","v":0},{"$f":"選手名簿!D255","v":10},{"$f":"選手名簿!C256","v":0},{"$f":"選手名簿!D256","v":11},{"$f":"選手名簿!C257","v":0},{"$f":"選手名簿!D257","v":12},{"$f":"選手名簿!C258","v":0},{"$f":"選手名簿!D258","v":13},{"$f":"選手名簿!C259","v":0},{"$f":"選手名簿!D259","v":14},{"$f":"選手名簿!C260","v":0},{"$f":"選手名簿!D260","v":15},{"$f":"選手名簿!C261","v":0},{"$f":"選手名簿!D261","v":16},{"$f":"選手名簿!C262","v":0},{"$f":"選手名簿!D262","v":17},{"$f":"選手名簿!C263","v":0},{"$f":"選手名簿!D263","v":18}]
[32,{"$f":"選手名簿!M243","v":0},{"$f":"選手名簿!M245","v":0},{"$f":"選手名簿!M246","v":0},{"$f":"選手名簿!L249","v":0},{"$f":"選手名簿!M249","v":4},{"$f":"選手名簿!L250","v":0},{"$f":"選手名簿!M250","v":5},{"$f":"選手名簿!L251","v":0},{"$f":"選手名簿!M251","v":6},{"$f":"選手名簿!L252","v":0},{"$f":"選手名簿!M252","v":7},{"$f":"選手名簿!L253","v":0},{"$f":"選手名簿!M253","v":8},{"$f":"選手名簿!L254","v":0},{"$f":"選手名簿!M254","v":9},{"$f":"選手名簿!L255","v":0},{"$f":"選手名簿!M255","v":10},{"$f":"選手名簿!L256","v":0},{"$f":"選手名簿!M256","v":11},{"$f":"選手名簿!L257","v":0},{"$f":"選手名簿!M257","v":12},{"$f":"選手名簿!L258","v":0},{"$f":"選手名簿!M258","v":13},{"$f":"選手名簿!L259","v":0},{"$f":"選手名簿!M259","v":14},{"$f":"選手名簿!L260","v":0},{"$f":"選手名簿!M260","v":15},{"$f":"選手名簿!L261","v":0},{"$f":"選手名簿!M261","v":16},{"$f":"選手名簿!L262","v":0},{"$f":"選手名簿!M262","v":17},{"$f":"選手名簿!L263","v":0},{"$f":"選手名簿!M263","v":18}]
[33,{"$f":"選手名簿!V243","v":0},{"$f":"選手名簿!V245","v":0},{"$f":"選手名簿!V246","v":0},{"$f":"選手名簿!U249","v":0},{"$f":"選手名簿!V249","v":4},{"$f":"選手名簿!U250","v":0},{"$f":"選手名簿!V250","v":5},{"$f":"選手名簿!U251","v":0},{"$f":"選手名簿!V251","v":6},{"$f":"選手名簿!U252","v":0},{"$f":"選手名簿!V252","v":7},{"$f":"選手名簿!U253","v":0},{"$f":"選手名簿!V253","v":8},{"$f":"選手名簿!U254","v":0},{"$f":"選手名簿!V254","v":9},{"$f":"選手名簿!U255","v":0},{"$f":"選手名簿!V255","v":10},{"$f":"選手名簿!U256","v":0},{"$f":"選手名簿!V256","v":11},{"$f":"選手名簿!U257","v":0},{"$f":"選手名簿!V257","v":12},{"$f":"選手名簿!U258","v":0},{"$f":"選手名簿!V258","v":13},{"$f":"選手名簿!U259","v":0},{"$f":"選手名簿!V259","v":14},{"$f":"選手名簿!U260","v":0},{"$f":"選手名簿!V260","v":15},{"$f":"選手名簿!U261","v":0},{"$f":"選手名簿!V261","v":16},{"$f":"選手名簿!U262","v":0},{"$f":"選手名簿!V262","v":17},{"$f":"選手名簿!U263","v":0},{"$f":"選手名簿!V263","v":18}]
[34,{"$f":"選手名簿!D267","v":0},{"$f":"選手名簿!D269","v":0},{"$f":"選手名簿!D270","v":0},{"$f":"選手名簿!C273","v":0},{"$f":"選手名簿!D273","v":4},{"$f":"選手名簿!C274","v":0},{"$f":"選手名簿!D274","v":5},{"$f":"選手名簿!C275","v":0},{"$f":"選手名簿!D275","v":6},{"$f":"選手名簿!C276","v":0},{"$f":"選手名簿!D276","v":7},{"$f":"選手名簿!C277","v":0},{"$f":"選手名簿!D277","v":8},{"$f":"選手名簿!C278","v":0},{"$f":"選手名簿!D278","v":9},{"$f":"選手名簿!C279","v":0},{"$f":"選手名簿!D279","v":10},{"$f":"選手名簿!C280","v":0},{"$f":"選手名簿!D280","v":11},{"$f":"選手名簿!C281","v":0},{"$f":"選手名簿!D281","v":12},{"$f":"選手名簿!C282","v":0},{"$f":"選手名簿!D282","v":13},{"$f":"選手名簿!C283","v":0},{"$f":"選手名簿!D283","v":14},{"$f":"選手名簿!C284","v":0},{"$f":"選手名簿!D284","v":15},{"$f":"選手名簿!C285","v":0},{"$f":"選手名簿!D285","v":16},{"$f":"選手名簿!C286","v":0},{"$f":"選手名簿!D286","v":17},{"$f":"選手名簿!C287","v":0},{"$f":"選手名簿!D287","v":18}]
[35,{"$f":"選手名簿!M267","v":0},{"$f":"選手名簿!M269","v":0},{"$f":"選手名簿!M270","v":0},{"$f":"選手名簿!L273","v":0},{"$f":"選手名簿!M273","v":4},{"$f":"選手名簿!L274","v":0},{"$f":"選手名簿!M274","v":5},{"$f":"選手名簿!L275","v":0},{"$f":"選手名簿!M275","v":6},{"$f":"選手名簿!L276","v":0},{"$f":"選手名簿!M276","v":7},{"$f":"選手名簿!L277","v":0},{"$f":"選手名簿!M277","v":8},{"$f":"選手名簿!L278","v":0},{"$f":"選手名簿!M278","v":9},{"$f":"選手名簿!L279","v":0},{"$f":"選手名簿!M279","v":10},{"$f":"選手名簿!L280","v":0},{"$f":"選手名簿!M280","v":11},{"$f":"選手名簿!L281","v":0},{"$f":"選手名簿!M281","v":12},{"$f":"選手名簿!L282","v":0},{"$f":"選手名簿!M282","v":13},{"$f":"選手名簿!L283","v":0},{"$f":"選手名簿!M283","v":14},{"$f":"選手名簿!L284","v":0},{"$f":"選手名簿!M284","v":15},{"$f":"選手名簿!L285","v":0},{"$f":"選手名簿!M285","v":16},{"$f":"選手名簿!L286","v":0},{"$f":"選手名簿!M286","v":17},{"$f":"選手名簿!L287","v":0},{"$f":"選手名簿!M287","v":18}]
[36,{"$f":"選手名簿!V267","v":0},{"$f":"選手名簿!V269","v":0},{"$f":"選手名簿!V270","v":0},{"$f":"選手名簿!U273","v":0},{"$f":"選手名簿!V273","v":4},{"$f":"選手名簿!U274","v":0},{"$f":"選手名簿!V274","v":5},{"$f":"選手名簿!U275","v":0},{"$f":"選手名簿!V275","v":6},{"$f":"選手名簿!U276","v":0},{"$f":"選手名簿!V276","v":7},{"$f":"選手名簿!U277","v":0},{"$f":"選手名簿!V277","v":8},{"$f":"選手名簿!U278","v":0},{"$f":"選手名簿!V278","v":9},{"$f":"選手名簿!U279","v":0},{"$f":"選手名簿!V279","v":10},{"$f":"選手名簿!U280","v":0},{"$f":"選手名簿!V280","v":11},{"$f":"選手名簿!U281","v":0},{"$f":"選手名簿!V281","v":12},{"$f":"選手名簿!U282","v":0},{"$f":"選手名簿!V282","v":13},{"$f":"選手名簿!U283","v":0},{"$f":"選手名簿!V283","v":14},{"$f":"選手名簿!U284","v":0},{"$f":"選手名簿!V284","v":15},{"$f":"選手名簿!U285","v":0},{"$f":"選手名簿!V285","v":16},{"$f":"選手名簿!U286","v":0},{"$f":"選手名簿!V286","v":17},{"$f":"選手名簿!U287","v":0},{"$f":"選手名簿!V287","v":18}]
[1,{"$f":"選手名簿!D291","v":0},{"$f":"選手名簿!D293","v":0},{"$f":"選手名簿!D294","v":0},{"$f":"選手名簿!C297","v":0},{"$f":"選手名簿!D297","v":4},{"$f":"選手名簿!C298","v":0},{"$f":"選手名簿!D298","v":5},{"$f":"選手名簿!C299","v":0},{"$f":"選手名簿!D299","v":6},{"$f":"選手名簿!C300","v":0},{"$f":"選手名簿!D300","v":7},{"$f":"選手名簿!C301","v":0},{"$f":"選手名簿!D301","v":8},{"$f":"選手名簿!C302","v":0},{"$f":"選手名簿!D302","v":9},{"$f":"選手名簿!C303","v":0},{"$f":"選手名簿!D303","v":10},{"$f":"選手名簿!C304","v":0},{"$f":"選手名簿!D304","v":11},{"$f":"選手名簿!C305","v":0},{"$f":"選手名簿!D305","v":12},{"$f":"選手名簿!C306","v":0},{"$f":"選手名簿!D306","v":13},{"$f":"選手名簿!C307","v":0},{"$f":"選手名簿!D307","v":14},{"$f":"選手名簿!C308","v":0},{"$f":"選手名簿!D308","v":15},{"$f":"選手名簿!C309","v":0},{"$f":"選手名簿!D309","v":16},{"$f":"選手名簿!C310","v":0},{"$f":"選手名簿!D310","v":17},{"$f":"選手名簿!C311","v":0},{"$f":"選手名簿!D311","v":18}]
[2,{"$f":"選手名簿!M291","v":0},{"$f":"選手名簿!M293","v":0},{"$f":"選手名簿!M294","v":0},{"$f":"選手名簿!L297","v":0},{"$f":"選手名簿!M297","v":4},{"$f":"選手名簿!L298","v":0},{"$f":"選手名簿!M298","v":5},{"$f":"選手名簿!L299","v":0},{"$f":"選手名簿!M299","v":6},{"$f":"選手名簿!L300","v":0},{"$f":"選手名簿!M300","v":7},{"$f":"選手名簿!L301","v":0},{"$f":"選手名簿!M301","v":8},{"$f":"選手名簿!L302","v":0},{"$f":"選手名簿!M302","v":9},{"$f":"選手名簿!L303","v":0},{"$f":"選手名簿!M303","v":10},{"$f":"選手名簿!L304","v":0},{"$f":"選手名簿!M304","v":11},{"$f":"選手名簿!L305","v":0},{"$f":"選手名簿!M305","v":12},{"$f":"選手名簿!L306","v":0},{"$f":"選手名簿!M306","v":13},{"$f":"選手名簿!L307","v":0},{"$f":"選手名簿!M307","v":14},{"$f":"選手名簿!L308","v":0},{"$f":"選手名簿!M308","v":15},{"$f":"選手名簿!L309","v":0},{"$f":"選手名簿!M309","v":16},{"$f":"選手名簿!L310","v":0},{"$f":"選手名簿!M310","v":17},{"$f":"選手名簿!L311","v":0},{"$f":"選手名簿!M311","v":18}]
[3,{"$f":"選手名簿!V291","v":0},{"$f":"選手名簿!V293","v":0},{"$f":"選手名簿!V294","v":0},{"$f":"選手名簿!U297","v":0},{"$f":"選手名簿!V297","v":4},{"$f":"選手名簿!U298","v":0},{"$f":"選手名簿!V298","v":5},{"$f":"選手名簿!U299","v":0},{"$f":"選手名簿!V299","v":6},{"$f":"選手名簿!U300","v":0},{"$f":"選手名簿!V300","v":7},{"$f":"選手名簿!U301","v":0},{"$f":"選手名簿!V301","v":8},{"$f":"選手名簿!U302","v":0},{"$f":"選手名簿!V302","v":9},{"$f":"選手名簿!U303","v":0},{"$f":"選手名簿!V303","v":10},{"$f":"選手名簿!U304","v":0},{"$f":"選手名簿!V304","v":11},{"$f":"選手名簿!U305","v":0},{"$f":"選手名簿!V305","v":12},{"$f":"選手名簿!U306","v":0},{"$f":"選手名簿!V306","v":13},{"$f":"選手名簿!U307","v":0},{"$f":"選手名簿!V307","v":14},{"$f":"選手名簿!U308","v":0},{"$f":"選手名簿!V308","v":15},{"$f":"選手名簿!U309","v":0},{"$f":"選手名簿!V309","v":16},{"$f":"選手名簿!U310","v":0},{"$f":"選手名簿!V310","v":17},{"$f":"選手名簿!U311","v":0},{"$f":"選手名簿!V311","v":18}]
[4,{"$f":"選手名簿!D315","v":0},{"$f":"選手名簿!D317","v":0},{"$f":"選手名簿!D318","v":0},{"$f":"選手名簿!C321","v":0},{"$f":"選手名簿!D321","v":4},{"$f":"選手名簿!C322","v":0},{"$f":"選手名簿!D322","v":5},{"$f":"選手名簿!C323","v":0},{"$f":"選手名簿!D323","v":6},{"$f":"選手名簿!C324","v":0},{"$f":"選手名簿!D324","v":7},{"$f":"選手名簿!C325","v":0},{"$f":"選手名簿!D325","v":8},{"$f":"選手名簿!C326","v":0},{"$f":"選手名簿!D326","v":9},{"$f":"選手名簿!C327","v":0},{"$f":"選手名簿!D327","v":10},{"$f":"選手名簿!C328","v":0},{"$f":"選手名簿!D328","v":11},{"$f":"選手名簿!C329","v":0},{"$f":"選手名簿!D329","v":12},{"$f":"選手名簿!C330","v":0},{"$f":"選手名簿!D330","v":13},{"$f":"選手名簿!C331","v":0},{"$f":"選手名簿!D331","v":14},{"$f":"選手名簿!C332","v":0},{"$f":"選手名簿!D332","v":15},{"$f":"選手名簿!C333","v":0},{"$f":"選手名簿!D333","v":16},{"$f":"選手名簿!C334","v":0},{"$f":"選手名簿!D334","v":17},{"$f":"選手名簿!C335","v":0},{"$f":"選手名簿!D335","v":18}]
[5,{"$f":"選手名簿!M315","v":0},{"$f":"選手名簿!M317","v":0},{"$f":"選手名簿!M318","v":0},{"$f":"選手名簿!L321","v":0},{"$f":"選手名簿!M321","v":4},{"$f":"選手名簿!L322","v":0},{"$f":"選手名簿!M322","v":5},{"$f":"選手名簿!L323","v":0},{"$f":"選手名簿!M323","v":6},{"$f":"選手名簿!L324","v":0},{"$f":"選手名簿!M324","v":7},{"$f":"選手名簿!L325","v":0},{"$f":"選手名簿!M325","v":8},{"$f":"選手名簿!L326","v":0},{"$f":"選手名簿!M326","v":9},{"$f":"選手名簿!L327","v":0},{"$f":"選手名簿!M327","v":10},{"$f":"選手名簿!L328","v":0},{"$f":"選手名簿!M328","v":11},{"$f":"選手名簿!L329","v":0},{"$f":"選手名簿!M329","v":12},{"$f":"選手名簿!L330","v":0},{"$f":"選手名簿!M330","v":13},{"$f":"選手名簿!L331","v":0},{"$f":"選手名簿!M331","v":14},{"$f":"選手名簿!L332","v":0},{"$f":"選手名簿!M332","v":15},{"$f":"選手名簿!L333","v":0},{"$f":"選手名簿!M333","v":16},{"$f":"選手名簿!L334","v":0},{"$f":"選手名簿!M334","v":17},{"$f":"選手名簿!L335","v":0},{"$f":"選手名簿!M335","v":18}]
[6,{"$f":"選手名簿!V315","v":0},{"$f":"選手名簿!V317","v":0},{"$f":"選手名簿!V318","v":0},{"$f":"選手名簿!U321","v":0},{"$f":"選手名簿!V321","v":4},{"$f":"選手名簿!U322","v":0},{"$f":"選手名簿!V322","v":5},{"$f":"選手名簿!U323","v":0},{"$f":"選手名簿!V323","v":6},{"$f":"選手名簿!U324","v":0},{"$f":"選手名簿!V324","v":7},{"$f":"選手名簿!U325","v":0},{"$f":"選手名簿!V325","v":8},{"$f":"選手名簿!U326","v":0},{"$f":"選手名簿!V326","v":9},{"$f":"選手名簿!U327","v":0},{"$f":"選手名簿!V327","v":10},{"$f":"選手名簿!U328","v":0},{"$f":"選手名簿!V328","v":11},{"$f":"選手名簿!U329","v":0},{"$f":"選手名簿!V329","v":12},{"$f":"選手名簿!U330","v":0},{"$f":"選手名簿!V330","v":13},{"$f":"選手名簿!U331","v":0},{"$f":"選手名簿!V331","v":14},{"$f":"選手名簿!U332","v":0},{"$f":"選手名簿!V332","v":15},{"$f":"選手名簿!U333","v":0},{"$f":"選手名簿!V333","v":16},{"$f":"選手名簿!U334","v":0},{"$f":"選手名簿!V334","v":17},{"$f":"選手名簿!U335","v":0},{"$f":"選手名簿!V335","v":18}]
[7,{"$f":"選手名簿!D339","v":0},{"$f":"選手名簿!D341","v":0},{"$f":"選手名簿!D342","v":0},{"$f":"選手名簿!C345","v":0},{"$f":"選手名簿!D345","v":4},{"$f":"選手名簿!C346","v":0},{"$f":"選手名簿!D346","v":5},{"$f":"選手名簿!C347","v":0},{"$f":"選手名簿!D347","v":6},{"$f":"選手名簿!C348","v":0},{"$f":"選手名簿!D348","v":7},{"$f":"選手名簿!C349","v":0},{"$f":"選手名簿!D349","v":8},{"$f":"選手名簿!C350","v":0},{"$f":"選手名簿!D350","v":9},{"$f":"選手名簿!C351","v":0},{"$f":"選手名簿!D351","v":10},{"$f":"選手名簿!C352","v":0},{"$f":"選手名簿!D352","v":11},{"$f":"選手名簿!C353","v":0},{"$f":"選手名簿!D353","v":12},{"$f":"選手名簿!C354","v":0},{"$f":"選手名簿!D354","v":13},{"$f":"選手名簿!C355","v":0},{"$f":"選手名簿!D355","v":14},{"$f":"選手名簿!C356","v":0},{"$f":"選手名簿!D356","v":15},{"$f":"選手名簿!C357","v":0},{"$f":"選手名簿!D357","v":16},{"$f":"選手名簿!C358","v":0},{"$f":"選手名簿!D358","v":17},{"$f":"選手名簿!C359","v":0},{"$f":"選手名簿!D359","v":18}]
[8,{"$f":"選手名簿!M339","v":0},{"$f":"選手名簿!M341","v":0},{"$f":"選手名簿!M342","v":0},{"$f":"選手名簿!L345","v":0},{"$f":"選手名簿!M345","v":4},{"$f":"選手名簿!L346","v":0},{"$f":"選手名簿!M346","v":5},{"$f":"選手名簿!L347","v":0},{"$f":"選手名簿!M347","v":6},{"$f":"選手名簿!L348","v":0},{"$f":"選手名簿!M348","v":7},{"$f":"選手名簿!L349","v":0},{"$f":"選手名簿!M349","v":8},{"$f":"選手名簿!L350","v":0},{"$f":"選手名簿!M350","v":9},{"$f":"選手名簿!L351","v":0},{"$f":"選手名簿!M351","v":10},{"$f":"選手名簿!L352","v":0},{"$f":"選手名簿!M352","v":11},{"$f":"選手名簿!L353","v":0},{"$f":"選手名簿!M353","v":12},{"$f":"選手名簿!L354","v":0},{"$f":"選手名簿!M354","v":13},{"$f":"選手名簿!L355","v":0},{"$f":"選手名簿!M355","v":14},{"$f":"選手名簿!L356","v":0},{"$f":"選手名簿!M356","v":15},{"$f":"選手名簿!L357","v":0},{"$f":"選手名簿!M357","v":16},{"$f":"選手名簿!L358","v":0},{"$f":"選手名簿!M358","v":17},{"$f":"選手名簿!L359","v":0},{"$f":"選手名簿!M359","v":18}]
[9,{"$f":"選手名簿!V339","v":0},{"$f":"選手名簿!V341","v":0},{"$f":"選手名簿!V342","v":0},{"$f":"選手名簿!U345","v":0},{"$f":"選手名簿!V345","v":4},{"$f":"選手名簿!U346","v":0},{"$f":"選手名簿!V346","v":5},{"$f":"選手名簿!U347","v":0},{"$f":"選手名簿!V347","v":6},{"$f":"選手名簿!U348","v":0},{"$f":"選手名簿!V348","v":7},{"$f":"選手名簿!U349","v":0},{"$f":"選手名簿!V349","v":8},{"$f":"選手名簿!U350","v":0},{"$f":"選手名簿!V350","v":9},{"$f":"選手名簿!U351","v":0},{"$f":"選手名簿!V351","v":10},{"$f":"選手名簿!U352","v":0},{"$f":"選手名簿!V352","v":11},{"$f":"選手名簿!U353","v":0},{"$f":"選手名簿!V353","v":12},{"$f":"選手名簿!U354","v":0},{"$f":"選手名簿!V354","v":13},{"$f":"選手名簿!U355","v":0},{"$f":"選手名簿!V355","v":14},{"$f":"選手名簿!U356","v":0},{"$f":"選手名簿!V356","v":15},{"$f":"選手名簿!U357","v":0},{"$f":"選手名簿!V357","v":16},{"$f":"選手名簿!U358","v":0},{"$f":"選手名簿!V358","v":17},{"$f":"選手名簿!U359","v":0},{"$f":"選手名簿!V359","v":18}]
[10,{"$f":"選手名簿!D363","v":0},{"$f":"選手名簿!D365","v":0},{"$f":"選手名簿!D366","v":0},{"$f":"選手名簿!C369","v":0},{"$f":"選手名簿!D369","v":4},{"$f":"選手名簿!C370","v":0},{"$f":"選手名簿!D370","v":5},{"$f":"選手名簿!C371","v":0},{"$f":"選手名簿!D371","v":6},{"$f":"選手名簿!C372","v":0},{"$f":"選手名簿!D372","v":7},{"$f":"選手名簿!C373","v":0},{"$f":"選手名簿!D373","v":8},{"$f":"選手名簿!C374","v":0},{"$f":"選手名簿!D374","v":9},{"$f":"選手名簿!C375","v":0},{"$f":"選手名簿!D375","v":10},{"$f":"選手名簿!C376","v":0},{"$f":"選手名簿!D376","v":11},{"$f":"選手名簿!C377","v":0},{"$f":"選手名簿!D377","v":12},{"$f":"選手名簿!C378","v":0},{"$f":"選手名簿!D378","v":13},{"$f":"選手名簿!C379","v":0},{"$f":"選手名簿!D379","v":14},{"$f":"選手名簿!C380","v":0},{"$f":"選手名簿!D380","v":15},{"$f":"選手名簿!C381","v":0},{"$f":"選手名簿!D381","v":16},{"$f":"選手名簿!C382","v":0},{"$f":"選手名簿!D382","v":17},{"$f":"選手名簿!C383","v":0},{"$f":"選手名簿!D383","v":18}]
[11,{"$f":"選手名簿!M363","v":0},{"$f":"選手名簿!M365","v":0},{"$f":"選手名簿!M366","v":0},{"$f":"選手名簿!L369","v":0},{"$f":"選手名簿!M369","v":4},{"$f":"選手名簿!L370","v":0},{"$f":"選手名簿!M370","v":5},{"$f":"選手名簿!L371","v":0},{"$f":"選手名簿!M371","v":6},{"$f":"選手名簿!L372","v":0},{"$f":"選手名簿!M372","v":7},{"$f":"選手名簿!L373","v":0},{"$f":"選手名簿!M373","v":8},{"$f":"選手名簿!L374","v":0},{"$f":"選手名簿!M374","v":9},{"$f":"選手名簿!L375","v":0},{"$f":"選手名簿!M375","v":10},{"$f":"選手名簿!L376","v":0},{"$f":"選手名簿!M376","v":11},{"$f":"選手名簿!L377","v":0},{"$f":"選手名簿!M377","v":12},{"$f":"選手名簿!L378","v":0},{"$f":"選手名簿!M378","v":13},{"$f":"選手名簿!L379","v":0},{"$f":"選手名簿!M379","v":14},{"$f":"選手名簿!L380","v":0},{"$f":"選手名簿!M380","v":15},{"$f":"選手名簿!L381","v":0},{"$f":"選手名簿!M381","v":16},{"$f":"選手名簿!L382","v":0},{"$f":"選手名簿!M382","v":17},{"$f":"選手名簿!L383","v":0},{"$f":"選手名簿!M383","v":18}]
[12,{"$f":"選手名簿!V363","v":0},{"$f":"選手名簿!V365","v":0},{"$f":"選手名簿!V366","v":0},{"$f":"選手名簿!U369","v":0},{"$f":"選手名簿!V369","v":4},{"$f":"選手名簿!U370","v":0},{"$f":"選手名簿!V370","v":5},{"$f":"選手名簿!U371","v":0},{"$f":"選手名簿!V371","v":6},{"$f":"選手名簿!U372","v":0},{"$f":"選手名簿!V372","v":7},{"$f":"選手名簿!U373","v":0},{"$f":"選手名簿!V373","v":8},{"$f":"選手名簿!U374","v":0},{"$f":"選手名簿!V374","v":9},{"$f":"選手名簿!U375","v":0},{"$f":"選手名簿!V375","v":10},{"$f":"選手名簿!U376","v":0},{"$f":"選手名簿!V376","v":11},{"$f":"選手名簿!U377","v":0},{"$f":"選手名簿!V377","v":12},{"$f":"選手名簿!U378","v":0},{"$f":"選手名簿!V378","v":13},{"$f":"選手名簿!U379","v":0},{"$f":"選手名簿!V379","v":14},{"$f":"選手名簿!U380","v":0},{"$f":"選手名簿!V380","v":15},{"$f":"選手名簿!U381","v":0},{"$f":"選手名簿!V381","v":16},{"$f":"選手名簿!U382","v":0},{"$f":"選手名簿!V382","v":17},{"$f":"選手名簿!U383","v":0},{"$f":"選手名簿!V383","v":18}]
[13,{"$f":"選手名簿!D387","v":0},{"$f":"選手名簿!D389","v":0},{"$f":"選手名簿!D390","v":0},{"$f":"選手名簿!C393","v":0},{"$f":"選手名簿!D393","v":4},{"$f":"選手名簿!C394","v":0},{"$f":"選手名簿!D394","v":5},{"$f":"選手名簿!C395","v":0},{"$f":"選手名簿!D395","v":6},{"$f":"選手名簿!C396","v":0},{"$f":"選手名簿!D396","v":7},{"$f":"選手名簿!C397","v":0},{"$f":"選手名簿!D397","v":8},{"$f":"選手名簿!C398","v":0},{"$f":"選手名簿!D398","v":9},{"$f":"選手名簿!C399","v":0},{"$f":"選手名簿!D399","v":10},{"$f":"選手名簿!C400","v":0},{"$f":"選手名簿!D400","v":11},{"$f":"選手名簿!C401","v":0},{"$f":"選手名簿!D401","v":12},{"$f":"選手名簿!C402","v":0},{"$f":"選手名簿!D402","v":13},{"$f":"選手名簿!C403","v":0},{"$f":"選手名簿!D403","v":14},{"$f":"選手名簿!C404","v":0},{"$f":"選手名簿!D404","v":15},{"$f":"選手名簿!C405","v":0},{"$f":"選手名簿!D405","v":16},{"$f":"選手名簿!C406","v":0},{"$f":"選手名簿!D406","v":17},{"$f":"選手名簿!C407","v":0},{"$f":"選手名簿!D407","v":18}]
[14,{"$f":"選手名簿!M387","v":0},{"$f":"選手名簿!M389","v":0},{"$f":"選手名簿!M390","v":0},{"$f":"選手名簿!L393","v":0},{"$f":"選手名簿!M393","v":4},{"$f":"選手名簿!L394","v":0},{"$f":"選手名簿!M394","v":5},{"$f":"選手名簿!L395","v":0},{"$f":"選手名簿!M395","v":6},{"$f":"選手名簿!L396","v":0},{"$f":"選手名簿!M396","v":7},{"$f":"選手名簿!L397","v":0},{"$f":"選手名簿!M397","v":8},{"$f":"選手名簿!L398","v":0},{"$f":"選手名簿!M398","v":9},{"$f":"選手名簿!L399","v":0},{"$f":"選手名簿!M399","v":10},{"$f":"選手名簿!L400","v":0},{"$f":"選手名簿!M400","v":11},{"$f":"選手名簿!L401","v":0},{"$f":"選手名簿!M401","v":12},{"$f":"選手名簿!L402","v":0},{"$f":"選手名簿!M402","v":13},{"$f":"選手名簿!L403","v":0},{"$f":"選手名簿!M403","v":14},{"$f":"選手名簿!L404","v":0},{"$f":"選手名簿!M404","v":15},{"$f":"選手名簿!L405","v":0},{"$f":"選手名簿!M405","v":16},{"$f":"選手名簿!L406","v":0},{"$f":"選手名簿!M406","v":17},{"$f":"選手名簿!L407","v":0},{"$f":"選手名簿!M407","v":18}]
[15,{"$f":"選手名簿!V387","v":0},{"$f":"選手名簿!V389","v":0},{"$f":"選手名簿!V390","v":0},{"$f":"選手名簿!U393","v":0},{"$f":"選手名簿!V393","v":4},{"$f":"選手名簿!U394","v":0},{"$f":"選手名簿!V394","v":5},{"$f":"選手名簿!U395","v":0},{"$f":"選手名簿!V395","v":6},{"$f":"選手名簿!U396","v":0},{"$f":"選手名簿!V396","v":7},{"$f":"選手名簿!U397","v":0},{"$f":"選手名簿!V397","v":8},{"$f":"選手名簿!U398","v":0},{"$f":"選手名簿!V398","v":9},{"$f":"選手名簿!U399","v":0},{"$f":"選手名簿!V399","v":10},{"$f":"選手名簿!U400","v":0},{"$f":"選手名簿!V400","v":11},{"$f":"選手名簿!U401","v":0},{"$f":"選手名簿!V401","v":12},{"$f":"選手名簿!U402","v":0},{"$f":"選手名簿!V402","v":13},{"$f":"選手名簿!U403","v":0},{"$f":"選手名簿!V403","v":14},{"$f":"選手名簿!U404","v":0},{"$f":"選手名簿!V404","v":15},{"$f":"選手名簿!U405","v":0},{"$f":"選手名簿!V405","v":16},{"$f":"選手名簿!U406","v":0},{"$f":"選手名簿!V406","v":17},{"$f":"選手名簿!U407","v":0},{"$f":"選手名簿!V407","v":18}]
[16,{"$f":"選手名簿!D411","v":0},{"$f":"選手名簿!D413","v":0},{"$f":"選手名簿!D414","v":0},{"$f":"選手名簿!C417","v":0},{"$f":"選手名簿!D417","v":4},{"$f":"選手名簿!C418","v":0},{"$f":"選手名簿!D418","v":5},{"$f":"選手名簿!C419","v":0},{"$f":"選手名簿!D419","v":6},{"$f":"選手名簿!C420","v":0},{"$f":"選手名簿!D420","v":7},{"$f":"選手名簿!C421","v":0},{"$f":"選手名簿!D421","v":8},{"$f":"選手名簿!C422","v":0},{"$f":"選手名簿!D422","v":9},{"$f":"選手名簿!C423","v":0},{"$f":"選手名簿!D423","v":10},{"$f":"選手名簿!C424","v":0},{"$f":"選手名簿!D424","v":11},{"$f":"選手名簿!C425","v":0},{"$f":"選手名簿!D425","v":12},{"$f":"選手名簿!C426","v":0},{"$f":"選手名簿!D426","v":13},{"$f":"選手名簿!C427","v":0},{"$f":"選手名簿!D427","v":14},{"$f":"選手名簿!C428","v":0},{"$f":"選手名簿!D428","v":15},{"$f":"選手名簿!C429","v":0},{"$f":"選手名簿!D429","v":16},{"$f":"選手名簿!C430","v":0},{"$f":"選手名簿!D430","v":17},{"$f":"選手名簿!C431","v":0},{"$f":"選手名簿!D431","v":18}]
[17,{"$f":"選手名簿!M411","v":0},{"$f":"選手名簿!M413","v":0},{"$f":"選手名簿!M414","v":0},{"$f":"選手名簿!L417","v":0},{"$f":"選手名簿!M417","v":4},{"$f":"選手名簿!L418","v":0},{"$f":"選手名簿!M418","v":5},{"$f":"選手名簿!L419","v":0},{"$f":"選手名簿!M419","v":6},{"$f":"選手名簿!L420","v":0},{"$f":"選手名簿!M420","v":7},{"$f":"選手名簿!L421","v":0},{"$f":"選手名簿!M421","v":8},{"$f":"選手名簿!L422","v":0},{"$f":"選手名簿!M422","v":9},{"$f":"選手名簿!L423","v":0},{"$f":"選手名簿!M423","v":10},{"$f":"選手名簿!L424","v":0},{"$f":"選手名簿!M424","v":11},{"$f":"選手名簿!L425","v":0},{"$f":"選手名簿!M425","v":12},{"$f":"選手名簿!L426","v":0},{"$f":"選手名簿!M426","v":13},{"$f":"選手名簿!L427","v":0},{"$f":"選手名簿!M427","v":14},{"$f":"選手名簿!L428","v":0},{"$f":"選手名簿!M428","v":15},{"$f":"選手名簿!L429","v":0},{"$f":"選手名簿!M429","v":16},{"$f":"選手名簿!L430","v":0},{"$f":"選手名簿!M430","v":17},{"$f":"選手名簿!L431","v":0},{"$f":"選手名簿!M431","v":18}]
[18,{"$f":"選手名簿!V411","v":0},{"$f":"選手名簿!V413","v":0},{"$f":"選手名簿!V414","v":0},{"$f":"選手名簿!U417","v":0},{"$f":"選手名簿!V417","v":4},{"$f":"選手名簿!U418","v":0},{"$f":"選手名簿!V418","v":5},{"$f":"選手名簿!U419","v":0},{"$f":"選手名簿!V419","v":6},{"$f":"選手名簿!U420","v":0},{"$f":"選手名簿!V420","v":7},{"$f":"選手名簿!U421","v":0},{"$f":"選手名簿!V421","v":8},{"$f":"選手名簿!U422","v":0},{"$f":"選手名簿!V422","v":9},{"$f":"選手名簿!U423","v":0},{"$f":"選手名簿!V423","v":10},{"$f":"選手名簿!U424","v":0},{"$f":"選手名簿!V424","v":11},{"$f":"選手名簿!U425","v":0},{"$f":"選手名簿!V425","v":12},{"$f":"選手名簿!U426","v":0},{"$f":"選手名簿!V426","v":13},{"$f":"選手名簿!U427","v":0},{"$f":"選手名簿!V427","v":14},{"$f":"選手名簿!U428","v":0},{"$f":"選手名簿!V428","v":15},{"$f":"選手名簿!U429","v":0},{"$f":"選手名簿!V429","v":16},{"$f":"選手名簿!U430","v":0},{"$f":"選手名簿!V430","v":17},{"$f":"選手名簿!U431","v":0},{"$f":"選手名簿!V431","v":18}]
[19,{"$f":"選手名簿!D435","v":0},{"$f":"選手名簿!D437","v":0},{"$f":"選手名簿!D438","v":0},{"$f":"選手名簿!C441","v":0},{"$f":"選手名簿!D441","v":4},{"$f":"選手名簿!C442","v":0},{"$f":"選手名簿!D442","v":5},{"$f":"選手名簿!C443","v":0},{"$f":"選手名簿!D443","v":6},{"$f":"選手名簿!C444","v":0},{"$f":"選手名簿!D444","v":7},{"$f":"選手名簿!C445","v":0},{"$f":"選手名簿!D445","v":8},{"$f":"選手名簿!C446","v":0},{"$f":"選手名簿!D446","v":9},{"$f":"選手名簿!C447","v":0},{"$f":"選手名簿!D447","v":10},{"$f":"選手名簿!C448","v":0},{"$f":"選手名簿!D448","v":11},{"$f":"選手名簿!C449","v":0},{"$f":"選手名簿!D449","v":12},{"$f":"選手名簿!C450","v":0},{"$f":"選手名簿!D450","v":13},{"$f":"選手名簿!C451","v":0},{"$f":"選手名簿!D451","v":14},{"$f":"選手名簿!C452","v":0},{"$f":"選手名簿!D452","v":15},{"$f":"選手名簿!C453","v":0},{"$f":"選手名簿!D453","v":16},{"$f":"選手名簿!C454","v":0},{"$f":"選手名簿!D454","v":17},{"$f":"選手名簿!C455","v":0},{"$f":"選手名簿!D455","v":18}]
[20,{"$f":"選手名簿!M435","v":0},{"$f":"選手名簿!M437","v":0},{"$f":"選手名簿!M438","v":0},{"$f":"選手名簿!L441","v":0},{"$f":"選手名簿!M441","v":4},{"$f":"選手名簿!L442","v":0},{"$f":"選手名簿!M442","v":5},{"$f":"選手名簿!L443","v":0},{"$f":"選手名簿!M443","v":6},{"$f":"選手名簿!L444","v":0},{"$f":"選手名簿!M444","v":7},{"$f":"選手名簿!L445","v":0},{"$f":"選手名簿!M445","v":8},{"$f":"選手名簿!L446","v":0},{"$f":"選手名簿!M446","v":9},{"$f":"選手名簿!L447","v":0},{"$f":"選手名簿!M447","v":10},{"$f":"選手名簿!L448","v":0},{"$f":"選手名簿!M448","v":11},{"$f":"選手名簿!L449","v":0},{"$f":"選手名簿!M449","v":12},{"$f":"選手名簿!L450","v":0},{"$f":"選手名簿!M450","v":13},{"$f":"選手名簿!L451","v":0},{"$f":"選手名簿!M451","v":14},{"$f":"選手名簿!L452","v":0},{"$f":"選手名簿!M452","v":15},{"$f":"選手名簿!L453","v":0},{"$f":"選手名簿!M453","v":16},{"$f":"選手名簿!L454","v":0},{"$f":"選手名簿!M454","v":17},{"$f":"選手名簿!L455","v":0},{"$f":"選手名簿!M455","v":18}]
[21,{"$f":"選手名簿!V435","v":0},{"$f":"選手名簿!V437","v":0},{"$f":"選手名簿!V438","v":0},{"$f":"選手名簿!U441","v":0},{"$f":"選手名簿!V441","v":4},{"$f":"選手名簿!U442","v":0},{"$f":"選手名簿!V442","v":5},{"$f":"選手名簿!U443","v":0},{"$f":"選手名簿!V443","v":6},{"$f":"選手名簿!U444","v":0},{"$f":"選手名簿!V444","v":7},{"$f":"選手名簿!U445","v":0},{"$f":"選手名簿!V445","v":8},{"$f":"選手名簿!U446","v":0},{"$f":"選手名簿!V446","v":9},{"$f":"選手名簿!U447","v":0},{"$f":"選手名簿!V447","v":10},{"$f":"選手名簿!U448","v":0},{"$f":"選手名簿!V448","v":11},{"$f":"選手名簿!U449","v":0},{"$f":"選手名簿!V449","v":12},{"$f":"選手名簿!U450","v":0},{"$f":"選手名簿!V450","v":13},{"$f":"選手名簿!U451","v":0},{"$f":"選手名簿!V451","v":14},{"$f":"選手名簿!U452","v":0},{"$f":"選手名簿!V452","v":15},{"$f":"選手名簿!U453","v":0},{"$f":"選手名簿!V453","v":16},{"$f":"選手名簿!U454","v":0},{"$f":"選手名簿!V454","v":17},{"$f":"選手名簿!U455","v":0},{"$f":"選手名簿!V455","v":18}]
[22,{"$f":"選手名簿!D459","v":0},{"$f":"選手名簿!D461","v":0},{"$f":"選手名簿!D462","v":0},{"$f":"選手名簿!C465","v":0},{"$f":"選手名簿!D465","v":4},{"$f":"選手名簿!C466","v":0},{"$f":"選手名簿!D466","v":5},{"$f":"選手名簿!C467","v":0},{"$f":"選手名簿!D467","v":6},{"$f":"選手名簿!C468","v":0},{"$f":"選手名簿!D468","v":7},{"$f":"選手名簿!C469","v":0},{"$f":"選手名簿!D469","v":8},{"$f":"選手名簿!C470","v":0},{"$f":"選手名簿!D470","v":9},{"$f":"選手名簿!C471","v":0},{"$f":"選手名簿!D471","v":10},{"$f":"選手名簿!C472","v":0},{"$f":"選手名簿!D472","v":11},{"$f":"選手名簿!C473","v":0},{"$f":"選手名簿!D473","v":12},{"$f":"選手名簿!C474","v":0},{"$f":"選手名簿!D474","v":13},{"$f":"選手名簿!C475","v":0},{"$f":"選手名簿!D475","v":14},{"$f":"選手名簿!C476","v":0},{"$f":"選手名簿!D476","v":15},{"$f":"選手名簿!C477","v":0},{"$f":"選手名簿!D477","v":16},{"$f":"選手名簿!C478","v":0},{"$f":"選手名簿!D478","v":17},{"$f":"選手名簿!C479","v":0},{"$f":"選手名簿!D479","v":18}]
[23,{"$f":"選手名簿!M459","v":0},{"$f":"選手名簿!M461","v":0},{"$f":"選手名簿!M462","v":0},{"$f":"選手名簿!L465","v":0},{"$f":"選手名簿!M465","v":4},{"$f":"選手名簿!L466","v":0},{"$f":"選手名簿!M466","v":5},{"$f":"選手名簿!L467","v":0},{"$f":"選手名簿!M467","v":6},{"$f":"選手名簿!L468","v":0},{"$f":"選手名簿!M468","v":7},{"$f":"選手名簿!L469","v":0},{"$f":"選手名簿!M469","v":8},{"$f":"選手名簿!L470","v":0},{"$f":"選手名簿!M470","v":9},{"$f":"選手名簿!L471","v":0},{"$f":"選手名簿!M471","v":10},{"$f":"選手名簿!L472","v":0},{"$f":"選手名簿!M472","v":11},{"$f":"選手名簿!L473","v":0},{"$f":"選手名簿!M473","v":12},{"$f":"選手名簿!L474","v":0},{"$f":"選手名簿!M474","v":13},{"$f":"選手名簿!L475","v":0},{"$f":"選手名簿!M475","v":14},{"$f":"選手名簿!L476","v":0},{"$f":"選手名簿!M476","v":15},{"$f":"選手名簿!L477","v":0},{"$f":"選手名簿!M477","v":16},{"$f":"選手名簿!L478","v":0},{"$f":"選手名簿!M478","v":17},{"$f":"選手名簿!L479","v":0},{"$f":"選手名簿!M479","v":18}]
[24,{"$f":"選手名簿!V459","v":0},{"$f":"選手名簿!V461","v":0},{"$f":"選手名簿!V462","v":0},{"$f":"選手名簿!U465","v":0},{"$f":"選手名簿!V465","v":4},{"$f":"選手名簿!U466","v":0},{"$f":"選手名簿!V466","v":5},{"$f":"選手名簿!U467","v":0},{"$f":"選手名簿!V467","v":6},{"$f":"選手名簿!U468","v":0},{"$f":"選手名簿!V468","v":7},{"$f":"選手名簿!U469","v":0},{"$f":"選手名簿!V469","v":8},{"$f":"選手名簿!U470","v":0},{"$f":"選手名簿!V470","v":9},{"$f":"選手名簿!U471","v":0},{"$f":"選手名簿!V471","v":10},{"$f":"選手名簿!U472","v":0},{"$f":"選手名簿!V472","v":11},{"$f":"選手名簿!U473","v":0},{"$f":"選手名簿!V473","v":12},{"$f":"選手名簿!U474","v":0},{"$f":"選手名簿!V474","v":13},{"$f":"選手名簿!U475","v":0},{"$f":"選手名簿!V475","v":14},{"$f":"選手名簿!U476","v":0},{"$f":"選手名簿!V476","v":15},{"$f":"選手名簿!U477","v":0},{"$f":"選手名簿!V477","v":16},{"$f":"選手名簿!U478","v":0},{"$f":"選手名簿!V478","v":17},{"$f":"選手名簿!U479","v":0},{"$f":"選手名簿!V479","v":18}]
[25,{"$f":"選手名簿!D483","v":0},{"$f":"選手名簿!D485","v":0},{"$f":"選手名簿!D486","v":0},{"$f":"選手名簿!C489","v":0},{"$f":"選手名簿!D489","v":4},{"$f":"選手名簿!C490","v":0},{"$f":"選手名簿!D490","v":5},{"$f":"選手名簿!C491","v":0},{"$f":"選手名簿!D491","v":6},{"$f":"選手名簿!C492","v":0},{"$f":"選手名簿!D492","v":7},{"$f":"選手名簿!C493","v":0},{"$f":"選手名簿!D493","v":8},{"$f":"選手名簿!C494","v":0},{"$f":"選手名簿!D494","v":9},{"$f":"選手名簿!C495","v":0},{"$f":"選手名簿!D495","v":10},{"$f":"選手名簿!C496","v":0},{"$f":"選手名簿!D496","v":11},{"$f":"選手名簿!C497","v":0},{"$f":"選手名簿!D497","v":12},{"$f":"選手名簿!C498","v":0},{"$f":"選手名簿!D498","v":13},{"$f":"選手名簿!C499","v":0},{"$f":"選手名簿!D499","v":14},{"$f":"選手名簿!C500","v":0},{"$f":"選手名簿!D500","v":15},{"$f":"選手名簿!C501","v":0},{"$f":"選手名簿!D501","v":16},{"$f":"選手名簿!C502","v":0},{"$f":"選手名簿!D502","v":17},{"$f":"選手名簿!C503","v":0},{"$f":"選手名簿!D503","v":18}]
[26,{"$f":"選手名簿!M483","v":0},{"$f":"選手名簿!M485","v":0},{"$f":"選手名簿!M486","v":0},{"$f":"選手名簿!L489","v":0},{"$f":"選手名簿!M489","v":4},{"$f":"選手名簿!L490","v":0},{"$f":"選手名簿!M490","v":5},{"$f":"選手名簿!L491","v":0},{"$f":"選手名簿!M491","v":6},{"$f":"選手名簿!L492","v":0},{"$f":"選手名簿!M492","v":7},{"$f":"選手名簿!L493","v":0},{"$f":"選手名簿!M493","v":8},{"$f":"選手名簿!L494","v":0},{"$f":"選手名簿!M494","v":9},{"$f":"選手名簿!L495","v":0},{"$f":"選手名簿!M495","v":10},{"$f":"選手名簿!L496","v":0},{"$f":"選手名簿!M496","v":11},{"$f":"選手名簿!L497","v":0},{"$f":"選手名簿!M497","v":12},{"$f":"選手名簿!L498","v":0},{"$f":"選手名簿!M498","v":13},{"$f":"選手名簿!L499","v":0},{"$f":"選手名簿!M499","v":14},{"$f":"選手名簿!L500","v":0},{"$f":"選手名簿!M500","v":15},{"$f":"選手名簿!L501","v":0},{"$f":"選手名簿!M501","v":16},{"$f":"選手名簿!L502","v":0},{"$f":"選手名簿!M502","v":17},{"$f":"選手名簿!L503","v":0},{"$f":"選手名簿!M503","v":18}]
[27,{"$f":"選手名簿!V483","v":0},{"$f":"選手名簿!V485","v":0},{"$f":"選手名簿!V486","v":0},{"$f":"選手名簿!U489","v":0},{"$f":"選手名簿!V489","v":4},{"$f":"選手名簿!U490","v":0},{"$f":"選手名簿!V490","v":5},{"$f":"選手名簿!U491","v":0},{"$f":"選手名簿!V491","v":6},{"$f":"選手名簿!U492","v":0},{"$f":"選手名簿!V492","v":7},{"$f":"選手名簿!U493","v":0},{"$f":"選手名簿!V493","v":8},{"$f":"選手名簿!U494","v":0},{"$f":"選手名簿!V494","v":9},{"$f":"選手名簿!U495","v":0},{"$f":"選手名簿!V495","v":10},{"$f":"選手名簿!U496","v":0},{"$f":"選手名簿!V496","v":11},{"$f":"選手名簿!U497","v":0},{"$f":"選手名簿!V497","v":12},{"$f":"選手名簿!U498","v":0},{"$f":"選手名簿!V498","v":13},{"$f":"選手名簿!U499","v":0},{"$f":"選手名簿!V499","v":14},{"$f":"選手名簿!U500","v":0},{"$f":"選手名簿!V500","v":15},{"$f":"選手名簿!U501","v":0},{"$f":"選手名簿!V501","v":16},{"$f":"選手名簿!U502","v":0},{"$f":"選手名簿!V502","v":17},{"$f":"選手名簿!U503","v":0},{"$f":"選手名簿!V503","v":18}]
[28,{"$f":"選手名簿!D507","v":0},{"$f":"選手名簿!D509","v":0},{"$f":"選手名簿!D510","v":0},{"$f":"選手名簿!C513","v":0},{"$f":"選手名簿!D513","v":4},{"$f":"選手名簿!C514","v":0},{"$f":"選手名簿!D514","v":5},{"$f":"選手名簿!C515","v":0},{"$f":"選手名簿!D515","v":6},{"$f":"選手名簿!C516","v":0},{"$f":"選手名簿!D516","v":7},{"$f":"選手名簿!C517","v":0},{"$f":"選手名簿!D517","v":8},{"$f":"選手名簿!C518","v":0},{"$f":"選手名簿!D518","v":9},{"$f":"選手名簿!C519","v":0},{"$f":"選手名簿!D519","v":10},{"$f":"選手名簿!C520","v":0},{"$f":"選手名簿!D520","v":11},{"$f":"選手名簿!C521","v":0},{"$f":"選手名簿!D521","v":12},{"$f":"選手名簿!C522","v":0},{"$f":"選手名簿!D522","v":13},{"$f":"選手名簿!C523","v":0},{"$f":"選手名簿!D523","v":14},{"$f":"選手名簿!C524","v":0},{"$f":"選手名簿!D524","v":15},{"$f":"選手名簿!C525","v":0},{"$f":"選手名簿!D525","v":16},{"$f":"選手名簿!C526","v":0},{"$f":"選手名簿!D526","v":17},{"$f":"選手名簿!C527","v":0},{"$f":"選手名簿!D527","v":18}]
[29,{"$f":"選手名簿!M507","v":0},{"$f":"選手名簿!M509","v":0},{"$f":"選手名簿!M510","v":0},{"$f":"選手名簿!L513","v":0},{"$f":"選手名簿!M513","v":4},{"$f":"選手名簿!L514","v":0},{"$f":"選手名簿!M514","v":5},{"$f":"選手名簿!L515","v":0},{"$f":"選手名簿!M515","v":6},{"$f":"選手名簿!L516","v":0},{"$f":"選手名簿!M516","v":7},{"$f":"選手名簿!L517","v":0},{"$f":"選手名簿!M517","v":8},{"$f":"選手名簿!L518","v":0},{"$f":"選手名簿!M518","v":9},{"$f":"選手名簿!L519","v":0},{"$f":"選手名簿!M519","v":10},{"$f":"選手名簿!L520","v":0},{"$f":"選手名簿!M520","v":11},{"$f":"選手名簿!L521","v":0},{"$f":"選手名簿!M521","v":12},{"$f":"選手名簿!L522","v":0},{"$f":"選手名簿!M522","v":13},{"$f":"選手名簿!L523","v":0},{"$f":"選手名簿!M523","v":14},{"$f":"選手名簿!L524","v":0},{"$f":"選手名簿!M524","v":15},{"$f":"選手名簿!L525","v":0},{"$f":"選手名簿!M525","v":16},{"$f":"選手名簿!L526","v":0},{"$f":"選手名簿!M526","v":17},{"$f":"選手名簿!L527","v":0},{"$f":"選手名簿!M527","v":18}]
[30,{"$f":"選手名簿!V507","v":0},{"$f":"選手名簿!V509","v":0},{"$f":"選手名簿!V510","v":0},{"$f":"選手名簿!U513","v":0},{"$f":"選手名簿!V513","v":4},{"$f":"選手名簿!U514","v":0},{"$f":"選手名簿!V514","v":5},{"$f":"選手名簿!U515","v":0},{"$f":"選手名簿!V515","v":6},{"$f":"選手名簿!U516","v":0},{"$f":"選手名簿!V516","v":7},{"$f":"選手名簿!U517","v":0},{"$f":"選手名簿!V517","v":8},{"$f":"選手名簿!U518","v":0},{"$f":"選手名簿!V518","v":9},{"$f":"選手名簿!U519","v":0},{"$f":"選手名簿!V519","v":10},{"$f":"選手名簿!U520","v":0},{"$f":"選手名簿!V520","v":11},{"$f":"選手名簿!U521","v":0},{"$f":"選手名簿!V521","v":12},{"$f":"選手名簿!U522","v":0},{"$f":"選手名簿!V522","v":13},{"$f":"選手名簿!U523","v":0},{"$f":"選手名簿!V523","v":14},{"$f":"選手名簿!U524","v":0},{"$f":"選手名簿!V524","v":15},{"$f":"選手名簿!U525","v":0},{"$f":"選手名簿!V525","v":16},{"$f":"選手名簿!U526","v":0},{"$f":"選手名簿!V526","v":17},{"$f":"選手名簿!U527","v":0},{"$f":"選手名簿!V527","v":18}]
[31,{"$f":"選手名簿!D531","v":0},{"$f":"選手名簿!D533","v":0},{"$f":"選手名簿!D534","v":0},{"$f":"選手名簿!C537","v":0},{"$f":"選手名簿!D537","v":4},{"$f":"選手名簿!C538","v":0},{"$f":"選手名簿!D538","v":5},{"$f":"選手名簿!C539","v":0},{"$f":"選手名簿!D539","v":6},{"$f":"選手名簿!C540","v":0},{"$f":"選手名簿!D540","v":7},{"$f":"選手名簿!C541","v":0},{"$f":"選手名簿!D541","v":8},{"$f":"選手名簿!C542","v":0},{"$f":"選手名簿!D542","v":9},{"$f":"選手名簿!C543","v":0},{"$f":"選手名簿!D543","v":10},{"$f":"選手名簿!C544","v":0},{"$f":"選手名簿!D544","v":11},{"$f":"選手名簿!C545","v":0},{"$f":"選手名簿!D545","v":12},{"$f":"選手名簿!C546","v":0},{"$f":"選手名簿!D546","v":13},{"$f":"選手名簿!C547","v":0},{"$f":"選手名簿!D547","v":14},{"$f":"選手名簿!C548","v":0},{"$f":"選手名簿!D548","v":15},{"$f":"選手名簿!C549","v":0},{"$f":"選手名簿!D549","v":16},{"$f":"選手名簿!C550","v":0},{"$f":"選手名簿!D550","v":17},{"$f":"選手名簿!C551","v":0},{"$f":"選手名簿!D551","v":18}]
[32,{"$f":"選手名簿!M531","v":0},{"$f":"選手名簿!M533","v":0},{"$f":"選手名簿!M534","v":0},{"$f":"選手名簿!L537","v":0},{"$f":"選手名簿!M537","v":4},{"$f":"選手名簿!L538","v":0},{"$f":"選手名簿!M538","v":5},{"$f":"選手名簿!L539","v":0},{"$f":"選手名簿!M539","v":6},{"$f":"選手名簿!L540","v":0},{"$f":"選手名簿!M540","v":7},{"$f":"選手名簿!L541","v":0},{"$f":"選手名簿!M541","v":8},{"$f":"選手名簿!L542","v":0},{"$f":"選手名簿!M542","v":9},{"$f":"選手名簿!L543","v":0},{"$f":"選手名簿!M543","v":10},{"$f":"選手名簿!L544","v":0},{"$f":"選手名簿!M544","v":11},{"$f":"選手名簿!L545","v":0},{"$f":"選手名簿!M545","v":12},{"$f":"選手名簿!L546","v":0},{"$f":"選手名簿!M546","v":13},{"$f":"選手名簿!L547","v":0},{"$f":"選手名簿!M547","v":14},{"$f":"選手名簿!L548","v":0},{"$f":"選手名簿!M548","v":15},{"$f":"選手名簿!L549","v":0},{"$f":"選手名簿!M549","v":16},{"$f":"選手名簿!L550","v":0},{"$f":"選手名簿!M550","v":17},{"$f":"選手名簿!L551","v":0},{"$f":"選手名簿!M551","v":18}]
[33,{"$f":"選手名簿!V531","v":0},{"$f":"選手名簿!V533","v":0},{"$f":"選手名簿!V534","v":0},{"$f":"選手名簿!U537","v":0},{"$f":"選手名簿!V537","v":4},{"$f":"選手名簿!U538","v":0},{"$f":"選手名簿!V538","v":5},{"$f":"選手名簿!U539","v":0},{"$f":"選手名簿!V539","v":6},{"$f":"選手名簿!U540","v":0},{"$f":"選手名簿!V540","v":7},{"$f":"選手名簿!U541","v":0},{"$f":"選手名簿!V541","v":8},{"$f":"選手名簿!U542","v":0},{"$f":"選手名簿!V542","v":9},{"$f":"選手名簿!U543","v":0},{"$f":"選手名簿!V543","v":10},{"$f":"選手名簿!U544","v":0},{"$f":"選手名簿!V544","v":11},{"$f":"選手名簿!U545","v":0},{"$f":"選手名簿!V545","v":12},{"$f":"選手名簿!U546","v":0},{"$f":"選手名簿!V546","v":13},{"$f":"選手名簿!U547","v":0},{"$f":"選手名簿!V547","v":14},{"$f":"選手名簿!U548","v":0},{"$f":"選手名簿!V548","v":15},{"$f":"選手名簿!U549","v":0},{"$f":"選手名簿!V549","v":16},{"$f":"選手名簿!U550","v":0},{"$f":"選手名簿!V550","v":17},{"$f":"選手名簿!U551","v":0},{"$f":"選手名簿!V551","v":18}]
[34,{"$f":"選手名簿!D555","v":0},{"$f":"選手名簿!D557","v":0},{"$f":"選手名簿!D558","v":0},{"$f":"選手名簿!C561","v":0},{"$f":"選手名簿!D561","v":4},{"$f":"選手名簿!C562","v":0},{"$f":"選手名簿!D562","v":5},{"$f":"選手名簿!C563","v":0},{"$f":"選手名簿!D563","v":6},{"$f":"選手名簿!C564","v":0},{"$f":"選手名簿!D564","v":7},{"$f":"選手名簿!C565","v":0},{"$f":"選手名簿!D565","v":8},{"$f":"選手名簿!C566","v":0},{"$f":"選手名簿!D566","v":9},{"$f":"選手名簿!C567","v":0},{"$f":"選手名簿!D567","v":10},{"$f":"選手名簿!C568","v":0},{"$f":"選手名簿!D568","v":11},{"$f":"選手名簿!C569","v":0},{"$f":"選手名簿!D569","v":12},{"$f":"選手名簿!C570","v":0},{"$f":"選手名簿!D570","v":13},{"$f":"選手名簿!C571","v":0},{"$f":"選手名簿!D571","v":14},{"$f":"選手名簿!C572","v":0},{"$f":"選手名簿!D572","v":15},{"$f":"選手名簿!C573","v":0},{"$f":"選手名簿!D573","v":16},{"$f":"選手名簿!C574","v":0},{"$f":"選手名簿!D574","v":17},{"$f":"選手名簿!C575","v":0},{"$f":"選手名簿!D575","v":18}]
[35,{"$f":"選手名簿!M555","v":0},{"$f":"選手名簿!M557","v":0},{"$f":"選手名簿!M558","v":0},{"$f":"選手名簿!L561","v":0},{"$f":"選手名簿!M561","v":4},{"$f":"選手名簿!L562","v":0},{"$f":"選手名簿!M562","v":5},{"$f":"選手名簿!L563","v":0},{"$f":"選手名簿!M563","v":6},{"$f":"選手名簿!L564","v":0},{"$f":"選手名簿!M564","v":7},{"$f":"選手名簿!L565","v":0},{"$f":"選手名簿!M565","v":8},{"$f":"選手名簿!L566","v":0},{"$f":"選手名簿!M566","v":9},{"$f":"選手名簿!L567","v":0},{"$f":"選手名簿!M567","v":10},{"$f":"選手名簿!L568","v":0},{"$f":"選手名簿!M568","v":11},{"$f":"選手名簿!L569","v":0},{"$f":"選手名簿!M569","v":12},{"$f":"選手名簿!L570","v":0},{"$f":"選手名簿!M570","v":13},{"$f":"選手名簿!L571","v":0},{"$f":"選手名簿!M571","v":14},{"$f":"選手名簿!L572","v":0},{"$f":"選手名簿!M572","v":15},{"$f":"選手名簿!L573","v":0},{"$f":"選手名簿!M573","v":16},{"$f":"選手名簿!L574","v":0},{"$f":"選手名簿!M574","v":17},{"$f":"選手名簿!L575","v":0},{"$f":"選手名簿!M575","v":18}]
[36,{"$f":"選手名簿!V555","v":0},{"$f":"選手名簿!V557","v":0},{"$f":"選手名簿!V558","v":0},{"$f":"選手名簿!U561","v":0},{"$f":"選手名簿!V561","v":4},{"$f":"選手名簿!U562","v":0},{"$f":"選手名簿!V562","v":5},{"$f":"選手名簿!U563","v":0},{"$f":"選手名簿!V563","v":6},{"$f":"選手名簿!U564","v":0},{"$f":"選手名簿!V564","v":7},{"$f":"選手名簿!U565","v":0},{"$f":"選手名簿!V565","v":8},{"$f":"選手名簿!U566","v":0},{"$f":"選手名簿!V566","v":9},{"$f":"選手名簿!U567","v":0},{"$f":"選手名簿!V567","v":10},{"$f":"選手名簿!U568","v":0},{"$f":"選手名簿!V568","v":11},{"$f":"選手名簿!U569","v":0},{"$f":"選手名簿!V569","v":12},{"$f":"選手名簿!U570","v":0},{"$f":"選手名簿!V570","v":13},{"$f":"選手名簿!U571","v":0},{"$f":"選手名簿!V571","v":14},{"$f":"選手名簿!U572","v":0},{"$f":"選手名簿!V572","v":15},{"$f":"選手名簿!U573","v":0},{"$f":"選手名簿!V573","v":16},{"$f":"選手名簿!U574","v":0},{"$f":"選手名簿!V574","v":17},{"$f":"選手名簿!U575","v":0},{"$f":"選手名簿!V575","v":18}]
[]
["ＴｅａｍＡ",{"$f":"VLOOKUP(印刷画面!$H$3,CHOOSE(IF(印刷画面!$E$3=\"男子\",\"1\",\"2\"),$A$2:$AH$37,$A$38:$AH$73),2,TRUE)","v":0},{"$f":"VLOOKUP(印刷画面!$H$3,CHOOSE(IF(印刷画面!$E$3=\"男子\",\"1\",\"2\"),$A$2:$AH$37,$A$38:$AH$73),3,TRUE)","v":0},{"$f":"VLOOKUP(印刷画面!$H$3,CHOOSE(IF(印刷画面!$E$3=\"男子\",\"1\",\"2\"),$A$2:$AH$37,$A$38:$AH$73),4,TRUE)","v":0},{"$f":"VLOOKUP(印刷画面!$H$3,CHOOSE(IF(印刷画面!$E$3=\"男子\",\"1\",\"2\"),$A$2:$AH$37,$A$38:$AH$73),5,TRUE)","v":0},{"$f":"VLOOKUP(印刷画面!$H$3,CHOOSE(IF(印刷画面!$E$3=\"男子\",\"1\",\"2\"),$A$2:$AH$37,$A$38:$AH$73),6,TRUE)","v":4},{"$f":"VLOOKUP(印刷画面!$H$3,CHOOSE(IF(印刷画面!$E$3=\"男子\",\"1\",\"2\"),$A$2:$AH$37,$A$38:$AH$73),7,TRUE)","v":0},{"$f":"VLOOKUP(印刷画面!$H$3,CHOOSE(IF(印刷画面!$E$3=\"男子\",\"1\",\"2\"),$A$2:$AH$37,$A$38:$AH$73),8,TRUE)","v":5},{"$f":"VLOOKUP(印刷画面!$H$3,CHOOSE(IF(印刷画面!$E$3=\"男子\",\"1\",\"2\"),$A$2:$AH$37,$A$38:$AH$73),9,TRUE)","v":0},{"$f":"VLOOKUP(印刷画面!$H$3,CHOOSE(IF(印刷画面!$E$3=\"男子\",\"1\",\"2\"),$A$2:$AH$37,$A$38:$AH$73),10,TRUE)","v":6},{"$f":"VLOOKUP(印刷画面!$H$3,CHOOSE(IF(印刷画面!$E$3=\"男子\",\"1\",\"2\"),$A$2:$AH$37,$A$38:$AH$73),11,TRUE)","v":0},{"$f":"VLOOKUP(印刷画面!$H$3,CHOOSE(IF(印刷画面!$E$3=\"男子\",\"1\",\"2\"),$A$2:$AH$37,$A$38:$AH$73),12,TRUE)","v":7},{"$f":"VLOOKUP(印刷画面!$H$3,CHOOSE(IF(印刷画面!$E$3=\"男子\",\"1\",\"2\"),$A$2:$AH$37,$A$38:$AH$73),13,TRUE)","v":0},{"$f":"VLOOKUP(印刷画面!$H$3,CHOOSE(IF(印刷画面!$E$3=\"男子\",\"1\",\"2\"),$A$2:$AH$37,$A$38:$AH$73),14,TRUE)","v":8},{"$f":"VLOOKUP(印刷画面!$H$3,CHOOSE(IF(印刷画面!$E$3=\"男子\",\"1\",\"2\"),$A$2:$AH$37,$A$38:$AH$73),15,TRUE)","v":0},{"$f":"VLOOKUP(印刷画面!$H$3,CHOOSE(IF(印刷画面!$E$3=\"男子\",\"1\",\"2\"),$A$2:$AH$37,$A$38:$AH$73),16,TRUE)","v":9},{"$f":"VLOOKUP(印刷画面!$H$3,CHOOSE(IF(印刷画面!$E$3=\"男子\",\"1\",\"2\"),$A$2:$AH$37,$A$38:$AH$73),17,TRUE)","v":0},{"$f":"VLOOKUP(印刷画面!$H$3,CHOOSE(IF(印刷画面!$E$3=\"男子\",\"1\",\"2\"),$A$2:$AH$37,$A$38:$AH$73),18,TRUE)","v":10},{"$f":"VLOOKUP(印刷画面!$H$3,CHOOSE(IF(印刷画面!$E$3=\"男子\",\"1\",\"2\"),$A$2:$AH$37,$A$38:$AH$73),19,TRUE)","v":0},{"$f":"VLOOKUP(印刷画面!$H$3,CHOOSE(IF(印刷画面!$E$3=\"男子\",\"1\",\"2\"),$A$2:$AH$37,$A$38:$AH$73),20,TRUE)","v":11},{"$f":"VLOOKUP(印刷画面!$H$3,CHOOSE(IF(印刷画面!$E$3=\"男子\",\"1\",\"2\"),$A$2:$AH$37,$A$38:$AH$73),21,TRUE)","v":0},{"$f":"VLOOKUP(印刷画面!$H$3,CHOOSE(IF(印刷画面!$E$3=\"男子\",\"1\",\"2\"),$A$2:$AH$37,$A$38:$AH$73),22,TRUE)","v":12},{"$f":"VLOOKUP(印刷画面!$H$3,CHOOSE(IF(印刷画面!$E$3=\"男子\",\"1\",\"2\"),$A$2:$AH$37,$A$38:$AH$73),23,TRUE)","v":0},{"$f":"VLOOKUP(印刷画面!$H$3,CHOOSE(IF(印刷画面!$E$3=\"男子\",\"1\",\"2\"),$A$2:$AH$37,$A$38:$AH$73),24,TRUE)","v":13},{"$f":"VLOOKUP(印刷画面!$H$3,CHOOSE(IF(印刷画面!$E$3=\"男子\",\"1\",\"2\"),$A$2:$AH$37,$A$38:$AH$73),25,TRUE)","v":0},{"$f":"VLOOKUP(印刷画面!$H$3,CHOOSE(IF(印刷画面!$E$3=\"男子\",\"1\",\"2\"),$A$2:$AH$37,$A$38:$AH$73),26,TRUE)","v":14},{"$f":"VLOOKUP(印刷画面!$H$3,CHOOSE(IF(印刷画面!$E$3=\"男子\",\"1\",\"2\"),$A$2:$AH$37,$A$38:$AH$73),27,TRUE)","v":0},{"$f":"VLOOKUP(印刷画面!$H$3,CHOOSE(IF(印刷画面!$E$3=\"男子\",\"1\",\"2\"),$A$2:$AH$37,$A$38:$AH$73),28,TRUE)","v":15},{"$f":"VLOOKUP(印刷画面!$H$3,CHOOSE(IF(印刷画面!$E$3=\"男子\",\"1\",\"2\"),$A$2:$AH$37,$A$38:$AH$73),29,TRUE)","v":0},{"$f":"VLOOKUP(印刷画面!$H$3,CHOOSE(IF(印刷画面!$E$3=\"男子\",\"1\",\"2\"),$A$2:$AH$37,$A$38:$AH$73),30,TRUE)","v":16},{"$f":"VLOOKUP(印刷画面!$H$3,CHOOSE(IF(印刷画面!$E$3=\"男子\",\"1\",\"2\"),$A$2:$AH$37,$A$38:$AH$73),31,TRUE)","v":0},{"$f":"VLOOKUP(印刷画面!$H$3,CHOOSE(IF(印刷画面!$E$3=\"男子\",\"1\",\"2\"),$A$2:$AH$37,$A$38:$AH$73),32,TRUE)","v":17},{"$f":"VLOOKUP(印刷画面!$H$3,CHOOSE(IF(印刷画面!$E$3=\"男子\",\"1\",\"2\"),$A$2:$AH$37,$A$38:$AH$73),33,TRUE)","v":0},{"$f":"VLOOKUP(印刷画面!$H$3,CHOOSE(IF(印刷画面!$E$3=\"男子\",\"1\",\"2\"),$A$2:$AH$37,$A$38:$AH$73),34,TRUE)","v":18}]
["ＴｅａｍＢ",{"$f":"VLOOKUP(印刷画面!$K$3,CHOOSE(IF(印刷画面!$E$3=\"男子\",\"1\",\"2\"),$A$2:$AH$37,$A$38:$AH$73),2,TRUE)","v":0},{"$f":"VLOOKUP(印刷画面!$K$3,CHOOSE(IF(印刷画面!$E$3=\"男子\",\"1\",\"2\"),$A$2:$AH$37,$A$38:$AH$73),3,TRUE)","v":0},{"$f":"VLOOKUP(印刷画面!$K$3,CHOOSE(IF(印刷画面!$E$3=\"男子\",\"1\",\"2\"),$A$2:$AH$37,$A$38:$AH$73),4,TRUE)","v":0},{"$f":"VLOOKUP(印刷画面!$K$3,CHOOSE(IF(印刷画面!$E$3=\"男子\",\"1\",\"2\"),$A$2:$AH$37,$A$38:$AH$73),5,TRUE)","v":0},{"$f":"VLOOKUP(印刷画面!$K$3,CHOOSE(IF(印刷画面!$E$3=\"男子\",\"1\",\"2\"),$A$2:$AH$37,$A$38:$AH$73),6,TRUE)","v":4},{"$f":"VLOOKUP(印刷画面!$K$3,CHOOSE(IF(印刷画面!$E$3=\"男子\",\"1\",\"2\"),$A$2:$AH$37,$A$38:$AH$73),7,TRUE)","v":0},{"$f":"VLOOKUP(印刷画面!$K$3,CHOOSE(IF(印刷画面!$E$3=\"男子\",\"1\",\"2\"),$A$2:$AH$37,$A$38:$AH$73),8,TRUE)","v":5},{"$f":"VLOOKUP(印刷画面!$K$3,CHOOSE(IF(印刷画面!$E$3=\"男子\",\"1\",\"2\"),$A$2:$AH$37,$A$38:$AH$73),9,TRUE)","v":0},{"$f":"VLOOKUP(印刷画面!$K$3,CHOOSE(IF(印刷画面!$E$3=\"男子\",\"1\",\"2\"),$A$2:$AH$37,$A$38:$AH$73),10,TRUE)","v":6},{"$f":"VLOOKUP(印刷画面!$K$3,CHOOSE(IF(印刷画面!$E$3=\"男子\",\"1\",\"2\"),$A$2:$AH$37,$A$38:$AH$73),11,TRUE)","v":0},{"$f":"VLOOKUP(印刷画面!$K$3,CHOOSE(IF(印刷画面!$E$3=\"男子\",\"1\",\"2\"),$A$2:$AH$37,$A$38:$AH$73),12,TRUE)","v":7},{"$f":"VLOOKUP(印刷画面!$K$3,CHOOSE(IF(印刷画面!$E$3=\"男子\",\"1\",\"2\"),$A$2:$AH$37,$A$38:$AH$73),13,TRUE)","v":0},{"$f":"VLOOKUP(印刷画面!$K$3,CHOOSE(IF(印刷画面!$E$3=\"男子\",\"1\",\"2\"),$A$2:$AH$37,$A$38:$AH$73),14,TRUE)","v":8},{"$f":"VLOOKUP(印刷画面!$K$3,CHOOSE(IF(印刷画面!$E$3=\"男子\",\"1\",\"2\"),$A$2:$AH$37,$A$38:$AH$73),15,TRUE)","v":0},{"$f":"VLOOKUP(印刷画面!$K$3,CHOOSE(IF(印刷画面!$E$3=\"男子\",\"1\",\"2\"),$A$2:$AH$37,$A$38:$AH$73),16,TRUE)","v":9},{"$f":"VLOOKUP(印刷画面!$K$3,CHOOSE(IF(印刷画面!$E$3=\"男子\",\"1\",\"2\"),$A$2:$AH$37,$A$38:$AH$73),17,TRUE)","v":0},{"$f":"VLOOKUP(印刷画面!$K$3,CHOOSE(IF(印刷画面!$E$3=\"男子\",\"1\",\"2\"),$A$2:$AH$37,$A$38:$AH$73),18,TRUE)","v":10},{"$f":"VLOOKUP(印刷画面!$K$3,CHOOSE(IF(印刷画面!$E$3=\"男子\",\"1\",\"2\"),$A$2:$AH$37,$A$38:$AH$73),19,TRUE)","v":0},{"$f":"VLOOKUP(印刷画面!$K$3,CHOOSE(IF(印刷画面!$E$3=\"男子\",\"1\",\"2\"),$A$2:$AH$37,$A$38:$AH$73),20,TRUE)","v":11},{"$f":"VLOOKUP(印刷画面!$K$3,CHOOSE(IF(印刷画面!$E$3=\"男子\",\"1\",\"2\"),$A$2:$AH$37,$A$38:$AH$73),21,TRUE)","v":0},{"$f":"VLOOKUP(印刷画面!$K$3,CHOOSE(IF(印刷画面!$E$3=\"男子\",\"1\",\"2\"),$A$2:$AH$37,$A$38:$AH$73),22,TRUE)","v":12},{"$f":"VLOOKUP(印刷画面!$K$3,CHOOSE(IF(印刷画面!$E$3=\"男子\",\"1\",\"2\"),$A$2:$AH$37,$A$38:$AH$73),23,TRUE)","v":0},{"$f":"VLOOKUP(印刷画面!$K$3,CHOOSE(IF(印刷画面!$E$3=\"男子\",\"1\",\"2\"),$A$2:$AH$37,$A$38:$AH$73),24,TRUE)","v":13},{"$f":"VLOOKUP(印刷画面!$K$3,CHOOSE(IF(印刷画面!$E$3=\"男子\",\"1\",\"2\"),$A$2:$AH$37,$A$38:$AH$73),25,TRUE)","v":0},{"$f":"VLOOKUP(印刷画面!$K$3,CHOOSE(IF(印刷画面!$E$3=\"男子\",\"1\",\"2\"),$A$2:$AH$37,$A$38:$AH$73),26,TRUE)","v":14},{"$f":"VLOOKUP(印刷画面!$K$3,CHOOSE(IF(印刷画面!$E$3=\"男子\",\"1\",\"2\"),$A$2:$AH$37,$A$38:$AH$73),27,TRUE)","v":0},{"$f":"VLOOKUP(印刷画面!$K$3,CHOOSE(IF(印刷画面!$E$3=\"男子\",\"1\",\"2\"),$A$2:$AH$37,$A$38:$AH$73),28,TRUE)","v":15},{"$f":"VLOOKUP(印刷画面!$K$3,CHOOSE(IF(印刷画面!$E$3=\"男子\",\"1\",\"2\"),$A$2:$AH$37,$A$38:$AH$73),29,TRUE)","v":0},{"$f":"VLOOKUP(印刷画面!$K$3,CHOOSE(IF(印刷画面!$E$3=\"男子\",\"1\",\"2\"),$A$2:$AH$37,$A$38:$AH$73),30,TRUE)","v":16},{"$f":"VLOOKUP(印刷画面!$K$3,CHOOSE(IF(印刷画面!$E$3=\"男子\",\"1\",\"2\"),$A$2:$AH$37,$A$38:$AH$73),31,TRUE)","v":0},{"$f":"VLOOKUP(印刷画面!$K$3,CHOOSE(IF(印刷画面!$E$3=\"男子\",\"1\",\"2\"),$A$2:$AH$37,$A$38:$AH$73),32,TRUE)","v":17},{"$f":"VLOOKUP(印刷画面!$K$3,CHOOSE(IF(印刷画面!$E$3=\"男子\",\"1\",\"2\"),$A$2:$AH$37,$A$38:$AH$73),33,TRUE)","v":0},{"$f":"VLOOKUP(印刷画面!$K$3,CHOOSE(IF(印刷画面!$E$3=\"男子\",\"1\",\"2\"),$A$2:$AH$37,$A$38:$AH$73),34,TRUE)","v":18}]